Workbook

Sheet Главная
A1: Компания "Вимар"
A2: 191167, г. Санкт-Петербург, ул. Александра Невского, д. 9, Литера А, помещ. 11Н-21(215)
A3: Тел./факс: +7(812) 271-44-84; Моб.тел.: +7(911) 771-20-00
A4: E-mail: office@arttekfilms.ru
A6: Сайт: https://arttekfilms.ru
A7: Сайт: https://vk.com/vimar_spb
A9: Прайс-лист на монтажное оборудование и инструмент
A10: действителен с 17.08.2026
B12: Минимальная сумма заказа 17 тысяч рублей
B15: Изолента, скотч | C15: подробнее
B16: Изолента цвета | C16: подробнее
B17: ПРОМО (Рекламные материалы) | C17: подробнее
B18: Провода | C18: подробнее | D18: Запросить специальное предложение на объем
B19: Провода цвета | C19: подробнее
B20: Реле | C20: подробнее | D20: Запросить специальное предложение на объем
B21: Концевые контакты | C21: подробнее | D21: Запросить специальное предложение на объем
B22: Предохранители, держатели предохранителя | C22: подробнее
B23: Тюбинг для укладки проводов | C23: подробнее
B24: Клеммы | C24: подробнее
B25: Коннекторы | C25: подробнее
B26: Стяжки | C26: подробнее | D26: Запросить специальное предложение на объем
B27: Термотрубка | C27: подробнее
B28: ДОП (переходники дверные, инструмент, стеклоподъемники и др. товары) | C28: подробнее | D28: Запросить специальное предложение на объем
B29: Защитные покрытия | C29: подробнее | D29: Запросить специальное предложение на объем
B30: Мобильные аксессуары | C30: подробнее | D30: Запросить специальное предложение на объем
B32: ЗАКАЗАТЬ ОБРАЗЕЦ ДЛЯ ТЕСТИРОВАНИЯ*
B33: любой новый для Вас товар Вы можете получить по минимальной цене
B34: *не более 3шт. одного наименования по минимальной цене
B35: Приведенные в прайс-листе характеристики носят информационный характер. Производитель оставляет за собой право на внесение конструктивных изменений. Возможность применения изделия для конкретных целей определяется пользователем путем испытаний.

Sheet Заявка
A1: Заявка | C1: =HYPERLINK("#'Заявка'!B860",IF($L$5>0,"Ваша заявка: "&$L$5&" поз. ↓","Ваша заявка ↓")) -> Ваша заявка ↓ | G1: наличие на 05.10.2026
A3: Основной прайс | C3: =CHOOSE(K3,"крупный опт","средний опт · до крупного опта ещё "&IF(H3>=1000,INT(H3/1000)&" "&TEXT(MOD(H3,1000),"000"),H3&"")&" ₽","мелкий опт · до среднего опта ещё "&IF(H3>=1000,INT(H3/1000)&" "&TEXT(MOD(H3,1000),"000"),H3&"")&" ₽") -> мелкий опт · до среднего опта ещё 50 000 ₽ | G3: =SUM(G8:G762) -> 0 | H3: =ROUNDUP(CHOOSE(K3,0,140000-SUM(J8:J762),50000-SUM(K8:K762)),0) -> 50000 | K3: =IF(SUM(J8:J762)>=140000,1,IF(SUM(K8:K762)>=50000,2,3)) -> 3
A4: Тонировочный инструмент | C4: =CHOOSE(K4,"крупный опт","средний опт · до крупного опта ещё "&IF(H4>=1000,INT(H4/1000)&" "&TEXT(MOD(H4,1000),"000"),H4&"")&" ₽","мелкий опт · до среднего опта ещё "&IF(H4>=1000,INT(H4/1000)&" "&TEXT(MOD(H4,1000),"000"),H4&"")&" ₽") -> мелкий опт · до среднего опта ещё 25 000 ₽ | G4: =SUM(G763:G858) -> 0 | H4: =ROUNDUP(CHOOSE(K4,0,90000-SUM(J763:J858),25000-SUM(K763:K858)),0) -> 25000 | K4: =IF(SUM(J763:J858)>=90000,1,IF(SUM(K763:K858)>=25000,2,3)) -> 3
A5: ИТОГО | C5: =IF(AND(G5>0,G5<17000),"минимальная сумма заказа 17 000 ₽","") | G5: =G3+G4 -> 0 | L5: =COUNTIF($I$8:$I$858,">0") -> 0
A7: Раздел | B7: Артикул | C7: Описание | D7: Наличие | E7: Кол-во | F7: Цена | G7: Сумма
A8: Изолента | L8: =N(L7)+(N(I8)>0) -> 0
A9: Изолента | B9: КЛЕЙКИЕ ЛЕНТЫ | L9: =N(L8)+(N(I9)>0) -> 0
A10: Изолента | B10: Профессиональные клейкие ленты для автосервиса | L10: =N(L9)+(N(I10)>0) -> 0
A11: Изолента | B11: Изолента класса "premium" | L11: =N(L10)+(N(I11)>0) -> 0
A12: Изолента | B12: ='Изолента'!A10&"" -> IZ 1510S | C12: ='Изолента'!B10&"" -> ПВХ; черная; 15ммх10м, толщина 0,13мм | D12: =IF('Изолента'!H10="+","есть",IF('Изолента'!H10="-","нет","")) -> нет | F12: =IF(N('Изолента'!G10)<=0,"по запросу",CHOOSE($K$3,IF(N('Изолента'!E10)>0,N('Изолента'!E10),N('Изолента'!G10)),IF(N('Изолента'!F10)>0,N('Изолента'!F10),N('Изолента'!G10)),N('Изолента'!G10))) -> 71.6 | G12: =IF(I12<=0,"",IF(ISNUMBER(F12),I12*F12,"по запросу")) | H12: =N('Изолента'!I10) -> 0 | I12: =IF(N(E12)>0,N(E12),H12) -> 0 | J12: =I12*IF(N('Изолента'!E10)>0,N('Изолента'!E10),N('Изолента'!G10)) -> 0 | K12: =I12*IF(N('Изолента'!F10)>0,N('Изолента'!F10),N('Изолента'!G10)) -> 0 | L12: =N(L11)+(N(I12)>0) -> 0
A13: Изолента | B13: ='Изолента'!A11&"" -> IZ 1920S | C13: ='Изолента'!B11&"" -> ПВХ; черная; 19ммх20м, толщина 0,13мм | D13: =IF('Изолента'!H11="+","есть",IF('Изолента'!H11="-","нет","")) -> есть | F13: =IF(N('Изолента'!G11)<=0,"по запросу",CHOOSE($K$3,IF(N('Изолента'!E11)>0,N('Изолента'!E11),N('Изолента'!G11)),IF(N('Изолента'!F11)>0,N('Изолента'!F11),N('Изолента'!G11)),N('Изолента'!G11))) -> 152.3 | G13: =IF(I13<=0,"",IF(ISNUMBER(F13),I13*F13,"по запросу")) | H13: =N('Изолента'!I11) -> 0 | I13: =IF(N(E13)>0,N(E13),H13) -> 0 | J13: =I13*IF(N('Изолента'!E11)>0,N('Изолента'!E11),N('Изолента'!G11)) -> 0 | K13: =I13*IF(N('Изолента'!F11)>0,N('Изолента'!F11),N('Изолента'!G11)) -> 0 | L13: =N(L12)+(N(I13)>0) -> 0
A14: Изолента | B14: ='Изолента'!A12&"" -> IZ 1920s-11 | C14: ='Изолента'!B12&"" -> ПВХ; черная; 19ммх20м, толщина 0,10мм | D14: =IF('Изолента'!H12="+","есть",IF('Изолента'!H12="-","нет","")) -> есть | F14: =IF(N('Изолента'!G12)<=0,"по запросу",CHOOSE($K$3,IF(N('Изолента'!E12)>0,N('Изолента'!E12),N('Изолента'!G12)),IF(N('Изолента'!F12)>0,N('Изолента'!F12),N('Изолента'!G12)),N('Изолента'!G12))) -> 132.6 | G14: =IF(I14<=0,"",IF(ISNUMBER(F14),I14*F14,"по запросу")) | H14: =N('Изолента'!I12) -> 0 | I14: =IF(N(E14)>0,N(E14),H14) -> 0 | J14: =I14*IF(N('Изолента'!E12)>0,N('Изолента'!E12),N('Изолента'!G12)) -> 0 | K14: =I14*IF(N('Изолента'!F12)>0,N('Изолента'!F12),N('Изолента'!G12)) -> 0 | L14: =N(L13)+(N(I14)>0) -> 0
A15: Изолента | B15: ='Изолента'!A13&"" -> IZC 1510 | C15: ='Изолента'!B13&"" -> ПВХ; черная; 15ммх10м, толщина 0,15мм, холодостойкая, самозатухающая | D15: =IF('Изолента'!H13="+","есть",IF('Изолента'!H13="-","нет","")) -> нет | F15: =IF(N('Изолента'!G13)<=0,"по запросу",CHOOSE($K$3,IF(N('Изолента'!E13)>0,N('Изолента'!E13),N('Изолента'!G13)),IF(N('Изолента'!F13)>0,N('Изолента'!F13),N('Изолента'!G13)),N('Изолента'!G13))) -> 94.6 | G15: =IF(I15<=0,"",IF(ISNUMBER(F15),I15*F15,"по запросу")) | H15: =N('Изолента'!I13) -> 0 | I15: =IF(N(E15)>0,N(E15),H15) -> 0 | J15: =I15*IF(N('Изолента'!E13)>0,N('Изолента'!E13),N('Изолента'!G13)) -> 0 | K15: =I15*IF(N('Изолента'!F13)>0,N('Изолента'!F13),N('Изолента'!G13)) -> 0 | L15: =N(L14)+(N(I15)>0) -> 0
A16: Изолента | B16: ='Изолента'!A14&"" -> IZC 1920 | C16: ='Изолента'!B14&"" -> ПВХ; черная; 19ммх20м, толщина 0,15мм, холодостойкая, самозатухающая | D16: =IF('Изолента'!H14="+","есть",IF('Изолента'!H14="-","нет","")) -> нет | F16: =IF(N('Изолента'!G14)<=0,"по запросу",CHOOSE($K$3,IF(N('Изолента'!E14)>0,N('Изолента'!E14),N('Изолента'!G14)),IF(N('Изолента'!F14)>0,N('Изолента'!F14),N('Изолента'!G14)),N('Изолента'!G14))) -> 201.9 | G16: =IF(I16<=0,"",IF(ISNUMBER(F16),I16*F16,"по запросу")) | H16: =N('Изолента'!I14) -> 0 | I16: =IF(N(E16)>0,N(E16),H16) -> 0 | J16: =I16*IF(N('Изолента'!E14)>0,N('Изолента'!E14),N('Изолента'!G14)) -> 0 | K16: =I16*IF(N('Изолента'!F14)>0,N('Изолента'!F14),N('Изолента'!G14)) -> 0 | L16: =N(L15)+(N(I16)>0) -> 0
A17: Изолента | B17: ='Изолента'!A15&"" -> IZN 1920 | C17: ='Изолента'!B15&"" -> ПВХ; черная; беcклеевая (для жгутов)19ммх20м,толщина 0,12мм | D17: =IF('Изолента'!H15="+","есть",IF('Изолента'!H15="-","нет","")) -> есть | F17: =IF(N('Изолента'!G15)<=0,"по запросу",CHOOSE($K$3,IF(N('Изолента'!E15)>0,N('Изолента'!E15),N('Изолента'!G15)),IF(N('Изолента'!F15)>0,N('Изолента'!F15),N('Изолента'!G15)),N('Изолента'!G15))) -> 126.3 | G17: =IF(I17<=0,"",IF(ISNUMBER(F17),I17*F17,"по запросу")) | H17: =N('Изолента'!I15) -> 0 | I17: =IF(N(E17)>0,N(E17),H17) -> 0 | J17: =I17*IF(N('Изолента'!E15)>0,N('Изолента'!E15),N('Изолента'!G15)) -> 0 | K17: =I17*IF(N('Изолента'!F15)>0,N('Изолента'!F15),N('Изолента'!G15)) -> 0 | L17: =N(L16)+(N(I17)>0) -> 0
A18: Изолента | B18: ='Изолента'!A16&"" -> 00645 | C18: ='Изолента'!B16&"" -> ПВХ; черная; 15ммх10м, толщина 0,13мм, суперэластичная | D18: =IF('Изолента'!H16="+","есть",IF('Изолента'!H16="-","нет","")) -> есть | F18: =IF(N('Изолента'!G16)<=0,"по запросу",CHOOSE($K$3,IF(N('Изолента'!E16)>0,N('Изолента'!E16),N('Изолента'!G16)),IF(N('Изолента'!F16)>0,N('Изолента'!F16),N('Изолента'!G16)),N('Изолента'!G16))) -> 68.3 | G18: =IF(I18<=0,"",IF(ISNUMBER(F18),I18*F18,"по запросу")) | H18: =N('Изолента'!I16) -> 0 | I18: =IF(N(E18)>0,N(E18),H18) -> 0 | J18: =I18*IF(N('Изолента'!E16)>0,N('Изолента'!E16),N('Изолента'!G16)) -> 0 | K18: =I18*IF(N('Изолента'!F16)>0,N('Изолента'!F16),N('Изолента'!G16)) -> 0 | L18: =N(L17)+(N(I18)>0) -> 0
A19: Изолента | B19: ='Изолента'!A17&"" -> 00745 | C19: ='Изолента'!B17&"" -> ПВХ; черная; 15ммх10м, толщина 0,16мм, суперэластичная, холодостойкая | D19: =IF('Изолента'!H17="+","есть",IF('Изолента'!H17="-","нет","")) -> есть | F19: =IF(N('Изолента'!G17)<=0,"по запросу",CHOOSE($K$3,IF(N('Изолента'!E17)>0,N('Изолента'!E17),N('Изолента'!G17)),IF(N('Изолента'!F17)>0,N('Изолента'!F17),N('Изолента'!G17)),N('Изолента'!G17))) -> 83.4 | G19: =IF(I19<=0,"",IF(ISNUMBER(F19),I19*F19,"по запросу")) | H19: =N('Изолента'!I17) -> 0 | I19: =IF(N(E19)>0,N(E19),H19) -> 0 | J19: =I19*IF(N('Изолента'!E17)>0,N('Изолента'!E17),N('Изолента'!G17)) -> 0 | K19: =I19*IF(N('Изолента'!F17)>0,N('Изолента'!F17),N('Изолента'!G17)) -> 0 | L19: =N(L18)+(N(I19)>0) -> 0
A20: Изолента | B20: Лента малярная класса "premium" | L20: =N(L19)+(N(I20)>0) -> 0
A21: Изолента | B21: ='Изолента'!A19&"" -> MT 5060 | C21: ='Изолента'!B19&"" -> Креп; белая; 50ммх60м, толщина 0,145мм, серия "Premium" | D21: =IF('Изолента'!H19="+","есть",IF('Изолента'!H19="-","нет","")) -> есть | F21: =IF(N('Изолента'!G19)<=0,"по запросу",CHOOSE($K$3,IF(N('Изолента'!E19)>0,N('Изолента'!E19),N('Изолента'!G19)),IF(N('Изолента'!F19)>0,N('Изолента'!F19),N('Изолента'!G19)),N('Изолента'!G19))) -> 744.5 | G21: =IF(I21<=0,"",IF(ISNUMBER(F21),I21*F21,"по запросу")) | H21: =N('Изолента'!I19) -> 0 | I21: =IF(N(E21)>0,N(E21),H21) -> 0 | J21: =I21*IF(N('Изолента'!E19)>0,N('Изолента'!E19),N('Изолента'!G19)) -> 0 | K21: =I21*IF(N('Изолента'!F19)>0,N('Изолента'!F19),N('Изолента'!G19)) -> 0 | L21: =N(L20)+(N(I21)>0) -> 0
A22: Изолента | B22: Скотч 2-х сторонний на вспененной основе класса "premium" | L22: =N(L21)+(N(I22)>0) -> 0
A23: Изолента | B23: ='Изолента'!A21&"" -> ST 610 | C23: ='Изолента'!B21&"" -> П/э вспененный; черный, 6ммх10м, толщина 1мм, для молдингов, эмблем, зеленый лайнер | D23: =IF('Изолента'!H21="+","есть",IF('Изолента'!H21="-","нет","")) -> есть | F23: =IF(N('Изолента'!G21)<=0,"по запросу",CHOOSE($K$3,IF(N('Изолента'!E21)>0,N('Изолента'!E21),N('Изолента'!G21)),IF(N('Изолента'!F21)>0,N('Изолента'!F21),N('Изолента'!G21)),N('Изолента'!G21))) -> 133.5 | G23: =IF(I23<=0,"",IF(ISNUMBER(F23),I23*F23,"по запросу")) | H23: =N('Изолента'!I21) -> 0 | I23: =IF(N(E23)>0,N(E23),H23) -> 0 | J23: =I23*IF(N('Изолента'!E21)>0,N('Изолента'!E21),N('Изолента'!G21)) -> 0 | K23: =I23*IF(N('Изолента'!F21)>0,N('Изолента'!F21),N('Изолента'!G21)) -> 0 | L23: =N(L22)+(N(I23)>0) -> 0
A24: Изолента | B24: ='Изолента'!A22&"" -> ST 910 | C24: ='Изолента'!B22&"" -> П/э вспененный; черный, 9ммх10м, толщина 1мм, для молдингов, эмблем, зеленый лайнер | D24: =IF('Изолента'!H22="+","есть",IF('Изолента'!H22="-","нет","")) -> есть | F24: =IF(N('Изолента'!G22)<=0,"по запросу",CHOOSE($K$3,IF(N('Изолента'!E22)>0,N('Изолента'!E22),N('Изолента'!G22)),IF(N('Изолента'!F22)>0,N('Изолента'!F22),N('Изолента'!G22)),N('Изолента'!G22))) -> 199.9 | G24: =IF(I24<=0,"",IF(ISNUMBER(F24),I24*F24,"по запросу")) | H24: =N('Изолента'!I22) -> 0 | I24: =IF(N(E24)>0,N(E24),H24) -> 0 | J24: =I24*IF(N('Изолента'!E22)>0,N('Изолента'!E22),N('Изолента'!G22)) -> 0 | K24: =I24*IF(N('Изолента'!F22)>0,N('Изолента'!F22),N('Изолента'!G22)) -> 0 | L24: =N(L23)+(N(I24)>0) -> 0
A25: Изолента | B25: ='Изолента'!A23&"" -> ST 1210 | C25: ='Изолента'!B23&"" -> П/э вспененный; черный, 12ммх10м, толщина 1,0мм, для молдингов, деталей интерьера, зеленый лайнер | D25: =IF('Изолента'!H23="+","есть",IF('Изолента'!H23="-","нет","")) -> есть | F25: =IF(N('Изолента'!G23)<=0,"по запросу",CHOOSE($K$3,IF(N('Изолента'!E23)>0,N('Изолента'!E23),N('Изолента'!G23)),IF(N('Изолента'!F23)>0,N('Изолента'!F23),N('Изолента'!G23)),N('Изолента'!G23))) -> 265.8 | G25: =IF(I25<=0,"",IF(ISNUMBER(F25),I25*F25,"по запросу")) | H25: =N('Изолента'!I23) -> 0 | I25: =IF(N(E25)>0,N(E25),H25) -> 0 | J25: =I25*IF(N('Изолента'!E23)>0,N('Изолента'!E23),N('Изолента'!G23)) -> 0 | K25: =I25*IF(N('Изолента'!F23)>0,N('Изолента'!F23),N('Изолента'!G23)) -> 0 | L25: =N(L24)+(N(I25)>0) -> 0
A26: Изолента | B26: ='Изолента'!A24&"" -> ST 1910 | C26: ='Изолента'!B24&"" -> П/э вспененный; черный, 19ммх10м, толщина 1,0мм, для молдингов, деталей интерьера, зеленый лайнер | D26: =IF('Изолента'!H24="+","есть",IF('Изолента'!H24="-","нет","")) -> есть | F26: =IF(N('Изолента'!G24)<=0,"по запросу",CHOOSE($K$3,IF(N('Изолента'!E24)>0,N('Изолента'!E24),N('Изолента'!G24)),IF(N('Изолента'!F24)>0,N('Изолента'!F24),N('Изолента'!G24)),N('Изолента'!G24))) -> 410.6 | G26: =IF(I26<=0,"",IF(ISNUMBER(F26),I26*F26,"по запросу")) | H26: =N('Изолента'!I24) -> 0 | I26: =IF(N(E26)>0,N(E26),H26) -> 0 | J26: =I26*IF(N('Изолента'!E24)>0,N('Изолента'!E24),N('Изолента'!G24)) -> 0 | K26: =I26*IF(N('Изолента'!F24)>0,N('Изолента'!F24),N('Изолента'!G24)) -> 0 | L26: =N(L25)+(N(I26)>0) -> 0
A27: Изолента | B27: ='Изолента'!A25&"" -> ST 1950 | C27: ='Изолента'!B25&"" -> П/э вспененный; черный, 19ммх50м, толщина 1,0мм, для молдингов, деталей интерьера, зеленый лайнер | D27: =IF('Изолента'!H25="+","есть",IF('Изолента'!H25="-","нет","")) -> есть | F27: =IF(N('Изолента'!G25)<=0,"по запросу",CHOOSE($K$3,IF(N('Изолента'!E25)>0,N('Изолента'!E25),N('Изолента'!G25)),IF(N('Изолента'!F25)>0,N('Изолента'!F25),N('Изолента'!G25)),N('Изолента'!G25))) -> 1755.9 | G27: =IF(I27<=0,"",IF(ISNUMBER(F27),I27*F27,"по запросу")) | H27: =N('Изолента'!I25) -> 0 | I27: =IF(N(E27)>0,N(E27),H27) -> 0 | J27: =I27*IF(N('Изолента'!E25)>0,N('Изолента'!E25),N('Изолента'!G25)) -> 0 | K27: =I27*IF(N('Изолента'!F25)>0,N('Изолента'!F25),N('Изолента'!G25)) -> 0 | L27: =N(L26)+(N(I27)>0) -> 0
A28: Изолента | B28: ='Изолента'!A26&"" -> ST2 385 | C28: ='Изолента'!B26&"" -> П/э вспененный; черный, 38ммх5м, толщина 1,0мм, для молдингов, деталей интерьера, зеленый лайнер | D28: =IF('Изолента'!H26="+","есть",IF('Изолента'!H26="-","нет","")) -> есть | F28: =IF(N('Изолента'!G26)<=0,"по запросу",CHOOSE($K$3,IF(N('Изолента'!E26)>0,N('Изолента'!E26),N('Изолента'!G26)),IF(N('Изолента'!F26)>0,N('Изолента'!F26),N('Изолента'!G26)),N('Изолента'!G26))) -> 410.6 | G28: =IF(I28<=0,"",IF(ISNUMBER(F28),I28*F28,"по запросу")) | H28: =N('Изолента'!I26) -> 0 | I28: =IF(N(E28)>0,N(E28),H28) -> 0 | J28: =I28*IF(N('Изолента'!E26)>0,N('Изолента'!E26),N('Изолента'!G26)) -> 0 | K28: =I28*IF(N('Изолента'!F26)>0,N('Изолента'!F26),N('Изолента'!G26)) -> 0 | L28: =N(L27)+(N(I28)>0) -> 0
A29: Изолента | B29: ='Изолента'!A27&"" -> ST2 3810 | C29: ='Изолента'!B27&"" -> П/э вспененный; черный, 38ммх10м, толщина 1,0мм, для молдингов, деталей интерьера, зеленый лайнер | D29: =IF('Изолента'!H27="+","есть",IF('Изолента'!H27="-","нет","")) -> есть | F29: =IF(N('Изолента'!G27)<=0,"по запросу",CHOOSE($K$3,IF(N('Изолента'!E27)>0,N('Изолента'!E27),N('Изолента'!G27)),IF(N('Изолента'!F27)>0,N('Изолента'!F27),N('Изолента'!G27)),N('Изолента'!G27))) -> 771.9 | G29: =IF(I29<=0,"",IF(ISNUMBER(F29),I29*F29,"по запросу")) | H29: =N('Изолента'!I27) -> 0 | I29: =IF(N(E29)>0,N(E29),H29) -> 0 | J29: =I29*IF(N('Изолента'!E27)>0,N('Изолента'!E27),N('Изолента'!G27)) -> 0 | K29: =I29*IF(N('Изолента'!F27)>0,N('Изолента'!F27),N('Изолента'!G27)) -> 0 | L29: =N(L28)+(N(I29)>0) -> 0
A30: Изолента | B30: ='Изолента'!A28&"" -> ST 5010 | C30: ='Изолента'!B28&"" -> П/э вспененный; черный, 50ммх10м, толщина 1,0мм, для молдингов, деталей интерьера, зеленый лайнер | D30: =IF('Изолента'!H28="+","есть",IF('Изолента'!H28="-","нет","")) -> есть | F30: =IF(N('Изолента'!G28)<=0,"по запросу",CHOOSE($K$3,IF(N('Изолента'!E28)>0,N('Изолента'!E28),N('Изолента'!G28)),IF(N('Изолента'!F28)>0,N('Изолента'!F28),N('Изолента'!G28)),N('Изолента'!G28))) -> 923.8 | G30: =IF(I30<=0,"",IF(ISNUMBER(F30),I30*F30,"по запросу")) | H30: =N('Изолента'!I28) -> 0 | I30: =IF(N(E30)>0,N(E30),H30) -> 0 | J30: =I30*IF(N('Изолента'!E28)>0,N('Изолента'!E28),N('Изолента'!G28)) -> 0 | K30: =I30*IF(N('Изолента'!F28)>0,N('Изолента'!F28),N('Изолента'!G28)) -> 0 | L30: =N(L29)+(N(I30)>0) -> 0
A31: Изолента | B31: ='Изолента'!A29&"" -> STU 910 | C31: ='Изолента'!B29&"" -> ЕВА; белый, 9ммх10м, толщина 1,6мм, для молдингов, деталей интерьера, желтый лайнер | D31: =IF('Изолента'!H29="+","есть",IF('Изолента'!H29="-","нет","")) -> есть | F31: =IF(N('Изолента'!G29)<=0,"по запросу",CHOOSE($K$3,IF(N('Изолента'!E29)>0,N('Изолента'!E29),N('Изолента'!G29)),IF(N('Изолента'!F29)>0,N('Изолента'!F29),N('Изолента'!G29)),N('Изолента'!G29))) -> 347.8 | G31: =IF(I31<=0,"",IF(ISNUMBER(F31),I31*F31,"по запросу")) | H31: =N('Изолента'!I29) -> 0 | I31: =IF(N(E31)>0,N(E31),H31) -> 0 | J31: =I31*IF(N('Изолента'!E29)>0,N('Изолента'!E29),N('Изолента'!G29)) -> 0 | K31: =I31*IF(N('Изолента'!F29)>0,N('Изолента'!F29),N('Изолента'!G29)) -> 0 | L31: =N(L30)+(N(I31)>0) -> 0
A32: Изолента | B32: ='Изолента'!A30&"" -> STU 1910 | C32: ='Изолента'!B30&"" -> ЕВА; белый, 19ммх10м, толщина 1,6мм, для молдингов, деталей интерьера, желтый лайнер | D32: =IF('Изолента'!H30="+","есть",IF('Изолента'!H30="-","нет","")) -> нет | F32: =IF(N('Изолента'!G30)<=0,"по запросу",CHOOSE($K$3,IF(N('Изолента'!E30)>0,N('Изолента'!E30),N('Изолента'!G30)),IF(N('Изолента'!F30)>0,N('Изолента'!F30),N('Изолента'!G30)),N('Изолента'!G30))) -> 711.8 | G32: =IF(I32<=0,"",IF(ISNUMBER(F32),I32*F32,"по запросу")) | H32: =N('Изолента'!I30) -> 0 | I32: =IF(N(E32)>0,N(E32),H32) -> 0 | J32: =I32*IF(N('Изолента'!E30)>0,N('Изолента'!E30),N('Изолента'!G30)) -> 0 | K32: =I32*IF(N('Изолента'!F30)>0,N('Изолента'!F30),N('Изолента'!G30)) -> 0 | L32: =N(L31)+(N(I32)>0) -> 0
A33: Изолента | B33: ='Изолента'!A31&"" -> STU 5010 | C33: ='Изолента'!B31&"" -> ЕВА; белый, 50ммх10м, толщина 1,6мм, для молдингов, деталей интерьера, желтый лайнер | D33: =IF('Изолента'!H31="+","есть",IF('Изолента'!H31="-","нет","")) -> есть | F33: =IF(N('Изолента'!G31)<=0,"по запросу",CHOOSE($K$3,IF(N('Изолента'!E31)>0,N('Изолента'!E31),N('Изолента'!G31)),IF(N('Изолента'!F31)>0,N('Изолента'!F31),N('Изолента'!G31)),N('Изолента'!G31))) -> 1836.9 | G33: =IF(I33<=0,"",IF(ISNUMBER(F33),I33*F33,"по запросу")) | H33: =N('Изолента'!I31) -> 0 | I33: =IF(N(E33)>0,N(E33),H33) -> 0 | J33: =I33*IF(N('Изолента'!E31)>0,N('Изолента'!E31),N('Изолента'!G31)) -> 0 | K33: =I33*IF(N('Изолента'!F31)>0,N('Изолента'!F31),N('Изолента'!G31)) -> 0 | L33: =N(L32)+(N(I33)>0) -> 0
A34: Изолента | B34: Изолента класса "standart" | L34: =N(L33)+(N(I34)>0) -> 0
A35: Изолента | B35: ='Изолента'!A33&"" -> IZT 1925 canvas black | C35: ='Изолента'!B33&"" -> ацетат тканый, черная, 19мм*25м, толщина 0,22мм, резиновый клей, прекрасно впитывает смолы и лаки, может использоваться для обмотки трансф.катушек | D35: =IF('Изолента'!H33="+","есть",IF('Изолента'!H33="-","нет","")) -> есть | F35: =IF(N('Изолента'!G33)<=0,"по запросу",CHOOSE($K$3,IF(N('Изолента'!E33)>0,N('Изолента'!E33),N('Изолента'!G33)),IF(N('Изолента'!F33)>0,N('Изолента'!F33),N('Изолента'!G33)),N('Изолента'!G33))) -> 674.4 | G35: =IF(I35<=0,"",IF(ISNUMBER(F35),I35*F35,"по запросу")) | H35: =N('Изолента'!I33) -> 0 | I35: =IF(N(E35)>0,N(E35),H35) -> 0 | J35: =I35*IF(N('Изолента'!E33)>0,N('Изолента'!E33),N('Изолента'!G33)) -> 0 | K35: =I35*IF(N('Изолента'!F33)>0,N('Изолента'!F33),N('Изолента'!G33)) -> 0 | L35: =N(L34)+(N(I35)>0) -> 0
A36: Изолента | B36: ='Изолента'!A34&"" -> IZT 1925 canvas white | C36: ='Изолента'!B34&"" -> ацетат тканый, белая, 19мм*25м, толщина 0,22мм, резиновый клей, прекрасно впитывает смолы и лаки, может использоваться для обмотки трансф.катушек | D36: =IF('Изолента'!H34="+","есть",IF('Изолента'!H34="-","нет","")) -> есть | F36: =IF(N('Изолента'!G34)<=0,"по запросу",CHOOSE($K$3,IF(N('Изолента'!E34)>0,N('Изолента'!E34),N('Изолента'!G34)),IF(N('Изолента'!F34)>0,N('Изолента'!F34),N('Изолента'!G34)),N('Изолента'!G34))) -> 674.4 | G36: =IF(I36<=0,"",IF(ISNUMBER(F36),I36*F36,"по запросу")) | H36: =N('Изолента'!I34) -> 0 | I36: =IF(N(E36)>0,N(E36),H36) -> 0 | J36: =I36*IF(N('Изолента'!E34)>0,N('Изолента'!E34),N('Изолента'!G34)) -> 0 | K36: =I36*IF(N('Изолента'!F34)>0,N('Изолента'!F34),N('Изолента'!G34)) -> 0 | L36: =N(L35)+(N(I36)>0) -> 0
A37: Изолента | B37: ='Изолента'!A35&"" -> IZT 1925 fabric | C37: ='Изолента'!B35&"" -> Полиэстер тканый; черная; 19ммх25м, толщина 0,25 мм, акрилатный чувствительный к давлению клей | D37: =IF('Изолента'!H35="+","есть",IF('Изолента'!H35="-","нет","")) -> есть | F37: =IF(N('Изолента'!G35)<=0,"по запросу",CHOOSE($K$3,IF(N('Изолента'!E35)>0,N('Изолента'!E35),N('Изолента'!G35)),IF(N('Изолента'!F35)>0,N('Изолента'!F35),N('Изолента'!G35)),N('Изолента'!G35))) -> 509.6 | G37: =IF(I37<=0,"",IF(ISNUMBER(F37),I37*F37,"по запросу")) | H37: =N('Изолента'!I35) -> 0 | I37: =IF(N(E37)>0,N(E37),H37) -> 0 | J37: =I37*IF(N('Изолента'!E35)>0,N('Изолента'!E35),N('Изолента'!G35)) -> 0 | K37: =I37*IF(N('Изолента'!F35)>0,N('Изолента'!F35),N('Изолента'!G35)) -> 0 | L37: =N(L36)+(N(I37)>0) -> 0
A38: Изолента | B38: ='Изолента'!A36&"" -> IZT 1925-19 fabric | C38: ='Изолента'!B36&"" -> Полиэстер тканый; черная; 19ммх25м, толщина 0,16 мм, акрилатный чувствительный к давлению клей | D38: =IF('Изолента'!H36="+","есть",IF('Изолента'!H36="-","нет","")) -> есть | F38: =IF(N('Изолента'!G36)<=0,"по запросу",CHOOSE($K$3,IF(N('Изолента'!E36)>0,N('Изолента'!E36),N('Изолента'!G36)),IF(N('Изолента'!F36)>0,N('Изолента'!F36),N('Изолента'!G36)),N('Изолента'!G36))) -> 448.3 | G38: =IF(I38<=0,"",IF(ISNUMBER(F38),I38*F38,"по запросу")) | H38: =N('Изолента'!I36) -> 0 | I38: =IF(N(E38)>0,N(E38),H38) -> 0 | J38: =I38*IF(N('Изолента'!E36)>0,N('Изолента'!E36),N('Изолента'!G36)) -> 0 | K38: =I38*IF(N('Изолента'!F36)>0,N('Изолента'!F36),N('Изолента'!G36)) -> 0 | L38: =N(L37)+(N(I38)>0) -> 0
A39: Изолента | B39: ='Изолента'!A37&"" -> IZT 1918 fleece | C39: ='Изолента'!B37&"" -> Полиэстер нетканый флис; черная; 19ммх18м, толщина 0,28 мм, синт.каучуковый клей | D39: =IF('Изолента'!H37="+","есть",IF('Изолента'!H37="-","нет","")) -> есть | F39: =IF(N('Изолента'!G37)<=0,"по запросу",CHOOSE($K$3,IF(N('Изолента'!E37)>0,N('Изолента'!E37),N('Изолента'!G37)),IF(N('Изолента'!F37)>0,N('Изолента'!F37),N('Изолента'!G37)),N('Изолента'!G37))) -> 330.2 | G39: =IF(I39<=0,"",IF(ISNUMBER(F39),I39*F39,"по запросу")) | H39: =N('Изолента'!I37) -> 0 | I39: =IF(N(E39)>0,N(E39),H39) -> 0 | J39: =I39*IF(N('Изолента'!E37)>0,N('Изолента'!E37),N('Изолента'!G37)) -> 0 | K39: =I39*IF(N('Изолента'!F37)>0,N('Изолента'!F37),N('Изолента'!G37)) -> 0 | L39: =N(L38)+(N(I39)>0) -> 0
A40: Изолента | B40: ='Изолента'!A38&"" -> IZT 1925 fleece | C40: ='Изолента'!B38&"" -> Полиэстер нетканый флис; черная; 19ммх25м, толщина 0,35 мм, акрилатный чувствительный к давлению клей | D40: =IF('Изолента'!H38="+","есть",IF('Изолента'!H38="-","нет","")) -> есть | F40: =IF(N('Изолента'!G38)<=0,"по запросу",CHOOSE($K$3,IF(N('Изолента'!E38)>0,N('Изолента'!E38),N('Изолента'!G38)),IF(N('Изолента'!F38)>0,N('Изолента'!F38),N('Изолента'!G38)),N('Изолента'!G38))) -> 464.4 | G40: =IF(I40<=0,"",IF(ISNUMBER(F40),I40*F40,"по запросу")) | H40: =N('Изолента'!I38) -> 0 | I40: =IF(N(E40)>0,N(E40),H40) -> 0 | J40: =I40*IF(N('Изолента'!E38)>0,N('Изолента'!E38),N('Изолента'!G38)) -> 0 | K40: =I40*IF(N('Изолента'!F38)>0,N('Изолента'!F38),N('Изолента'!G38)) -> 0 | L40: =N(L39)+(N(I40)>0) -> 0
A41: Изолента | B41: Профессиональные универсальные клейкие ленты | L41: =N(L40)+(N(I41)>0) -> 0
A42: Изолента | B42: Изолента класса "premium" | L42: =N(L41)+(N(I42)>0) -> 0
...

Sheet Изолента
A1: Санкт-Петербург: +7 (812) 271-44 -84; +7 911-771-2000 | C1: прайс-лист действителен с 17.08.2026 | I1: =HYPERLINK("#'Заявка'!B860",IF('Заявка'!$L$5>0,"В заявке "&'Заявка'!$L$5&" поз. на "&IF(ROUND('Заявка'!$G$5,0)>=1000,INT(ROUND('Заявка'!$G$5,0)/1000)&" "&TEXT(MOD(ROUND('Заявка'!$G$5,0),1000),"000"),ROUND('Заявка'!$G$5,0)&"")&" ₽ →","Перейти к заявке →")) -> Перейти к заявке →
A2: Наименование | B2: Краткое описание | C2: Торговая марка | D2: В мастер-коробке (уп) | E2: цена в рублях при покупке на сумму | G2: Мелко-оптовая цена (от 17 000 рублей) | H2: 46300
E3: От 140 000 рублей | F3: От 50 000 рублей
B4: Снижение цены
B5: Повышение цены
B6: Новинка
A7: КЛЕЙКИЕ ЛЕНТЫ | B7: 0 | C7: 0 | D7: #REF! | E7: 0 | F7: 0 | G7: 0
A8: Профессиональные клейкие ленты для автосервиса | B8: 0 | C8: 0 | D8: #REF! | E8: 0 | F8: 0 | G8: 0
A9: Изолента класса "premium" | B9: 0 | C9: 0 | D9: #REF! | E9: 0 | F9: 0 | G9: 0
A10: IZ 1510S | B10: ПВХ; черная; 15ммх10м, толщина 0,13мм | C10: Terminator | D10: 500 | E10: 59.8 | F10: 66.3 | G10: 71.6 | H10: -
A11: IZ 1920S | B11: ПВХ; черная; 19ммх20м, толщина 0,13мм | C11: Terminator | D11: 250 | E11: 124.9 | F11: 137.8 | G11: 152.3 | H11: +
A12: IZ 1920s-11 | B12: ПВХ; черная; 19ммх20м, толщина 0,10мм | C12: 0 | D12: 250 | E12: 109.1 | F12: 119.6 | G12: 132.6 | H12: +
A13: IZC 1510 | B13: ПВХ; черная; 15ммх10м, толщина 0,15мм, холодостойкая, самозатухающая | C13: Terminator | D13: 500 | E13: 78.3 | F13: 85.8 | G13: 94.6 | H13: -
A14: IZC 1920 | B14: ПВХ; черная; 19ммх20м, толщина 0,15мм, холодостойкая, самозатухающая | C14: Terminator | D14: 200 | E14: 166.6 | F14: 183 | G14: 201.9 | H14: -
A15: IZN 1920 | B15: ПВХ; черная; беcклеевая (для жгутов)19ммх20м,толщина 0,12мм | C15: Terminator | D15: 250 | E15: 103.6 | F15: 114.4 | G15: 126.3 | H15: +
A16: 00645 | B16: ПВХ; черная; 15ммх10м, толщина 0,13мм, суперэластичная | C16: 0 | D16: 540 | E16: 55.5 | F16: 61.7 | G16: 68.3 | H16: +
A17: 00745 | B17: ПВХ; черная; 15ммх10м, толщина 0,16мм, суперэластичная, холодостойкая | C17: 0 | D17: 540 | E17: 68.3 | F17: 75.8 | G17: 83.4 | H17: +
A18: Лента малярная класса "premium" | B18: 0 | C18: 0 | D18: #REF! | E18: 0 | F18: 0 | G18: 0
A19: MT 5060 | B19: Креп; белая; 50ммх60м, толщина 0,145мм, серия "Premium" | C19: Terminator | D19: 36 | E19: 609.1 | F19: 673.3 | G19: 744.5 | H19: +
A20: Скотч 2-х сторонний на вспененной основе класса "premium" | B20: 0 | C20: 0 | D20: #REF! | E20: 0 | F20: 0 | G20: 0
A21: ST 610 | B21: П/э вспененный; черный, 6ммх10м, толщина 1мм, для молдингов, эмблем, зеленый лайнер | C21: Terminator | D21: 540 | E21: 110.3 | F21: 121.2 | G21: 133.5 | H21: +
A22: ST 910 | B22: П/э вспененный; черный, 9ммх10м, толщина 1мм, для молдингов, эмблем, зеленый лайнер | C22: Terminator | D22: 360 | E22: 165.4 | F22: 181.3 | G22: 199.9 | H22: +
A23: ST 1210 | B23: П/э вспененный; черный, 12ммх10м, толщина 1,0мм, для молдингов, деталей интерьера, зеленый лайнер | C23: Terminator | D23: 270 | E23: 219.4 | F23: 241.4 | G23: 265.8 | H23: +
A24: ST 1910 | B24: П/э вспененный; черный, 19ммх10м, толщина 1,0мм, для молдингов, деталей интерьера, зеленый лайнер | C24: Terminator | D24: 171 | E24: 339.3 | F24: 373.9 | G24: 410.6 | H24: +
A25: ST 1950 | B25: П/э вспененный; черный, 19ммх50м, толщина 1,0мм, для молдингов, деталей интерьера, зеленый лайнер | C25: Terminator | D25: 53 | E25: 1450.8 | F25: 1595.4 | G25: 1755.9 | H25: +
A26: ST2 385 | B26: П/э вспененный; черный, 38ммх5м, толщина 1,0мм, для молдингов, деталей интерьера, зеленый лайнер | C26: Terminator | D26: 144 | E26: 339.3 | F26: 373.9 | G26: 410.6 | H26: +
A27: ST2 3810 | B27: П/э вспененный; черный, 38ммх10м, толщина 1,0мм, для молдингов, деталей интерьера, зеленый лайнер | C27: Terminator | D27: 81 | E27: 638.4 | F27: 702.2 | G27: 771.9 | H27: +
A28: ST 5010 | B28: П/э вспененный; черный, 50ммх10м, толщина 1,0мм, для молдингов, деталей интерьера, зеленый лайнер | C28: Terminator | D28: 63 | E28: 763.3 | F28: 840.5 | G28: 923.8 | H28: +
A29: STU 910 | B29: ЕВА; белый, 9ммх10м, толщина 1,6мм, для молдингов, деталей интерьера, желтый лайнер | C29: Terminator | D29: 180 | E29: 285.9 | F29: 313.9 | G29: 347.8 | H29: +
A30: STU 1910 | B30: ЕВА; белый, 19ммх10м, толщина 1,6мм, для молдингов, деталей интерьера, желтый лайнер | C30: Terminator | D30: 54 | E30: 585.8 | F30: 644.1 | G30: 711.8 | H30: -
A31: STU 5010 | B31: ЕВА; белый, 50ммх10м, толщина 1,6мм, для молдингов, деталей интерьера, желтый лайнер | C31: Terminator | D31: 26 | E31: 1511.3 | F31: 1663 | G31: 1836.9 | H31: +
A32: Изолента класса "standart" | B32: 0 | C32: 0 | D32: #REF! | E32: 0 | F32: 0 | G32: 0
A33: IZT 1925 canvas black | B33: ацетат тканый, черная, 19мм*25м, толщина 0,22мм, резиновый клей, прекрасно впитывает смолы и лаки, может использоваться для обмотки трансф.катушек | C33: Terminator | D33: 135 | E33: 554.9 | F33: 611.9 | G33: 674.4 | H33: +
A34: IZT 1925 canvas white | B34: ацетат тканый, белая, 19мм*25м, толщина 0,22мм, резиновый клей, прекрасно впитывает смолы и лаки, может использоваться для обмотки трансф.катушек | C34: Terminator | D34: 135 | E34: 554.9 | F34: 611.9 | G34: 674.4 | H34: +
A35: IZT 1925 fabric | B35: Полиэстер тканый; черная; 19ммх25м, толщина 0,25 мм, акрилатный чувствительный к давлению клей | C35: Terminator | D35: 120 | E35: 423.9 | F35: 462 | G35: 509.6 | H35: +
A36: IZT 1925-19 fabric | B36: Полиэстер тканый; черная; 19ммх25м, толщина 0,16 мм, акрилатный чувствительный к давлению клей | C36: Terminator | D36: 120 | E36: 372.6 | F36: 405.5 | G36: 448.3 | H36: +
A37: IZT 1918 fleece | B37: Полиэстер нетканый флис; черная; 19ммх18м, толщина 0,28 мм, синт.каучуковый клей | C37: Terminator | D37: 200 | E37: 273.3 | F37: 299.3 | G37: 330.2 | H37: +
A38: IZT 1925 fleece | B38: Полиэстер нетканый флис; черная; 19ммх25м, толщина 0,35 мм, акрилатный чувствительный к давлению клей | C38: Terminator | D38: 90 | E38: 384.8 | F38: 419 | G38: 464.4 | H38: +
A39: * Важно: характеристики тканевой изоленты (толщина, температурные диапазоны) могут незначительно варьироваться от партии к партии. Эти отличия являются допустимыми в рамках производственных норм и не влияют на функциональные свойства и качество изделия. | B39: 0 | C39: 0 | D39: #REF! | E39: 0 | F39: 0 | G39: 0
A40: Автомобильные клейкие ленты широкого применения | B40: 0 | C40: 0 | D40: #REF! | E40: 0 | F40: 0 | G40: 0
...

Sheet Изолента цвета
A1: Санкт-Петербург: +7 (812) 271-44 -84; +7 911-771-2000 | C1: прайс-лист действителен с 17.08.2026 | I1: =HYPERLINK("#'Заявка'!B860",IF('Заявка'!$L$5>0,"В заявке "&'Заявка'!$L$5&" поз. на "&IF(ROUND('Заявка'!$G$5,0)>=1000,INT(ROUND('Заявка'!$G$5,0)/1000)&" "&TEXT(MOD(ROUND('Заявка'!$G$5,0),1000),"000"),ROUND('Заявка'!$G$5,0)&"")&" ₽ →","Перейти к заявке →")) -> Перейти к заявке →
A2: Наименование | B2: Краткое описание | C2: Торговая марка | D2: В мастер-коробке (уп) | E2: цена в рублях при покупке на сумму | G2: Мелко-оптовая цена (от 17 000 рублей) | H2: 46300
E3: От 140 000 рублей | F3: От 50 000 рублей
B4: Снижение цены
B5: Повышение цены
B6: Новинка
A7: КЛЕЙКИЕ ЛЕНТЫ | B7: 0 | C7: 0 | D7: 0 | E7: 0 | F7: 0 | G7: 0
A8: Автомобильные клейкие ленты широкого применения | B8: 0 | C8: 0 | D8: 0 | E8: 0 | F8: 0 | G8: 0
A9: Изолента класса "standart" | B9: 0 | C9: 0 | D9: 0 | E9: 0 | F9: 0 | G9: 0
A10: IZT 1919 fabric DUO black & orange | B10: Полиэстер тканый; набор: черная + оранжевая; 19ммх19м, толщина 0,18 мм; акрилатный чувствительный к давлению клей | C10: Terminator | D10: 100 | E10: 429.2 | F10: 467.7 | G10: 516 | H10: +
A11: Профессиональные универсальные клейкие ленты | B11: 0 | C11: 0 | D11: 0 | E11: 0 | F11: 0 | G11: 0
A12: Изолента класса "premium" | B12: 0 | C12: 0 | D12: 0 | E12: 0 | F12: 0 | G12: 0
A13: IU1K red | B13: ПВХ; красная; 19ммх20м, толщина 0,18 самозатухающая | C13: Terminator | D13: 200 | E13: 163 | F13: 178 | G13: 197 | H13: +
A14: IU1K orange | B14: ПВХ; оранжевая; 19ммх20м, толщина 0,18 самозатухающая | C14: Terminator | D14: 200 | E14: 163 | F14: 178 | G14: 197 | H14: +
A15: IU1K yellow | B15: ПВХ; желтая; 19ммх20м, толщина 0,18 самозатухающая | C15: Terminator | D15: 200 | E15: 163 | F15: 178 | G15: 197 | H15: +
A16: IU1K green | B16: ПВХ; зеленая; 19ммх20м, толщина 0,18 самозатухающая | C16: Terminator | D16: 200 | E16: 163 | F16: 178 | G16: 197 | H16: +
A17: IU1K blue | B17: ПВХ; синяя; 19ммх20м, толщина 0,18 самозатухающая | C17: Terminator | D17: 200 | E17: 163 | F17: 178 | G17: 197 | H17: +
A18: IU1K white | B18: ПВХ; белая; 19ммх20м, толщина 0,18 самозатухающая | C18: Terminator | D18: 200 | E18: 163 | F18: 178 | G18: 197 | H18: +
A19: IU1K violet | B19: ПВХ; фиолетовая; 19ммх20м, толщина 0,18 самозатухающая | C19: Terminator | D19: 200 | E19: 163 | F19: 178 | G19: 197 | H19: +
A20: IU1K grey | B20: ПВХ; серая; 19ммх20м, толщина 0,18 самозатухающая | C20: Terminator | D20: 200 | E20: 163 | F20: 178 | G20: 197 | H20: +
A21: IU1K brown | B21: ПВХ; коричневая; 19ммх20м, толщина 0,18 самозатухающая | C21: Terminator | D21: 200 | E21: 163 | F21: 178 | G21: 197 | H21: +
A22: IC6P white | B22: ПВХ; белая; 19ммх20м, толщина 0,18мм, всепогодная, самозатухающая | C22: Terminator | D22: 200 | E22: 190.6 | F22: 209.5 | G22: 232.4 | H22: +
A23: Изолента класса "standart" | B23: 0 | C23: 0 | D23: 0 | E23: 0 | F23: 0 | G23: 0
A24: IZ 1510 green/yellow | B24: ПВХ; желто/зеленая ; 15ммх10м, толщина 0,12мм | C24: Terminator | D24: 500 | E24: 47.8 | F24: 53 | G24: 58 | H24: -
A25: IZ 1510 red | B25: ПВХ; красная; 15ммх10м, толщина 0,13мм | C25: Terminator | D25: 500 | E25: 41.7 | F25: 46.8 | G25: 51.7 | H25: +
A26: IZ 1510 yellow | B26: ПВХ; желтая; 15ммх10м, толщина 0,13мм | C26: Terminator | D26: 500 | E26: 41.7 | F26: 46.8 | G26: 51.7 | H26: +
A27: IZ 1510 green | B27: ПВХ; зеленая; 15ммх10м, толщина 0,13мм | C27: Terminator | D27: 500 | E27: 41.7 | F27: 46.8 | G27: 51.7 | H27: +
A28: IZ 1510 blue | B28: ПВХ; синяя 15ммх10м, толщина 0,13мм | C28: Terminator | D28: 500 | E28: 41.7 | F28: 46.8 | G28: 51.7 | H28: +
A29: IZ 1510 white | B29: ПВХ; белая; 15ммх10м, толщина 0,13мм | C29: Terminator | D29: 500 | E29: 41.7 | F29: 46.8 | G29: 51.7 | H29: +
A30: IZ 1918 red | B30: ПВХ; красная; 19ммх18,3м, толщина 0,13мм | C30: Terminator | D30: 250 | E30: 87.5 | F30: 96.9 | G30: 106.3 | H30: +
A31: IZ 1918 yellow | B31: ПВХ; желтая; 19ммх18,3м, толщина 0,13мм | C31: Terminator | D31: 250 | E31: 87.5 | F31: 96.9 | G31: 106.3 | H31: +
A32: IZ 1918 green | B32: ПВХ; зеленая; 19ммх18,3м, толщина 0,13мм | C32: Terminator | D32: 250 | E32: 87.5 | F32: 96.9 | G32: 106.3 | H32: +
A33: IZ 1918 blue | B33: ПВХ; синяя; 19ммх18,3м, толщина 0,13мм | C33: Terminator | D33: 250 | E33: 87.5 | F33: 96.9 | G33: 106.3 | H33: +
A34: IZ 1918 white | B34: ПВХ; белая; 19ммх18,3м, толщина 0,13мм | C34: Terminator | D34: 250 | E34: 87.5 | F34: 96.9 | G34: 106.3 | H34: +
A35: Titan 19мм*20м, ПВХ, синяя | B35: ПВХ; синяя; 19ммх20м, толщина 0,13мм, огнеупорная | C35: Titan | D35: 200 | E35: 91 | F35: 99.6 | G35: 111.1 | H35: +

Sheet ПРОМО
A1: Санкт-Петербург: +7 (812) 271-44 -84; +7 911-771-2000 | D1: прайс-лист действителен с 17.08.2026 | J1: =HYPERLINK("#'Заявка'!B860",IF('Заявка'!$L$5>0,"В заявке "&'Заявка'!$L$5&" поз. на "&IF(ROUND('Заявка'!$G$5,0)>=1000,INT(ROUND('Заявка'!$G$5,0)/1000)&" "&TEXT(MOD(ROUND('Заявка'!$G$5,0),1000),"000"),ROUND('Заявка'!$G$5,0)&"")&" ₽ →","Перейти к заявке →")) -> Перейти к заявке →
A2: Наименование | B2: фото | C2: Краткое описание | D2: Торговая марка | E2: В мастер-коробке (уп) | F2: цена в рублях при покупке на сумму | H2: Мелко-оптовая цена (от 17 000 рублей) | I2: 46300
F3: От 140 000 рублей | G3: От 50 000 рублей
A4: ПРОМО продукция | C4: 0 | D4: 0 | E4: 0 | F4: 0 | G4: 0 | H4: 0
A5: Blade 5000 PROMO | C5: Ультра тонкий пауэрбэнк, черно/белый, покрытие софт-тач, тип батареи: Li-Polymer (cell UL approval), Емкость: 5000mAh, размер: 150*65*9.6 мм, вес: 121.3 г | D5: Terminator | E5: 32 | F5: специальное предложение только для покупателей изоленты Terminator | G5: 0 | H5: 632.4 | I5: -
A6: UP4850 c логотипом TERMINATOR | C6: П/э; скотч упаковочный 48мм х 50м | D6: Terminator | E6: 36 | F6: 133.3 | G6: 146.9 | H6: 146.9 | I6: -
A7: Листы для заметок TERMINATOR | C7: Кубарики на склейке 9см*9см*5, 2см | D7: Terminator | E7: 100 | F7: 122.4 | G7: 122.4 | H7: 122.4 | I7: +
A8: Зонт "TERMINATOR" | C8: Зонт-автомат с куполом из переработанного пластика с логотипом "TERMINATOR" | D8: Terminator | E8: 48 | F8: 1600 | G8: 1700 | H8: 2000 | I8: +
A9: D-5.1918-20 | C9: Диспенсер настенный для изоленты TERMINATOR на 5 отсеков | D9: Terminator | E9: 1 | F9: 2000 | G9: 2000 | H9: 2500 | I9: +
A10: Плед "TERMINATOR" | C10: Плед-трансформер, дорожный вязаный, дизайн "TERMINATOR" | D10: Terminator | E10: 10 | F10: 3500 | G10: 3500 | H10: 4000 | I10: +
A11: Термостакан TITAN | C11: Термостакан TITAN, белый | D11: Titan | E11: 70 | F11: 400 | G11: 400 | H11: 400 | I11: +
A12: Ручка c логотипом TERMINATOR | C12: Ручка шариковая с логотипом TERMINATOR, цвета: красный, синий | D12: Terminator | E12: 1000 | F12: 70 | G12: 70 | H12: 70 | I12: +
A13: Ручка c логотипом TITAN | C13: Ручка шариковая с логотипом TITAN, цвет: золотистый | D13: Titan | E13: 1000 | F13: 70 | G13: 70 | H13: 70 | I13: +
A14: Кружка с логотипом TERMINATOR | C14: Кружка с пробковой подставкой TERMINATOR | D14: Terminator | E14: 24 | F14: 550 | G14: 550 | H14: 550 | I14: +

Sheet Провода
A1: Санкт-Петербург: +7 (812) 271-44 -84; +7 911-771-2000 | C1: прайс-лист действителен с 17.08.2026 | I1: =HYPERLINK("#'Заявка'!B860",IF('Заявка'!$L$5>0,"В заявке "&'Заявка'!$L$5&" поз. на "&IF(ROUND('Заявка'!$G$5,0)>=1000,INT(ROUND('Заявка'!$G$5,0)/1000)&" "&TEXT(MOD(ROUND('Заявка'!$G$5,0),1000),"000"),ROUND('Заявка'!$G$5,0)&"")&" ₽ →","Перейти к заявке →")) -> Перейти к заявке →
A2: Наименование | B2: Краткое описание | C2: Торговая марка | D2: В мастер-коробке (уп) | E2: цена в рублях при покупке на сумму | G2: Мелко-оптовая цена (от 17 000 рублей) | H2: 46300
E3: От 140 000 рублей | F3: От 50 000 рублей
B4: Снижение цены
B5: Повышение цены
B6: Новинка
A7: ПРОВОДА | B7: 0 | C7: 0 | D7: #REF! | E7: 0 | F7: 0 | G7: 0
A8: Провод монтажный двужильный(изоляция винил, красно-черный): | B8: 0 | C8: 0 | D8: #REF! | E8: 0 | F8: 0 | G8: 0
A9: бухты 100 метров: | B9: 0 | C9: 0 | D9: #REF! | E9: 0 | F9: 0 | G9: 0
A10: CM 0,35 (B) | B10: 100м, сечение 2*0,35мм², CCA | C10: Titan | D10: 20 | E10: 1514.4 | F10: 1675.2 | G10: 1853.1 | H10: +
A11: CM 0,5 | B11: 100м, сечение 2*0,5мм², Cu | C11: Titan | D11: 10 | E11: 4942.2 | F11: 5461.1 | G11: 6034.5 | H11: +
A12: CM 0,5 (B) | B12: 100м, сечение 2*0,5мм², CCA | C12: Titan | D12: 20 | E12: 1694.3 | F12: 1872.1 | G12: 2068.6 | H12: +
A13: CM 0,75 | B13: 100м,сечение 2*0,75мм², Cu | C13: Titan | D13: 8 | E13: 6672.5 | F13: 7372.3 | G13: 8145.5 | H13: +
A14: CM 0,75 (B) | B14: 100м,сечение 2*0,75мм², CCA | C14: Titan | D14: 8 | E14: 2302.4 | F14: 2544.3 | G14: 2811.6 | H14: +
A15: CM 1,0 | B15: 100м,сечение 2*1мм², Cu | C15: Titan | D15: 8 | E15: 8951.3 | F15: 9891.5 | G15: 10930.5 | H15: +
A16: CM 1,0 (B) | B16: 100м,сечение 2*1мм², CCA | C16: Titan | D16: 4 | E16: 3387.6 | F16: 3742.3 | G16: 4134.1 | H16: -
A17: CM 1,25 | B17: 100м, сечение 2*1,25мм², Cu | C17: Titan | D17: 8 | E17: 11861.1 | F17: 13106.9 | G17: 14483.5 | H17: +
A18: CM 1,25 (B) | B18: 100м,сечение 2*1,25мм², CCA | C18: Titan | D18: 6 | E18: 3537.8 | F18: 3910.6 | G18: 4322.7 | H18: +
A19: CM 1,5 (B) | B19: 100м,сечение 2*1,5мм², CCA | C19: Titan | D19: 6 | E19: 4258.8 | F19: 4706.1 | G19: 5200.4 | H19: +
A20: CM 2,0 (B) | B20: 100м, сечение 2*2,0мм², CCA | C20: Titan | D20: 4 | E20: 5439.7 | F20: 6010.6 | G20: 6641.4 | H20: +
A21: CM 2,5 (B) | B21: 100м, сечение 2*2,5мм², CCA | C21: Titan | D21: 4 | E21: 6253.4 | F21: 6909.6 | G21: 7634.7 | H21: +
A22: CM 4,0 (B) | B22: 100м, сечение 2*4,0мм², CCA | C22: Titan | D22: 2 | E22: 10048.9 | F22: 11104.2 | G22: 12270.3 | H22: +
A23: Кабель монтажный двужильный в двойной изоляции (винил, внешний - черный, цвет оcновной изоляции: красно/черный): | B23: 0 | C23: 0 | D23: #REF! | E23: 0 | F23: 0 | G23: 0
A24: PC-2 (B) | B24: 100м,сечение 2*0,75мм², CCA | C24: Titan | D24: 5 | E24: 4227.9 | F24: 4672 | G24: 5162.7 | H24: +
A25: PC-3 (B) | B25: 100м,сечение 2*1,0мм², CCA | C25: Titan | D25: 5 | E25: 6215.2 | F25: 6866.8 | G25: 7586.7 | H25: -
A26: PC-4 (B) | B26: 100м,сечение 2*1,5мм², CCA | C26: Titan | D26: 5 | E26: 7822.2 | F26: 8642.2 | G26: 9548.2 | H26: -
A27: Провод монтажный многожильный (изоляция винил): | B27: 0 | C27: 0 | D27: #REF! | E27: 0 | F27: 0 | G27: 0
A28: бухты 50 метров: | B28: 0 | C28: 0 | D28: #REF! | E28: 0 | F28: 0 | G28: 0
A29: PM 0,75 7-Pin 50м | B29: 50м, сечение 0,75мм², Cu; цвета изоляции жил: красный, черный, желтый, серый, белый, синий, зеленый | C29: Titan | D29: 4 | E29: 13214.6 | F29: 14602.5 | G29: 16136.2 | H29: -
A30: PM 1,25 7-Pin 50м | B30: 50м, сечение 1,25мм², Cu; цвета изоляции жил: красный, черный, желтый, серый, белый, синий, зеленый | C30: Titan | D30: 4 | E30: 20719.8 | F30: 22894.3 | G30: 25297 | H30: -
A31: бухты 100 метров: | B31: 0 | C31: 0 | D31: #REF! | E31: 0 | F31: 0 | G31: 0
A32: PM 0,35 5-Pin | B32: 100м, сечение 0,35мм², Cu; цвета изоляции жил: красный, черный, желтый, серый, белый | C32: Titan | D32: 6 | E32: 8122.4 | F32: 8975.4 | G32: 9918 | H32: -
A33: PM 0,35 7-Pin | B33: 100м, сечение 0,35мм², Cu; цвета изоляции жил: красный, черный, желтый, серый, белый, синий, зеленый | C33: Titan | D33: 4 | E33: 13970.4 | F33: 15437.3 | G33: 17058.2 | H33: +
A34: Провод монтажный, цвета в ассортименте (черный,красный,коричневый,синий,зеленый,желтый,оранжевый,серый,белый,фиолетовый): | B34: 0 | C34: 0 | D34: #REF! | E34: 0 | F34: 0 | G34: 0
A35: бухты 100 метров: | B35: 0 | C35: 0 | D35: #REF! | E35: 0 | F35: 0 | G35: 0
A36: PM 0,35 (B) | B36: 100м, сечение 0,35мм², CCA; цвета в ассортименте | C36: Titan | D36: 24 | E36: 800.8 | F36: 885.1 | G36: 978.3 | H36: !!!
A37: PM 0,5 | B37: 100м, сечение 0,5мм², Cu; цвета в ассортименте | C37: Titan | D37: 20 | E37: 2298.2 | F37: 2539.8 | G37: 2806.8 | H37: !!!
A38: PM 0,5 (B) | B38: 100м, сечение 0,5мм², CCA; цвета в ассортименте | C38: Titan | D38: 20 | E38: 878.6 | F38: 971.1 | G38: 1073.3 | H38: !!!
A39: PM 0,75 | B39: 100м, сечение 0,75мм², Cu; цвета в ассортименте | C39: Titan | D39: 16 | E39: 3138.7 | F39: 3468.5 | G39: 3833 | H39: !!!
A40: PM 0,75 (B) | B40: 100м, сечение 0,75мм², CCA; цвета в ассортименте | C40: Titan | D40: 20 | E40: 1176.9 | F40: 1300.3 | G40: 1436.6 | H40: !!!
...

Sheet Провода цвета
A1: Санкт-Петербург: +7 (812) 271-44 -84; +7 911-771-2000 | C1: прайс-лист действителен с 17.08.2026 | I1: =HYPERLINK("#'Заявка'!B860",IF('Заявка'!$L$5>0,"В заявке "&'Заявка'!$L$5&" поз. на "&IF(ROUND('Заявка'!$G$5,0)>=1000,INT(ROUND('Заявка'!$G$5,0)/1000)&" "&TEXT(MOD(ROUND('Заявка'!$G$5,0),1000),"000"),ROUND('Заявка'!$G$5,0)&"")&" ₽ →","Перейти к заявке →")) -> Перейти к заявке →
A2: Наименование | B2: Краткое описание | C2: Торговая марка | D2: В мастер-коробке (уп) | E2: цена в рублях при покупке на сумму | G2: Мелко-оптовая цена (от 17 000 рублей) | H2: 46300
E3: От 140 000 рублей | F3: От 50 000 рублей
B4: Снижение цены
B5: Повышение цены
B6: Новинка
A7: ПРОВОДА | B7: 0 | C7: 0 | D7: 0 | E7: 0 | F7: 0 | G7: 0
A8: Провод монтажный многожильный (изоляция винил): | B8: 0 | C8: 0 | D8: 0 | E8: 0 | F8: 0 | G8: 0
A9: бухты 100 метров: | B9: 0 | C9: 0 | D9: 0 | E9: 0 | F9: 0 | G9: 0
A10: PM 0,35 (B) красн. | B10: 100м, сечение 0,35мм², CCA; красный | C10: Titan | D10: 24 | E10: 800.8 | F10: 885.1 | G10: 978.3 | H10: +
A11: PM 0,35 (B) оранж. | B11: 100м, сечение 0,35мм², CCA; оранжевый | C11: Titan | D11: 24 | E11: 800.8 | F11: 885.1 | G11: 978.3 | H11: +
A12: PM 0,35 (B) бел. | B12: 100м, сечение 0,35мм², CCA; белый | C12: Titan | D12: 24 | E12: 800.8 | F12: 885.1 | G12: 978.3 | H12: +
A13: PM 0,35 (B) зелен. | B13: 100м, сечение 0,35мм², CCA; зеленый | C13: Titan | D13: 24 | E13: 800.8 | F13: 885.1 | G13: 978.3 | H13: +
A14: PM 0,35 (B) син. | B14: 100м, сечение 0,35мм², CCA; синий | C14: Titan | D14: 24 | E14: 800.8 | F14: 885.1 | G14: 978.3 | H14: +
A15: PM 0,35 (B) кор. | B15: 100м, сечение 0,35мм², CCA; коричневый | C15: Titan | D15: 24 | E15: 800.8 | F15: 885.1 | G15: 978.3 | H15: +
A16: PM 0,35 (B) черн. | B16: 100м, сечение 0,35мм², CCA; черный | C16: Titan | D16: 24 | E16: 800.8 | F16: 885.1 | G16: 978.3 | H16: +
A17: PM 0,5 красн. | B17: 100м, сечение 0,5мм², Cu; красный | C17: Titan | D17: 20 | E17: 2298.2 | F17: 2539.8 | G17: 2806.8 | H17: +
A18: PM 0,5 зел. | B18: 100м, сечение 0,5мм², Cu; зеленый | C18: Titan | D18: 20 | E18: 2298.2 | F18: 2539.8 | G18: 2806.8 | H18: +
A19: PM 0,5 син. | B19: 100м, сечение 0,5мм², Cu; синий | C19: Titan | D19: 20 | E19: 2298.2 | F19: 2539.8 | G19: 2806.8 | H19: +
A20: PM 0,5 кор. | B20: 100м, сечение 0,5мм², Cu; коричневый | C20: Titan | D20: 20 | E20: 2298.2 | F20: 2539.8 | G20: 2806.8 | H20: +
A21: PM 0,5 черн. | B21: 100м, сечение 0,5мм², Cu; черный | C21: Titan | D21: 20 | E21: 2298.2 | F21: 2539.8 | G21: 2806.8 | H21: +
... A94: PM 2,5 (B) черн. | B94: 100м, сечение 2,5мм², CCA; черный | C94: Titan | D94: 4 | E94: 3211.8 | F94: 3549.5 | G94: 3922.7 | H94: +

Sheet Реле
A1: Санкт-Петербург: +7 (812) 271-44 -84; +7 911-771-2000 | C1: прайс-лист действителен с 17.08.2026 | I1: =HYPERLINK("#'Заявка'!B860",IF('Заявка'!$L$5>0,"В заявке "&'Заявка'!$L$5&" поз. на "&IF(ROUND('Заявка'!$G$5,0)>=1000,INT(ROUND('Заявка'!$G$5,0)/1000)&" "&TEXT(MOD(ROUND('Заявка'!$G$5,0),1000),"000"),ROUND('Заявка'!$G$5,0)&"")&" ₽ →","Перейти к заявке →")) -> Перейти к заявке →
A2: Наименование | B2: Краткое описание | C2: Торговая марка | D2: В мастер-коробке (уп) | E2: цена в рублях при покупке на сумму | G2: Мелко-оптовая цена (от 17 000 рублей) | H2: 46300
E3: От 140 000 рублей | F3: От 50 000 рублей
B4: Снижение цены
B5: Повышение цены
B6: Новинка
A7: РЕЛЕ БЛОКИРОВКИ И КОЛОДКИ К НИМ | B7: 0 | C7: 0 | D7: #REF! | E7: 0 | F7: 0 | G7: 0
A8: Реле блокировки без резистора | B8: 0 | C8: 0 | D8: #REF! | E8: 0 | F8: 0 | G8: 0
A9: AQR 12/10 MINI | B9: 5 контактов, MINI, без Разъема, 10А, 12В, в упаковке 100 шт, цена за штуку | C9: Titan | D9: 2000 | E9: 48.8 | F9: 54.2 | G9: 59.6 | H9: +
A10: AQR 12/15 MINI | B10: 5 контактов, MINI, без Разъема, 15А, 12В, в упаковке 100 шт, цена за штуку | C10: Titan | D10: 2000 | E10: 48.8 | F10: 54.2 | G10: 59.6 | H10: +
A11: AQR 12/20 MINI | B11: 5 контактов, MINI, без Разъема, 20А, 12В, в упаковке 25 шт, цена за штуку | C11: Titan | D11: 3000 | E11: 52.1 | F11: 56.5 | G11: 65.1 | H11: +
A12: AQR 12/40SF-4 | B12: 4 контакта, без Разъема, 40А, 12В, флюсостойкий пылезащ. корпус 27x28x25, пластик.брекет | C12: Titan | D12: 500 | E12: под заказ.мин. Партия 5000 шт | F12: 0 | G12: 0 | H12: -
A13: AQR 12/40SF-5 | B13: 5 контактов, без Разъема, 40А, 12В, флюсостойкий пылезащ. корпус 27x28x25, пластик.брекет | C13: Titan | D13: 400 | E13: 140.6 | F13: 154.4 | G13: 170.6 | H13: +
A14: AQR 24/40SF-5 | B14: 5 контактов, без Разъема, 40А, 24В, флюсостойкий пылезащ. корпус 27x28x25, пластик.брекет | C14: Titan | D14: 400 | E14: 142.8 | F14: 156.9 | G14: 173 | H14: +
A15: AQR 12/40SW-5 | B15: 5 контактов, без Разъема, 40А, 12В, герметичный корпус 27x28x25, металлический брекет | C15: Titan | D15: 400 | E15: 158.5 | F15: 174.6 | G15: 192.3 | H15: +
A16: AQR 12/40SW-5 (F) | B16: 5 контактов, без Разъема, 40А, 12В, герметичный корпус 27x28x25, пластик.брекет | C16: Titan | D16: 400 | E16: 116.2 | F16: 127.3 | G16: 140.7 | H16: +
A17: AQR 12/40SW-5 (М) | B17: 5 контактов: 2 конт. 6,3мм, 3конт.4,8мм, без Разъема, 40А, 12В, герметичный корпус 20,5x15x22, без брекета | C17: Titan | D17: 700 | E17: 100.3 | F17: 109.7 | G17: 121.5 | H17: +
A18: Колодки к реле | B18: 0 | C18: 0 | D18: #REF! | E18: 0 | F18: 0 | G18: 0
A19: AQR 16-15 MINI | B19: колодка к мини реле AQR 12/15 MINI и AQR 12/10 MINI, пятипроводная | C19: Titan | D19: 2000 | E19: 78.3 | F19: 83.3 | G19: 88.5 | H19: +
A20: AQR 16-20 MINI | B20: колодка к мини реле AQR 12/20 MINI, пятипроводная | C20: Titan | D20: 1000 | E20: 78.3 | F20: 83.3 | G20: 88.5 | H20: +
A21: AQR 16-5 | B21: колодка к реле AQR 12/40SW-5 (М), пятипроводная, с брекетом, наборная в линейку | C21: Titan | D21: 500 | E21: 113.7 | F21: 120.8 | G21: 128.5 | H21: +
A22: AQR 16-5D | B22: колодка к реле, пятипроводная с диодом, "квадрат", провода: L=19см; сечение 2*0,75мм² и 3*2,0мм² | C22: Titan | D22: 500 | E22: 113.7 | F22: 120.8 | G22: 128.5 | H22: +
A23: AQR 16-5DK | B23: колодка к реле, пятипроводная с диодом, "крест", провода: L=19см; сечение 2*0,75мм² и 3*2,0мм² | C23: Titan | D23: 500 | E23: 113.7 | F23: 120.8 | G23: 128.5 | H23: +
A24: AQR 16-4/4,8 | B24: колодка к реле AQR 12/40SP-4, четырехпроводная , провода L=16см | C24: Titan | D24: 1000 | E24: 52 | F24: 57.8 | G24: 63.8 | H24: +
A25: AQA 5 (100шт) | B25: корпус колодки "квадрат" для 5-ти контактного реле без проводов и клемм (100шт) | C25: Titan | D25: 15 | E25: 2700.9 | F25: 3102.4 | G25: 3420.5 | H25: +
A26: AQA 6 (100шт) | B26: корпус колодки "крест" для 5-ти контактного реле без проводов и клемм, наборный в линейку(100шт), черный | C26: Titan | D26: 14 | E26: 2252.9 | F26: 2594.9 | G26: 2854.5 | H26: +

Sheet Концевики
A1: Санкт-Петербург: +7 (812) 271-44 -84; +7 911-771-2000 | C1: прайс-лист действителен с 17.08.2026 | I1: =HYPERLINK("#'Заявка'!B860",IF('Заявка'!$L$5>0,"В заявке "&'Заявка'!$L$5&" поз. на "&IF(ROUND('Заявка'!$G$5,0)>=1000,INT(ROUND('Заявка'!$G$5,0)/1000)&" "&TEXT(MOD(ROUND('Заявка'!$G$5,0),1000),"000"),ROUND('Заявка'!$G$5,0)&"")&" ₽ →","Перейти к заявке →")) -> Перейти к заявке →
A2: Наименование | C2: Краткое описание | D2: В мастер-коробке (уп) | E2: цена в рублях при покупке на сумму | G2: Мелко-оптовая цена (от 17 000 рублей) | H2: 46300
E3: От 140 000 рублей | F3: От 50 000 рублей
B4: Снижение цены | D4: 0 | E4: 0 | F4: 0 | G4: 0 | H4: 0
B5: Повышение цены | D5: 0 | E5: 0 | F5: 0 | G5: 0 | H5: 0
B6: Новинка | D6: 0 | E6: 0 | F6: 0 | G6: 0 | H6: 0
A7: КОНЦЕВЫЕ КОНТАКТЫ
A8: AQM 21 | C8: Металлический шток. Мin высота выступающей части. Цилиндрический контакт и резьба. | D8: 2400 | E8: 14 | F8: 16.1 | G8: 17.5 | H8: +
A9: AQM 22 | C9: Концевой контакт общего назначения. Пластмассовый шток. Две контргайки. Ножевой контакт и резьба. Регулировка по высоте. | D9: 1000 | E9: 37.7 | F9: 42.3 | G9: 46.9 | H9: +
A10: AQM 25В | C10: На сдвижную дверь для кузовов фургонного типа. | D10: 250 | E10: 193.4 | F10: 211.2 | G10: 234.6 | H10: +
A11: AQM 30A с пыльником | C11: для ВАЗ 2114-15, 1119, "Шевроле-Нива", "Приора", "Лада-Гранта" с пыльником | D11: 500 | E11: 122.5 | F11: 131.3 | G11: 144.4 | H11: +
A12: WH-3P-F (мама) | C12: Герметичный Разъем для концевика AQM 30A, произв. Россия | D12: 2000 | E12: 77.6 | F12: 85.6 | G12: 96.9 | H12: +
A13: WH-3P-F мама, Тайвань | C13: Герметичный Разъем для концевика AQM 30A, произв. Тайвань | D13: 2000 | E13: 203.8 | F13: 224.4 | G13: 248.4 | H13: +
A14: AQM 30B | C14: Корпус с неподвижным фланцем. Пластмассовый шток, регулируемый по высоте. Ножевой контакт. Герметичный резиновый протектор. | D14: 1500 | E14: 34.5 | F14: 37 | G14: 40.8 | H14: +
A15: AQM 40A | C15: Металлические кронштейны для концевых выключателей. Отверстие с резьбой и регулировочные прорези. Пластина прямая. | D15: 800 | E15: 28.7 | F15: 30.8 | G15: 34.4 | H15: +
A16: AQM 40AL | C16: Металлические кронштейны для концевых выключателей. Отверстие с резьбой и регулировочные прорези. Пластина гнутая | D16: 700 | E16: 28.7 | F16: 30.8 | G16: 34.4 | H16: +
A17: AQM 54 с пыльником | C17: на Lada Largus, Renault Logan фаза 1, Logan фаза 2, Sandero, Sandero stepway, Duster | D17: 1000 | E17: 186.8 | F17: 205 | G17: 226.7 | H17: +
A18: WH-2P-F, мама, "Ларгус" (Россия) | C18: Разъем для концевика AQM 54, произв. Россия | D18: 1000 | E18: 80.9 | F18: 80.9 | G18: 90.7 | H18: +
A19: WH-2P-F, мама, "Ларгус" Тайвань | C19: Разъем для концевика AQM 54, произв. Тайвань | D19: 2000 | E19: 163.8 | F19: 180.8 | G19: 200.5 | H19: +

Sheet Предохранители
A1: Санкт-Петербург: +7 (812) 271-44 -84; +7 911-771-2000 | C1: прайс-лист действителен с 17.08.2026 | I1: =HYPERLINK("#'Заявка'!B860",IF('Заявка'!$L$5>0,"В заявке "&'Заявка'!$L$5&" поз. на "&IF(ROUND('Заявка'!$G$5,0)>=1000,INT(ROUND('Заявка'!$G$5,0)/1000)&" "&TEXT(MOD(ROUND('Заявка'!$G$5,0),1000),"000"),ROUND('Заявка'!$G$5,0)&"")&" ₽ →","Перейти к заявке →")) -> Перейти к заявке →
A2: Наименование | B2: Краткое описание | C2: Торговая марка | D2: В мастер-коробке (уп) | E2: цена в рублях при покупке на сумму | G2: Мелко-оптовая цена (от 17 000 рублей) | H2: 46300
E3: От 140 000 рублей | F3: От 50 000 рублей
B4: Снижение цены
B5: Повышение цены
B6: Новинка
A7: ДЕРЖАТЕЛИ ПРЕДОХРАНИТЕЛЯ И ПРЕДОХРАНИТЕЛИ АВТОМОБИЛЬНЫЕ ПЛАВКИЕ, НОЖЕВОГО ТИПА | B7: 0 | C7: 0 | D7: #REF! | E7: 0 | F7: 0 | G7: 0
A8: Предохранители, 50 шт: | B8: 0 | C8: 0 | D8: #REF! | E8: 0 | F8: 0 | G8: 0
A9: PRMICRO 10 | B9: 10А, размер-micro | C9: Titan | D9: 100 | E9: 553.1 | F9: 635.7 | G9: 699.6 | H9: +
A10: PRMICRO 15 | B10: 15А, размер-micro | C10: Titan | D10: 20 | E10: 553.1 | F10: 635.7 | G10: 699.6 | H10: +
A11: PRMICRO 20 | B11: 20А, размер-micro | C11: Titan | D11: 20 | E11: 553.1 | F11: 635.7 | G11: 699.6 | H11: +
A12: PRMICRO 30 | B12: 30А, размер-micro | C12: Titan | D12: 10 | E12: 553.1 | F12: 635.7 | G12: 699.6 | H12: +
A13: PRM 3 | B13: 3А, размер-mini | C13: Titan | D13: 100 | E13: 391.6 | F13: 470.6 | G13: 517.7 | H13: +
A14: PRM 5 | B14: 5А, размер-mini | C14: Titan | D14: 100 | E14: 391.6 | F14: 470.6 | G14: 517.7 | H14: +
A15: PRM 7,5 | B15: 7А, размер-mini | C15: Titan | D15: 100 | E15: 391.6 | F15: 470.6 | G15: 517.7 | H15: +
A16: PRM 10 | B16: 10А, размер-mini | C16: Titan | D16: 10 | E16: 391.6 | F16: 470.6 | G16: 517.7 | H16: +
A17: PRM 15 | B17: 15А, размер-mini | C17: Titan | D17: 20 | E17: 391.6 | F17: 470.6 | G17: 517.7 | H17: +
A18: PRM 20 | B18: 20А, размер-mini | C18: Titan | D18: 20 | E18: 391.6 | F18: 470.6 | G18: 517.7 | H18: +
A19: PRM 25 | B19: 25А, размер-mini | C19: Titan | D19: 20 | E19: 391.6 | F19: 470.6 | G19: 517.7 | H19: +
A20: PRM 30 | B20: 30А, размер-mini | C20: Titan | D20: 20 | E20: 391.6 | F20: 470.6 | G20: 517.7 | H20: +
... A35: PRX 30 | B35: 30А, размер-maxi | C35: Titan | D35: 40 | E35: 1396.4 | F35: 1676.9 | G35: 1844.6 | H35: +
A36: Наборы предохранителей: | B36: 0 | C36: 0 | D36: #REF! | E36: 0 | F36: 0 | G36: 0
A37: F 152 | B37: Комплект предохранителей 10шт; 5А-25А; тип "ТОРПЕДО"; блистер | C37: Tesla | D37: 180 | E37: 107 | F37: 111.8 | G37: 123 | H37: +
A38: Держатель предохранителей/разветвитель, 25 шт: | B38: 0 | C38: 0 | D38: #REF! | E38: 0 | F38: 0 | G38: 0
A39: DPRC 7,5 micro | B39: для 7,5А, с крышкой; VINYL, размер-micro, сечение провода 1,3 мм² | C39: Titan | D39: 50 | E39: 1978.6 | F39: 2183.6 | G39: 2412.4 | H39: +
A40: DPRC 20 micro | B40: для 20А, с крышкой; VINYL, размер-micro, сечение провода 3,3 мм² | C40: Titan | D40: 40 | E40: 2227 | F40: 2457.7 | G40: 2715.1 | H40: +
A41: Держатель предохранителей, 25 шт: | B41: 0 | C41: 0 | D41: #REF! | E41: 0 | F41: 0 | G41: 0
A42: DPRC 7,5 mini | B42: для 7,5А, с крышкой; VINYL, размер-mini, сечение провода 1,3 мм² | C42: Titan | D42: 20 | E42: 1978.6 | F42: 2183.6 | G42: 2412.4 | H42: +
A43: DPRC 20 mini | B43: для 20А, с крышкой; VINYL, размер-mini, сечение провода 3,3 мм² | C43: Titan | D43: 20 | E43: 2227 | F43: 2457.7 | G43: 2715.1 | H43: +
A44: DPRC 7,5 RED | B44: для 7,5А, с крышкой; VINYL, размер-standart, красн., сечение провода 1,3 мм² | C44: Titan | D44: 20 | E44: 1835.2 | F44: 2025.4 | G44: 2237.5 | H44: +
A45: DPRC 15 RED | B45: для 15А, с крышкой; VINYL, размер-standart, красн., сечение провода 2,1 мм² | C45: Titan | D45: 20 | E45: 2031.5 | F45: 2242 | G45: 2477 | H45: +
A46: DPRC 20 RED | B46: для 20А, с крышкой; VINYL, размер-standart, красн., сечение провода 3,3 мм² | C46: Titan | D46: 20 | E46: 2314.2 | F46: 2553.9 | G46: 2821.3 | H46: +
A47: DPRC 30 RED | B47: для 30А, с крышкой; VINYL, размер-standart, красн., сечение провода 5,3 мм² | C47: Titan | D47: 20 | E47: 3362.8 | F47: 3711.2 | G47: 4099.8 | H47: +
A48: DPRC 7,5 BLACK | B48: для 7,5А, с крышкой; VINYL, размер-standart, черн., сечение провода 1,3 мм² | C48: Titan | D48: 20 | E48: 1835.2 | F48: 2025.4 | G48: 2237.5 | H48: +
A49: DPRC 15 BLACK | B49: для 15А, с крышкой; VINYL, размер-standart, черн., сечение провода 2,1 мм² | C49: Titan | D49: 20 | E49: 2031.5 | F49: 2242 | G49: 2477 | H49: +
A50: DPRC 20 BLACK | B50: для 20А, с крышкой; VINYL, размер-standart, черн., сечение провода 3,3 мм² | C50: Titan | D50: 20 | E50: 2314.2 | F50: 2553.9 | G50: 2821.3 | H50: +
A51: DPRC 30 BLACK | B51: для 30А, с крышкой; VINYL, размер-standart, черн., сечение провода 5,3 мм² | C51: Titan | D51: 20 | E51: 3362.8 | F51: 3711.2 | G51: 4099.8 | H51: +

Sheet Тюбинг
A1: Санкт-Петербург: +7 (812) 271-44 -84; +7 911-771-2000 | C1: прайс-лист действителен с 17.08.2026 | I1: =HYPERLINK("#'Заявка'!B860",IF('Заявка'!$L$5>0,"В заявке "&'Заявка'!$L$5&" поз. на "&IF(ROUND('Заявка'!$G$5,0)>=1000,INT(ROUND('Заявка'!$G$5,0)/1000)&" "&TEXT(MOD(ROUND('Заявка'!$G$5,0),1000),"000"),ROUND('Заявка'!$G$5,0)&"")&" ₽ →","Перейти к заявке →")) -> Перейти к заявке →
A2: Наименование | B2: Краткое описание | C2: Торговая марка | D2: В мастер-коробке (уп) | E2: цена в рублях при покупке на сумму | G2: Мелко-оптовая цена (от 17 000 рублей) | H2: 46300
E3: От 140 000 рублей | F3: От 50 000 рублей
B4: Снижение цены
B5: Повышение цены
B6: Новинка
A7: ТЮБИНГ ДЛЯ УКЛАДКИ ПРОВОДОВ | B7: 0 | C7: 0 | D7: #REF! | E7: 0 | F7: 0 | G7: 0
A8: Кембрик | B8: 0 | C8: 0 | D8: #REF! | E8: 0 | F8: 0 | G8: 0
A9: KM-5 | B9: Кембрик пвх, диам.5 мм, черн., длина 200 м | C9: Titan | D9: 5 | E9: 3181.2 | F9: 3498.6 | G9: 3866.2 | H9: +
A10: KM-6 | B10: Кембрик пвх, диам.6 мм, черн., длина 200 м | C10: Titan | D10: 4 | E10: 3806.1 | F10: 4187.8 | G10: 4627.3 | H10: -
A11: KM-10 | B11: Кембрик пвх, диам.10 мм, черн., длина 100 м | C11: Titan | D11: 4 | E11: 3171.4 | F11: 3487.7 | G11: 3854.2 | H11: -
A12: Защитная оплетка "змеиная кожа" | B12: 0 | C12: 0 | D12: #REF! | E12: 0 | F12: 0 | G12: 0
A13: SS-5 (10м) черн. | B13: номинальный размер: 6 мм, длина 10 м, диаметр 3-9 мм | C13: Titan | D13: 20 | E13: 670.4 | F13: 737.1 | G13: 804.7 | H13: -
A14: SS-5 (10м) син. | B14: номинальный размер: 6 мм, длина 10 м, диаметр 3-9 мм | C14: Titan | D14: 20 | E14: 701.7 | F14: 771.3 | G14: 842.2 | H14: +
A15: SS-5 (15м) черн. | B15: номинальный размер: 6 мм, длина 15 м, диаметр 3-9 мм | C15: Titan | D15: 50 | E15: 815.1 | F15: 896.3 | G15: 979.5 | H15: +
A16: SS-5 (15м) красн. | B16: номинальный размер: 6 мм, длина 15 м, диаметр 3-9 мм | C16: Titan | D16: 54 | E16: 862 | F16: 948.4 | G16: 1035.8 | H16: +
A17: SS-5 (15м) син. | B17: номинальный размер: 6 мм, длина 15 м, диаметр 3-9 мм | C17: Titan | D17: 54 | E17: 862 | F17: 948.4 | G17: 1035.8 | H17: +
A18: SS-5 (15м) зел | B18: номинальный размер: 6 мм, длина 15 м, диаметр 3-9 мм | C18: Titan | D18: 54 | E18: 862 | F18: 948.4 | G18: 1035.8 | H18: +
A19: SS-5 (100м) черн. | B19: номинальный размер: 6 мм, длина 100 м, диаметр 3-9 мм | C19: Titan | D19: 8 | E19: 2954.4 | F19: 3251 | G19: 3549.9 | H19: +
A20: SS-10 (10м) черн. | B20: номинальный размер: 10 мм, длина 10 м, диаметр 7-19 мм | C20: Titan | D20: 50 | E20: 776.6 | F20: 854.7 | G20: 933.8 | H20: +
A21: SS-10 (100м) черн. | B21: номинальный размер: 10 мм, длина 100 м, диаметр 7-19 мм | C21: Titan | D21: 10 | E21: 4027.7 | F21: 4428.4 | G21: 4836.5 | H21: +
A22: SS-10 (10м) графит | B22: номинальный размер: 10 мм, длина 10 м, диаметр 7-19 мм | C22: Titan | D22: 50 | E22: 830.7 | F22: 914 | G22: 998.4 | H22: +
A23: SS-10 (100м) графит | B23: номинальный размер: 10 мм, длина 100 м, диаметр 7-19 мм | C23: Titan | D23: 10 | E23: 4562.8 | F23: 5018.7 | G23: 5480.9 | H23: +
A24: SS-10 (10м) красн. | B24: номинальный размер: 10 мм, длина 10 м, диаметр 7-19 мм | C24: Titan | D24: 50 | E24: 830.7 | F24: 914 | G24: 998.4 | H24: +
... A43: SS-80 (100м) | B43: номинальный размер: 76 мм, длина 100 м, диаметр 64-120 мм | C43: Titan | D43: 2 | E43: 62610.7 | F43: 68869.2 | G43: 76106.4 | H43: +
