Workbook

Sheet Главная
A1: Компания "Вимар"
A2: 191167, г. Санкт-Петербург, ул. Александра Невского, д. 9, Литера А, помещ. 11Н-21(215)
A3: Тел./факс: +7(812) 271-44-84; Моб.тел.: +7(911) 771-20-00
A4: E-mail: office@arttekfilms.ru
A6: Сайт: https://arttekfilms.ru
A7: Сайт: https://vk.com/vimar_spb
A9: Прайс-лист на монтажное оборудование и инструмент
A10: действителен с 17.08.2026
B12: Минимальная сумма заказа 17 тысяч рублей
B15: Изолента, скотч | C15: подробнее
B16: Изолента цвета | C16: подробнее
B17: ПРОМО (Рекламные материалы) | C17: подробнее
B18: Провода | C18: подробнее | D18: Запросить специальное предложение на объем
B19: Провода цвета | C19: подробнее
B20: Реле | C20: подробнее | D20: Запросить специальное предложение на объем
B21: Концевые контакты | C21: подробнее | D21: Запросить специальное предложение на объем
B22: Предохранители, держатели предохранителя | C22: подробнее
B23: Тюбинг для укладки проводов | C23: подробнее
B24: Клеммы | C24: подробнее
B25: Коннекторы | C25: подробнее
B26: Стяжки | C26: подробнее | D26: Запросить специальное предложение на объем
B27: Термотрубка | C27: подробнее
B28: ДОП (переходники дверные, инструмент, стеклоподъемники и др. товары) | C28: подробнее | D28: Запросить специальное предложение на объем
B29: Защитные покрытия | C29: подробнее | D29: Запросить специальное предложение на объем
B30: Мобильные аксессуары | C30: подробнее | D30: Запросить специальное предложение на объем
B32: ЗАКАЗАТЬ ОБРАЗЕЦ ДЛЯ ТЕСТИРОВАНИЯ*
B33: любой новый для Вас товар Вы можете получить по минимальной цене
B34: *не более 3шт. одного наименования по минимальной цене
B35: Приведенные в прайс-листе характеристики носят информационный характер. Производитель оставляет за собой право на внесение конструктивных изменений. Возможность применения изделия для конкретных целей определяется пользователем путем испытаний.

Sheet Заявка
A1: Заявка | C1: =HYPERLINK("#'Заявка'!B860",IF($L$5>0,"Ваша заявка: "&$L$5&" поз. ↓","Ваша заявка ↓")) -> Ваша заявка ↓ | G1: наличие на 05.10.2026
A3: Основной прайс | C3: =CHOOSE(K3,"крупный опт","средний опт · до крупного опта ещё "&IF(H3>=1000,INT(H3/1000)&" "&TEXT(MOD(H3,1000),"000"),H3&"")&" ₽","мелкий опт · до среднего опта ещё "&IF(H3>=1000,INT(H3/1000)&" "&TEXT(MOD(H3,1000),"000"),H3&"")&" ₽") -> мелкий опт · до среднего опта ещё 50 000 ₽ | G3: =SUM(G8:G762) -> 0 | H3: =ROUNDUP(CHOOSE(K3,0,140000-SUM(J8:J762),50000-SUM(K8:K762)),0) -> 50000 | K3: =IF(SUM(J8:J762)>=140000,1,IF(SUM(K8:K762)>=50000,2,3)) -> 3
A4: Тонировочный инструмент | C4: =CHOOSE(K4,"крупный опт","средний опт · до крупного опта ещё "&IF(H4>=1000,INT(H4/1000)&" "&TEXT(MOD(H4,1000),"000"),H4&"")&" ₽","мелкий опт · до среднего опта ещё "&IF(H4>=1000,INT(H4/1000)&" "&TEXT(MOD(H4,1000),"000"),H4&"")&" ₽") -> мелкий опт · до среднего опта ещё 25 000 ₽ | G4: =SUM(G763:G858) -> 0 | H4: =ROUNDUP(CHOOSE(K4,0,90000-SUM(J763:J858),25000-SUM(K763:K858)),0) -> 25000 | K4: =IF(SUM(J763:J858)>=90000,1,IF(SUM(K763:K858)>=25000,2,3)) -> 3
A5: ИТОГО | C5: =IF(AND(G5>0,G5<17000),"минимальная сумма заказа 17 000 ₽","") | G5: =G3+G4 -> 0 | L5: =COUNTIF($I$8:$I$858,">0") -> 0
A7: Раздел | B7: Артикул | C7: Описание | D7: Наличие | E7: Кол-во | F7: Цена | G7: Сумма
A8: Изолента | L8: =N(L7)+(N(I8)>0) -> 0
A9: Изолента | B9: КЛЕЙКИЕ ЛЕНТЫ | L9: =N(L8)+(N(I9)>0) -> 0
A10: Изолента | B10: Профессиональные клейкие ленты для автосервиса | L10: =N(L9)+(N(I10)>0) -> 0
A11: Изолента | B11: Изолента класса "premium" | L11: =N(L10)+(N(I11)>0) -> 0
A12: Изолента | B12: ='Изолента'!A10&"" -> IZ 1510S | C12: ='Изолента'!B10&"" -> ПВХ; черная; 15ммх10м, толщина 0,13мм | D12: =IF('Изолента'!H10="+","есть",IF('Изолента'!H10="-","нет","")) -> нет | F12: =IF(N('Изолента'!G10)<=0,"по запросу",CHOOSE($K$3,IF(N('Изолента'!E10)>0,N('Изолента'!E10),N('Изолента'!G10)),IF(N('Изолента'!F10)>0,N('Изолента'!F10),N('Изолента'!G10)),N('Изолента'!G10))) -> 71.6 | G12: =IF(I12<=0,"",IF(ISNUMBER(F12),I12*F12,"по запросу")) | H12: =N('Изолента'!I10) -> 0 | I12: =IF(N(E12)>0,N(E12),H12) -> 0 | J12: =I12*IF(N('Изолента'!E10)>0,N('Изолента'!E10),N('Изолента'!G10)) -> 0 | K12: =I12*IF(N('Изолента'!F10)>0,N('Изолента'!F10),N('Изолента'!G10)) -> 0 | L12: =N(L11)+(N(I12)>0) -> 0
A13: Изолента | B13: ='Изолента'!A11&"" -> IZ 1920S | C13: ='Изолента'!B11&"" -> ПВХ; черная; 19ммх20м, толщина 0,13мм | D13: =IF('Изолента'!H11="+","есть",IF('Изолента'!H11="-","нет","")) -> есть | F13: =IF(N('Изолента'!G11)<=0,"по запросу",CHOOSE($K$3,IF(N('Изолента'!E11)>0,N('Изолента'!E11),N('Изолента'!G11)),IF(N('Изолента'!F11)>0,N('Изолента'!F11),N('Изолента'!G11)),N('Изолента'!G11))) -> 152.3 | G13: =IF(I13<=0,"",IF(ISNUMBER(F13),I13*F13,"по запросу")) | H13: =N('Изолента'!I11) -> 0 | I13: =IF(N(E13)>0,N(E13),H13) -> 0 | J13: =I13*IF(N('Изолента'!E11)>0,N('Изолента'!E11),N('Изолента'!G11)) -> 0 | K13: =I13*IF(N('Изолента'!F11)>0,N('Изолента'!F11),N('Изолента'!G11)) -> 0 | L13: =N(L12)+(N(I13)>0) -> 0
A14: Изолента | B14: ='Изолента'!A12&"" -> IZ 1920s-11 | C14: ='Изолента'!B12&"" -> ПВХ; черная; 19ммх20м, толщина 0,10мм | D14: =IF('Изолента'!H12="+","есть",IF('Изолента'!H12="-","нет","")) -> есть | F14: =IF(N('Изолента'!G12)<=0,"по запросу",CHOOSE($K$3,IF(N('Изолента'!E12)>0,N('Изолента'!E12),N('Изолента'!G12)),IF(N('Изолента'!F12)>0,N('Изолента'!F12),N('Изолента'!G12)),N('Изолента'!G12))) -> 132.6 | G14: =IF(I14<=0,"",IF(ISNUMBER(F14),I14*F14,"по запросу")) | H14: =N('Изолента'!I12) -> 0 | I14: =IF(N(E14)>0,N(E14),H14) -> 0 | J14: =I14*IF(N('Изолента'!E12)>0,N('Изолента'!E12),N('Изолента'!G12)) -> 0 | K14: =I14*IF(N('Изолента'!F12)>0,N('Изолента'!F12),N('Изолента'!G12)) -> 0 | L14: =N(L13)+(N(I14)>0) -> 0
A15: Изолента | B15: ='Изолента'!A13&"" -> IZC 1510 | C15: ='Изолента'!B13&"" -> ПВХ; черная; 15ммх10м, толщина 0,15мм, холодостойкая, самозатухающая | D15: =IF('Изолента'!H13="+","есть",IF('Изолента'!H13="-","нет","")) -> нет | F15: =IF(N('Изолента'!G13)<=0,"по запросу",CHOOSE($K$3,IF(N('Изолента'!E13)>0,N('Изолента'!E13),N('Изолента'!G13)),IF(N('Изолента'!F13)>0,N('Изолента'!F13),N('Изолента'!G13)),N('Изолента'!G13))) -> 94.6 | G15: =IF(I15<=0,"",IF(ISNUMBER(F15),I15*F15,"по запросу")) | H15: =N('Изолента'!I13) -> 0 | I15: =IF(N(E15)>0,N(E15),H15) -> 0 | J15: =I15*IF(N('Изолента'!E13)>0,N('Изолента'!E13),N('Изолента'!G13)) -> 0 | K15: =I15*IF(N('Изолента'!F13)>0,N('Изолента'!F13),N('Изолента'!G13)) -> 0 | L15: =N(L14)+(N(I15)>0) -> 0
A16: Изолента | B16: ='Изолента'!A14&"" -> IZC 1920 | C16: ='Изолента'!B14&"" -> ПВХ; черная; 19ммх20м, толщина 0,15мм, холодостойкая, самозатухающая | D16: =IF('Изолента'!H14="+","есть",IF('Изолента'!H14="-","нет","")) -> нет | F16: =IF(N('Изолента'!G14)<=0,"по запросу",CHOOSE($K$3,IF(N('Изолента'!E14)>0,N('Изолента'!E14),N('Изолента'!G14)),IF(N('Изолента'!F14)>0,N('Изолента'!F14),N('Изолента'!G14)),N('Изолента'!G14))) -> 201.9 | G16: =IF(I16<=0,"",IF(ISNUMBER(F16),I16*F16,"по запросу")) | H16: =N('Изолента'!I14) -> 0 | I16: =IF(N(E16)>0,N(E16),H16) -> 0 | J16: =I16*IF(N('Изолента'!E14)>0,N('Изолента'!E14),N('Изолента'!G14)) -> 0 | K16: =I16*IF(N('Изолента'!F14)>0,N('Изолента'!F14),N('Изолента'!G14)) -> 0 | L16: =N(L15)+(N(I16)>0) -> 0
A17: Изолента | B17: ='Изолента'!A15&"" -> IZN 1920 | C17: ='Изолента'!B15&"" -> ПВХ; черная; беcклеевая (для жгутов)19ммх20м,толщина 0,12мм | D17: =IF('Изолента'!H15="+","есть",IF('Изолента'!H15="-","нет","")) -> есть | F17: =IF(N('Изолента'!G15)<=0,"по запросу",CHOOSE($K$3,IF(N('Изолента'!E15)>0,N('Изолента'!E15),N('Изолента'!G15)),IF(N('Изолента'!F15)>0,N('Изолента'!F15),N('Изолента'!G15)),N('Изолента'!G15))) -> 126.3 | G17: =IF(I17<=0,"",IF(ISNUMBER(F17),I17*F17,"по запросу")) | H17: =N('Изолента'!I15) -> 0 | I17: =IF(N(E17)>0,N(E17),H17) -> 0 | J17: =I17*IF(N('Изолента'!E15)>0,N('Изолента'!E15),N('Изолента'!G15)) -> 0 | K17: =I17*IF(N('Изолента'!F15)>0,N('Изолента'!F15),N('Изолента'!G15)) -> 0 | L17: =N(L16)+(N(I17)>0) -> 0
A18: Изолента | B18: ='Изолента'!A16&"" -> 00645 | C18: ='Изолента'!B16&"" -> ПВХ; черная; 15ммх10м, толщина 0,13мм, суперэластичная | D18: =IF('Изолента'!H16="+","есть",IF('Изолента'!H16="-","нет","")) -> есть | F18: =IF(N('Изолента'!G16)<=0,"по запросу",CHOOSE($K$3,IF(N('Изолента'!E16)>0,N('Изолента'!E16),N('Изолента'!G16)),IF(N('Изолента'!F16)>0,N('Изолента'!F16),N('Изолента'!G16)),N('Изолента'!G16))) -> 68.3 | G18: =IF(I18<=0,"",IF(ISNUMBER(F18),I18*F18,"по запросу")) | H18: =N('Изолента'!I16) -> 0 | I18: =IF(N(E18)>0,N(E18),H18) -> 0 | J18: =I18*IF(N('Изолента'!E16)>0,N('Изолента'!E16),N('Изолента'!G16)) -> 0 | K18: =I18*IF(N('Изолента'!F16)>0,N('Изолента'!F16),N('Изолента'!G16)) -> 0 | L18: =N(L17)+(N(I18)>0) -> 0
A19: Изолента | B19: ='Изолента'!A17&"" -> 00745 | C19: ='Изолента'!B17&"" -> ПВХ; черная; 15ммх10м, толщина 0,16мм, суперэластичная, холодостойкая | D19: =IF('Изолента'!H17="+","есть",IF('Изолента'!H17="-","нет","")) -> есть | F19: =IF(N('Изолента'!G17)<=0,"по запросу",CHOOSE($K$3,IF(N('Изолента'!E17)>0,N('Изолента'!E17),N('Изолента'!G17)),IF(N('Изолента'!F17)>0,N('Изолента'!F17),N('Изолента'!G17)),N('Изолента'!G17))) -> 83.4 | G19: =IF(I19<=0,"",IF(ISNUMBER(F19),I19*F19,"по запросу")) | H19: =N('Изолента'!I17) -> 0 | I19: =IF(N(E19)>0,N(E19),H19) -> 0 | J19: =I19*IF(N('Изолента'!E17)>0,N('Изолента'!E17),N('Изолента'!G17)) -> 0 | K19: =I19*IF(N('Изолента'!F17)>0,N('Изолента'!F17),N('Изолента'!G17)) -> 0 | L19: =N(L18)+(N(I19)>0) -> 0
A20: Изолента | B20: Лента малярная класса "premium" | L20: =N(L19)+(N(I20)>0) -> 0
A21: Изолента | B21: ='Изолента'!A19&"" -> MT 5060 | C21: ='Изолента'!B19&"" -> Креп; белая; 50ммх60м, толщина 0,145мм, серия "Premium" | D21: =IF('Изолента'!H19="+","есть",IF('Изолента'!H19="-","нет","")) -> есть | F21: =IF(N('Изолента'!G19)<=0,"по запросу",CHOOSE($K$3,IF(N('Изолента'!E19)>0,N('Изолента'!E19),N('Изолента'!G19)),IF(N('Изолента'!F19)>0,N('Изолента'!F19),N('Изолента'!G19)),N('Изолента'!G19))) -> 744.5 | G21: =IF(I21<=0,"",IF(ISNUMBER(F21),I21*F21,"по запросу")) | H21: =N('Изолента'!I19) -> 0 | I21: =IF(N(E21)>0,N(E21),H21) -> 0 | J21: =I21*IF(N('Изолента'!E19)>0,N('Изолента'!E19),N('Изолента'!G19)) -> 0 | K21: =I21*IF(N('Изолента'!F19)>0,N('Изолента'!F19),N('Изолента'!G19)) -> 0 | L21: =N(L20)+(N(I21)>0) -> 0
A22: Изолента | B22: Скотч 2-х сторонний на вспененной основе класса "premium" | L22: =N(L21)+(N(I22)>0) -> 0
A23: Изолента | B23: ='Изолента'!A21&"" -> ST 610 | C23: ='Изолента'!B21&"" -> П/э вспененный; черный, 6ммх10м, толщина 1мм, для молдингов, эмблем, зеленый лайнер | D23: =IF('Изолента'!H21="+","есть",IF('Изолента'!H21="-","нет","")) -> есть | F23: =IF(N('Изолента'!G21)<=0,"по запросу",CHOOSE($K$3,IF(N('Изолента'!E21)>0,N('Изолента'!E21),N('Изолента'!G21)),IF(N('Изолента'!F21)>0,N('Изолента'!F21),N('Изолента'!G21)),N('Изолента'!G21))) -> 133.5 | G23: =IF(I23<=0,"",IF(ISNUMBER(F23),I23*F23,"по запросу")) | H23: =N('Изолента'!I21) -> 0 | I23: =IF(N(E23)>0,N(E23),H23) -> 0 | J23: =I23*IF(N('Изолента'!E21)>0,N('Изолента'!E21),N('Изолента'!G21)) -> 0 | K23: =I23*IF(N('Изолента'!F21)>0,N('Изолента'!F21),N('Изолента'!G21)) -> 0 | L23: =N(L22)+(N(I23)>0) -> 0
A24: Изолента | B24: ='Изолента'!A22&"" -> ST 910 | C24: ='Изолента'!B22&"" -> П/э вспененный; черный, 9ммх10м, толщина 1мм, для молдингов, эмблем, зеленый лайнер | D24: =IF('Изолента'!H22="+","есть",IF('Изолента'!H22="-","нет","")) -> есть | F24: =IF(N('Изолента'!G22)<=0,"по запросу",CHOOSE($K$3,IF(N('Изолента'!E22)>0,N('Изолента'!E22),N('Изолента'!G22)),IF(N('Изолента'!F22)>0,N('Изолента'!F22),N('Изолента'!G22)),N('Изолента'!G22))) -> 199.9 | G24: =IF(I24<=0,"",IF(ISNUMBER(F24),I24*F24,"по запросу")) | H24: =N('Изолента'!I22) -> 0 | I24: =IF(N(E24)>0,N(E24),H24) -> 0 | J24: =I24*IF(N('Изолента'!E22)>0,N('Изолента'!E22),N('Изолента'!G22)) -> 0 | K24: =I24*IF(N('Изолента'!F22)>0,N('Изолента'!F22),N('Изолента'!G22)) -> 0 | L24: =N(L23)+(N(I24)>0) -> 0
A25: Изолента | B25: ='Изолента'!A23&"" -> ST 1210 | C25: ='Изолента'!B23&"" -> П/э вспененный; черный, 12ммх10м, толщина 1,0мм, для молдингов, деталей интерьера, зеленый лайнер | D25: =IF('Изолента'!H23="+","есть",IF('Изолента'!H23="-","нет","")) -> есть | F25: =IF(N('Изолента'!G23)<=0,"по запросу",CHOOSE($K$3,IF(N('Изолента'!E23)>0,N('Изолента'!E23),N('Изолента'!G23)),IF(N('Изолента'!F23)>0,N('Изолента'!F23),N('Изолента'!G23)),N('Изолента'!G23))) -> 265.8 | G25: =IF(I25<=0,"",IF(ISNUMBER(F25),I25*F25,"по запросу")) | H25: =N('Изолента'!I23) -> 0 | I25: =IF(N(E25)>0,N(E25),H25) -> 0 | J25: =I25*IF(N('Изолента'!E23)>0,N('Изолента'!E23),N('Изолента'!G23)) -> 0 | K25: =I25*IF(N('Изолента'!F23)>0,N('Изолента'!F23),N('Изолента'!G23)) -> 0 | L25: =N(L24)+(N(I25)>0) -> 0
A26: Изолента | B26: ='Изолента'!A24&"" -> ST 1910 | C26: ='Изолента'!B24&"" -> П/э вспененный; черный, 19ммх10м, толщина 1,0мм, для молдингов, деталей интерьера, зеленый лайнер | D26: =IF('Изолента'!H24="+","есть",IF('Изолента'!H24="-","нет","")) -> есть | F26: =IF(N('Изолента'!G24)<=0,"по запросу",CHOOSE($K$3,IF(N('Изолента'!E24)>0,N('Изолента'!E24),N('Изолента'!G24)),IF(N('Изолента'!F24)>0,N('Изолента'!F24),N('Изолента'!G24)),N('Изолента'!G24))) -> 410.6 | G26: =IF(I26<=0,"",IF(ISNUMBER(F26),I26*F26,"по запросу")) | H26: =N('Изолента'!I24) -> 0 | I26: =IF(N(E26)>0,N(E26),H26) -> 0 | J26: =I26*IF(N('Изолента'!E24)>0,N('Изолента'!E24),N('Изолента'!G24)) -> 0 | K26: =I26*IF(N('Изолента'!F24)>0,N('Изолента'!F24),N('Изолента'!G24)) -> 0 | L26: =N(L25)+(N(I26)>0) -> 0
A27: Изолента | B27: ='Изолента'!A25&"" -> ST 1950 | C27: ='Изолента'!B25&"" -> П/э вспененный; черный, 19ммх50м, толщина 1,0мм, для молдингов, деталей интерьера, зеленый лайнер | D27: =IF('Изолента'!H25="+","есть",IF('Изолента'!H25="-","нет","")) -> есть | F27: =IF(N('Изолента'!G25)<=0,"по запросу",CHOOSE($K$3,IF(N('Изолента'!E25)>0,N('Изолента'!E25),N('Изолента'!G25)),IF(N('Изолента'!F25)>0,N('Изолента'!F25),N('Изолента'!G25)),N('Изолента'!G25))) -> 1755.9 | G27: =IF(I27<=0,"",IF(ISNUMBER(F27),I27*F27,"по запросу")) | H27: =N('Изолента'!I25) -> 0 | I27: =IF(N(E27)>0,N(E27),H27) -> 0 | J27: =I27*IF(N('Изолента'!E25)>0,N('Изолента'!E25),N('Изолента'!G25)) -> 0 | K27: =I27*IF(N('Изолента'!F25)>0,N('Изолента'!F25),N('Изолента'!G25)) -> 0 | L27: =N(L26)+(N(I27)>0) -> 0
A28: Изолента | B28: ='Изолента'!A26&"" -> ST2 385 | C28: ='Изолента'!B26&"" -> П/э вспененный; черный, 38ммх5м, толщина 1,0мм, для молдингов, деталей интерьера, зеленый лайнер | D28: =IF('Изолента'!H26="+","есть",IF('Изолента'!H26="-","нет","")) -> есть | F28: =IF(N('Изолента'!G26)<=0,"по запросу",CHOOSE($K$3,IF(N('Изолента'!E26)>0,N('Изолента'!E26),N('Изолента'!G26)),IF(N('Изолента'!F26)>0,N('Изолента'!F26),N('Изолента'!G26)),N('Изолента'!G26))) -> 410.6 | G28: =IF(I28<=0,"",IF(ISNUMBER(F28),I28*F28,"по запросу")) | H28: =N('Изолента'!I26) -> 0 | I28: =IF(N(E28)>0,N(E28),H28) -> 0 | J28: =I28*IF(N('Изолента'!E26)>0,N('Изолента'!E26),N('Изолента'!G26)) -> 0 | K28: =I28*IF(N('Изолента'!F26)>0,N('Изолента'!F26),N('Изолента'!G26)) -> 0 | L28: =N(L27)+(N(I28)>0) -> 0
A29: Изолента | B29: ='Изолента'!A27&"" -> ST2 3810 | C29: ='Изолента'!B27&"" -> П/э вспененный; черный, 38ммх10м, толщина 1,0мм, для молдингов, деталей интерьера, зеленый лайнер | D29: =IF('Изолента'!H27="+","есть",IF('Изолента'!H27="-","нет","")) -> есть | F29: =IF(N('Изолента'!G27)<=0,"по запросу",CHOOSE($K$3,IF(N('Изолента'!E27)>0,N('Изолента'!E27),N('Изолента'!G27)),IF(N('Изолента'!F27)>0,N('Изолента'!F27),N('Изолента'!G27)),N('Изолента'!G27))) -> 771.9 | G29: =IF(I29<=0,"",IF(ISNUMBER(F29),I29*F29,"по запросу")) | H29: =N('Изолента'!I27) -> 0 | I29: =IF(N(E29)>0,N(E29),H29) -> 0 | J29: =I29*IF(N('Изолента'!E27)>0,N('Изолента'!E27),N('Изолента'!G27)) -> 0 | K29: =I29*IF(N('Изолента'!F27)>0,N('Изолента'!F27),N('Изолента'!G27)) -> 0 | L29: =N(L28)+(N(I29)>0) -> 0
A30: Изолента | B30: ='Изолента'!A28&"" -> ST 5010 | C30: ='Изолента'!B28&"" -> П/э вспененный; черный, 50ммх10м, толщина 1,0мм, для молдингов, деталей интерьера, зеленый лайнер | D30: =IF('Изолента'!H28="+","есть",IF('Изолента'!H28="-","нет","")) -> есть | F30: =IF(N('Изолента'!G28)<=0,"по запросу",CHOOSE($K$3,IF(N('Изолента'!E28)>0,N('Изолента'!E28),N('Изолента'!G28)),IF(N('Изолента'!F28)>0,N('Изолента'!F28),N('Изолента'!G28)),N('Изолента'!G28))) -> 923.8 | G30: =IF(I30<=0,"",IF(ISNUMBER(F30),I30*F30,"по запросу")) | H30: =N('Изолента'!I28) -> 0 | I30: =IF(N(E30)>0,N(E30),H30) -> 0 | J30: =I30*IF(N('Изолента'!E28)>0,N('Изолента'!E28),N('Изолента'!G28)) -> 0 | K30: =I30*IF(N('Изолента'!F28)>0,N('Изолента'!F28),N('Изолента'!G28)) -> 0 | L30: =N(L29)+(N(I30)>0) -> 0
A31: Изолента | B31: ='Изолента'!A29&"" -> STU 910 | C31: ='Изолента'!B29&"" -> ЕВА; белый, 9ммх10м, толщина 1,6мм, для молдингов, деталей интерьера, желтый лайнер | D31: =IF('Изолента'!H29="+","есть",IF('Изолента'!H29="-","нет","")) -> есть | F31: =IF(N('Изолента'!G29)<=0,"по запросу",CHOOSE($K$3,IF(N('Изолента'!E29)>0,N('Изолента'!E29),N('Изолента'!G29)),IF(N('Изолента'!F29)>0,N('Изолента'!F29),N('Изолента'!G29)),N('Изолента'!G29))) -> 347.8 | G31: =IF(I31<=0,"",IF(ISNUMBER(F31),I31*F31,"по запросу")) | H31: =N('Изолента'!I29) -> 0 | I31: =IF(N(E31)>0,N(E31),H31) -> 0 | J31: =I31*IF(N('Изолента'!E29)>0,N('Изолента'!E29),N('Изолента'!G29)) -> 0 | K31: =I31*IF(N('Изолента'!F29)>0,N('Изолента'!F29),N('Изолента'!G29)) -> 0 | L31: =N(L30)+(N(I31)>0) -> 0
A32: Изолента | B32: ='Изолента'!A30&"" -> STU 1910 | C32: ='Изолента'!B30&"" -> ЕВА; белый, 19ммх10м, толщина 1,6мм, для молдингов, деталей интерьера, желтый лайнер | D32: =IF('Изолента'!H30="+","есть",IF('Изолента'!H30="-","нет","")) -> нет | F32: =IF(N('Изолента'!G30)<=0,"по запросу",CHOOSE($K$3,IF(N('Изолента'!E30)>0,N('Изолента'!E30),N('Изолента'!G30)),IF(N('Изолента'!F30)>0,N('Изолента'!F30),N('Изолента'!G30)),N('Изолента'!G30))) -> 711.8 | G32: =IF(I32<=0,"",IF(ISNUMBER(F32),I32*F32,"по запросу")) | H32: =N('Изолента'!I30) -> 0 | I32: =IF(N(E32)>0,N(E32),H32) -> 0 | J32: =I32*IF(N('Изолента'!E30)>0,N('Изолента'!E30),N('Изолента'!G30)) -> 0 | K32: =I32*IF(N('Изолента'!F30)>0,N('Изолента'!F30),N('Изолента'!G30)) -> 0 | L32: =N(L31)+(N(I32)>0) -> 0
A33: Изолента | B33: ='Изолента'!A31&"" -> STU 5010 | C33: ='Изолента'!B31&"" -> ЕВА; белый, 50ммх10м, толщина 1,6мм, для молдингов, деталей интерьера, желтый лайнер | D33: =IF('Изолента'!H31="+","есть",IF('Изолента'!H31="-","нет","")) -> есть | F33: =IF(N('Изолента'!G31)<=0,"по запросу",CHOOSE($K$3,IF(N('Изолента'!E31)>0,N('Изолента'!E31),N('Изолента'!G31)),IF(N('Изолента'!F31)>0,N('Изолента'!F31),N('Изолента'!G31)),N('Изолента'!G31))) -> 1836.9 | G33: =IF(I33<=0,"",IF(ISNUMBER(F33),I33*F33,"по запросу")) | H33: =N('Изолента'!I31) -> 0 | I33: =IF(N(E33)>0,N(E33),H33) -> 0 | J33: =I33*IF(N('Изолента'!E31)>0,N('Изолента'!E31),N('Изолента'!G31)) -> 0 | K33: =I33*IF(N('Изолента'!F31)>0,N('Изолента'!F31),N('Изолента'!G31)) -> 0 | L33: =N(L32)+(N(I33)>0) -> 0
A34: Изолента | B34: Изолента класса "standart" | L34: =N(L33)+(N(I34)>0) -> 0
A35: Изолента | B35: ='Изолента'!A33&"" -> IZT 1925 canvas black | C35: ='Изолента'!B33&"" -> ацетат тканый, черная, 19мм*25м, толщина 0,22мм, резиновый клей, прекрасно впитывает смолы и лаки, может использоваться для обмотки трансф.катушек | D35: =IF('Изолента'!H33="+","есть",IF('Изолента'!H33="-","нет","")) -> есть | F35: =IF(N('Изолента'!G33)<=0,"по запросу",CHOOSE($K$3,IF(N('Изолента'!E33)>0,N('Изолента'!E33),N('Изолента'!G33)),IF(N('Изолента'!F33)>0,N('Изолента'!F33),N('Изолента'!G33)),N('Изолента'!G33))) -> 674.4 | G35: =IF(I35<=0,"",IF(ISNUMBER(F35),I35*F35,"по запросу")) | H35: =N('Изолента'!I33) -> 0 | I35: =IF(N(E35)>0,N(E35),H35) -> 0 | J35: =I35*IF(N('Изолента'!E33)>0,N('Изолента'!E33),N('Изолента'!G33)) -> 0 | K35: =I35*IF(N('Изолента'!F33)>0,N('Изолента'!F33),N('Изолента'!G33)) -> 0 | L35: =N(L34)+(N(I35)>0) -> 0
A36: Изолента | B36: ='Изолента'!A34&"" -> IZT 1925 canvas white | C36: ='Изолента'!B34&"" -> ацетат тканый, белая, 19мм*25м, толщина 0,22мм, резиновый клей, прекрасно впитывает смолы и лаки, может использоваться для обмотки трансф.катушек | D36: =IF('Изолента'!H34="+","есть",IF('Изолента'!H34="-","нет","")) -> есть | F36: =IF(N('Изолента'!G34)<=0,"по запросу",CHOOSE($K$3,IF(N('Изолента'!E34)>0,N('Изолента'!E34),N('Изолента'!G34)),IF(N('Изолента'!F34)>0,N('Изолента'!F34),N('Изолента'!G34)),N('Изолента'!G34))) -> 674.4 | G36: =IF(I36<=0,"",IF(ISNUMBER(F36),I36*F36,"по запросу")) | H36: =N('Изолента'!I34) -> 0 | I36: =IF(N(E36)>0,N(E36),H36) -> 0 | J36: =I36*IF(N('Изолента'!E34)>0,N('Изолента'!E34),N('Изолента'!G34)) -> 0 | K36: =I36*IF(N('Изолента'!F34)>0,N('Изолента'!F34),N('Изолента'!G34)) -> 0 | L36: =N(L35)+(N(I36)>0) -> 0
A37: Изолента | B37: ='Изолента'!A35&"" -> IZT 1925 fabric | C37: ='Изолента'!B35&"" -> Полиэстер тканый; черная; 19ммх25м, толщина 0,25 мм, акрилатный чувствительный к давлению клей | D37: =IF('Изолента'!H35="+","есть",IF('Изолента'!H35="-","нет","")) -> есть | F37: =IF(N('Изолента'!G35)<=0,"по запросу",CHOOSE($K$3,IF(N('Изолента'!E35)>0,N('Изолента'!E35),N('Изолента'!G35)),IF(N('Изолента'!F35)>0,N('Изолента'!F35),N('Изолента'!G35)),N('Изолента'!G35))) -> 509.6 | G37: =IF(I37<=0,"",IF(ISNUMBER(F37),I37*F37,"по запросу")) | H37: =N('Изолента'!I35) -> 0 | I37: =IF(N(E37)>0,N(E37),H37) -> 0 | J37: =I37*IF(N('Изолента'!E35)>0,N('Изолента'!E35),N('Изолента'!G35)) -> 0 | K37: =I37*IF(N('Изолента'!F35)>0,N('Изолента'!F35),N('Изолента'!G35)) -> 0 | L37: =N(L36)+(N(I37)>0) -> 0
A38: Изолента | B38: ='Изолента'!A36&"" -> IZT 1925-19 fabric | C38: ='Изолента'!B36&"" -> Полиэстер тканый; черная; 19ммх25м, толщина 0,16 мм, акрилатный чувствительный к давлению клей | D38: =IF('Изолента'!H36="+","есть",IF('Изолента'!H36="-","нет","")) -> есть | F38: =IF(N('Изолента'!G36)<=0,"по запросу",CHOOSE($K$3,IF(N('Изолента'!E36)>0,N('Изолента'!E36),N('Изолента'!G36)),IF(N('Изолента'!F36)>0,N('Изолента'!F36),N('Изолента'!G36)),N('Изолента'!G36))) -> 448.3 | G38: =IF(I38<=0,"",IF(ISNUMBER(F38),I38*F38,"по запросу")) | H38: =N('Изолента'!I36) -> 0 | I38: =IF(N(E38)>0,N(E38),H38) -> 0 | J38: =I38*IF(N('Изолента'!E36)>0,N('Изолента'!E36),N('Изолента'!G36)) -> 0 | K38: =I38*IF(N('Изолента'!F36)>0,N('Изолента'!F36),N('Изолента'!G36)) -> 0 | L38: =N(L37)+(N(I38)>0) -> 0
A39: Изолента | B39: ='Изолента'!A37&"" -> IZT 1918 fleece | C39: ='Изолента'!B37&"" -> Полиэстер нетканый флис; черная; 19ммх18м, толщина 0,28 мм, синт.каучуковый клей | D39: =IF('Изолента'!H37="+","есть",IF('Изолента'!H37="-","нет","")) -> есть | F39: =IF(N('Изолента'!G37)<=0,"по запросу",CHOOSE($K$3,IF(N('Изолента'!E37)>0,N('Изолента'!E37),N('Изолента'!G37)),IF(N('Изолента'!F37)>0,N('Изолента'!F37),N('Изолента'!G37)),N('Изолента'!G37))) -> 330.2 | G39: =IF(I39<=0,"",IF(ISNUMBER(F39),I39*F39,"по запросу")) | H39: =N('Изолента'!I37) -> 0 | I39: =IF(N(E39)>0,N(E39),H39) -> 0 | J39: =I39*IF(N('Изолента'!E37)>0,N('Изолента'!E37),N('Изолента'!G37)) -> 0 | K39: =I39*IF(N('Изолента'!F37)>0,N('Изолента'!F37),N('Изолента'!G37)) -> 0 | L39: =N(L38)+(N(I39)>0) -> 0
A40: Изолента | B40: ='Изолента'!A38&"" -> IZT 1925 fleece | C40: ='Изолента'!B38&"" -> Полиэстер нетканый флис; черная; 19ммх25м, толщина 0,35 мм, акрилатный чувствительный к давлению клей | D40: =IF('Изолента'!H38="+","есть",IF('Изолента'!H38="-","нет","")) -> есть | F40: =IF(N('Изолента'!G38)<=0,"по запросу",CHOOSE($K$3,IF(N('Изолента'!E38)>0,N('Изолента'!E38),N('Изолента'!G38)),IF(N('Изолента'!F38)>0,N('Изолента'!F38),N('Изолента'!G38)),N('Изолента'!G38))) -> 464.4 | G40: =IF(I40<=0,"",IF(ISNUMBER(F40),I40*F40,"по запросу")) | H40: =N('Изолента'!I38) -> 0 | I40: =IF(N(E40)>0,N(E40),H40) -> 0 | J40: =I40*IF(N('Изолента'!E38)>0,N('Изолента'!E38),N('Изолента'!G38)) -> 0 | K40: =I40*IF(N('Изолента'!F38)>0,N('Изолента'!F38),N('Изолента'!G38)) -> 0 | L40: =N(L39)+(N(I40)>0) -> 0
A41: Изолента | B41: Профессиональные универсальные клейкие ленты | L41: =N(L40)+(N(I41)>0) -> 0
A42: Изолента | B42: Изолента класса "premium" | L42: =N(L41)+(N(I42)>0) -> 0
A43: Изолента | B43: ='Изолента'!A45&"" -> IU1K | C43: ='Изолента'!B45&"" -> ПВХ; черная; 19ммх20м, толщина 0,18 самозатухающая | D43: =IF('Изолента'!H45="+","есть",IF('Изолента'!H45="-","нет","")) -> нет | F43: =IF(N('Изолента'!G45)<=0,"по запросу",CHOOSE($K$3,IF(N('Изолента'!E45)>0,N('Изолента'!E45),N('Изолента'!G45)),IF(N('Изолента'!F45)>0,N('Изолента'!F45),N('Изолента'!G45)),N('Изолента'!G45))) -> 197 | G43: =IF(I43<=0,"",IF(ISNUMBER(F43),I43*F43,"по запросу")) | H43: =N('Изолента'!I45) -> 0 | I43: =IF(N(E43)>0,N(E43),H43) -> 0 | J43: =I43*IF(N('Изолента'!E45)>0,N('Изолента'!E45),N('Изолента'!G45)) -> 0 | K43: =I43*IF(N('Изолента'!F45)>0,N('Изолента'!F45),N('Изолента'!G45)) -> 0 | L43: =N(L42)+(N(I43)>0) -> 0
A44: Изолента | B44: ='Изолента'!A47&"" -> IC6P | C44: ='Изолента'!B47&"" -> ПВХ; черная; 19ммх20м, толщина 0,18мм, всепогодная, самозатухающая | D44: =IF('Изолента'!H47="+","есть",IF('Изолента'!H47="-","нет","")) -> есть | F44: =IF(N('Изолента'!G47)<=0,"по запросу",CHOOSE($K$3,IF(N('Изолента'!E47)>0,N('Изолента'!E47),N('Изолента'!G47)),IF(N('Изолента'!F47)>0,N('Изолента'!F47),N('Изолента'!G47)),N('Изолента'!G47))) -> 232.4 | G44: =IF(I44<=0,"",IF(ISNUMBER(F44),I44*F44,"по запросу")) | H44: =N('Изолента'!I47) -> 0 | I44: =IF(N(E44)>0,N(E44),H44) -> 0 | J44: =I44*IF(N('Изолента'!E47)>0,N('Изолента'!E47),N('Изолента'!G47)) -> 0 | K44: =I44*IF(N('Изолента'!F47)>0,N('Изолента'!F47),N('Изолента'!G47)) -> 0 | L44: =N(L43)+(N(I44)>0) -> 0
A45: Изолента | B45: ='Изолента'!A49&"" -> ICA8P | C45: ='Изолента'!B49&"" -> ПВХ; черная; 19ммх20м, толщина 0,22мм, всепогодная, самозатухающая, суперпрочная | D45: =IF('Изолента'!H49="+","есть",IF('Изолента'!H49="-","нет","")) -> нет | F45: =IF(N('Изолента'!G49)<=0,"по запросу",CHOOSE($K$3,IF(N('Изолента'!E49)>0,N('Изолента'!E49),N('Изолента'!G49)),IF(N('Изолента'!F49)>0,N('Изолента'!F49),N('Изолента'!G49)),N('Изолента'!G49))) -> 263.8 | G45: =IF(I45<=0,"",IF(ISNUMBER(F45),I45*F45,"по запросу")) | H45: =N('Изолента'!I49) -> 0 | I45: =IF(N(E45)>0,N(E45),H45) -> 0 | J45: =I45*IF(N('Изолента'!E49)>0,N('Изолента'!E49),N('Изолента'!G49)) -> 0 | K45: =I45*IF(N('Изолента'!F49)>0,N('Изолента'!F49),N('Изолента'!G49)) -> 0 | L45: =N(L44)+(N(I45)>0) -> 0
A46: Изолента | B46: ='Изолента'!A50&"" -> IZR 1910 | C46: ='Изолента'!B50&"" -> Полиизобутилен; черная; 19ммх10м,самовулканизирующаяся, толщина 0,5 мм | D46: =IF('Изолента'!H50="+","есть",IF('Изолента'!H50="-","нет","")) -> есть | F46: =IF(N('Изолента'!G50)<=0,"по запросу",CHOOSE($K$3,IF(N('Изолента'!E50)>0,N('Изолента'!E50),N('Изолента'!G50)),IF(N('Изолента'!F50)>0,N('Изолента'!F50),N('Изолента'!G50)),N('Изолента'!G50))) -> 559.8 | G46: =IF(I46<=0,"",IF(ISNUMBER(F46),I46*F46,"по запросу")) | H46: =N('Изолента'!I50) -> 0 | I46: =IF(N(E46)>0,N(E46),H46) -> 0 | J46: =I46*IF(N('Изолента'!E50)>0,N('Изолента'!E50),N('Изолента'!G50)) -> 0 | K46: =I46*IF(N('Изолента'!F50)>0,N('Изолента'!F50),N('Изолента'!G50)) -> 0 | L46: =N(L45)+(N(I46)>0) -> 0
A47: Изолента | B47: ='Изолента'!A51&"" -> IZM 381.5 | C47: ='Изолента'!B51&"" -> Виниловая мастика; черная; 38ммх1,5м, самовулканизирующаяся, толщина 2,3 мм | D47: =IF('Изолента'!H51="+","есть",IF('Изолента'!H51="-","нет","")) -> есть | F47: =IF(N('Изолента'!G51)<=0,"по запросу",CHOOSE($K$3,IF(N('Изолента'!E51)>0,N('Изолента'!E51),N('Изолента'!G51)),IF(N('Изолента'!F51)>0,N('Изолента'!F51),N('Изолента'!G51)),N('Изолента'!G51))) -> 511.4 | G47: =IF(I47<=0,"",IF(ISNUMBER(F47),I47*F47,"по запросу")) | H47: =N('Изолента'!I51) -> 0 | I47: =IF(N(E47)>0,N(E47),H47) -> 0 | J47: =I47*IF(N('Изолента'!E51)>0,N('Изолента'!E51),N('Изолента'!G51)) -> 0 | K47: =I47*IF(N('Изолента'!F51)>0,N('Изолента'!F51),N('Изолента'!G51)) -> 0 | L47: =N(L46)+(N(I47)>0) -> 0
A48: Изолента | B48: ='Изолента'!A52&"" -> IZRM 513 | C48: ='Изолента'!B52&"" -> Резиновая мастика; черная; 51ммх3м, самовулканизирующаяся, толщина 1,65 мм | D48: =IF('Изолента'!H52="+","есть",IF('Изолента'!H52="-","нет","")) -> есть | F48: =IF(N('Изолента'!G52)<=0,"по запросу",CHOOSE($K$3,IF(N('Изолента'!E52)>0,N('Изолента'!E52),N('Изолента'!G52)),IF(N('Изолента'!F52)>0,N('Изолента'!F52),N('Изолента'!G52)),N('Изолента'!G52))) -> 885.3 | G48: =IF(I48<=0,"",IF(ISNUMBER(F48),I48*F48,"по запросу")) | H48: =N('Изолента'!I52) -> 0 | I48: =IF(N(E48)>0,N(E48),H48) -> 0 | J48: =I48*IF(N('Изолента'!E52)>0,N('Изолента'!E52),N('Изолента'!G52)) -> 0 | K48: =I48*IF(N('Изолента'!F52)>0,N('Изолента'!F52),N('Изолента'!G52)) -> 0 | L48: =N(L47)+(N(I48)>0) -> 0
A49: Изолента | B49: ='Изолента'!A53&"" -> Tarband 19мм х 25м | C49: ='Изолента'!B53&"" -> Перкаль; черная; 19ммх25м, двусторонняя, толщина 0,35мм, клей на основе смол | D49: =IF('Изолента'!H53="+","есть",IF('Изолента'!H53="-","нет","")) -> есть | F49: =IF(N('Изолента'!G53)<=0,"по запросу",CHOOSE($K$3,IF(N('Изолента'!E53)>0,N('Изолента'!E53),N('Изолента'!G53)),IF(N('Изолента'!F53)>0,N('Изолента'!F53),N('Изолента'!G53)),N('Изолента'!G53))) -> 213.3 | G49: =IF(I49<=0,"",IF(ISNUMBER(F49),I49*F49,"по запросу")) | H49: =N('Изолента'!I53) -> 0 | I49: =IF(N(E49)>0,N(E49),H49) -> 0 | J49: =I49*IF(N('Изолента'!E53)>0,N('Изолента'!E53),N('Изолента'!G53)) -> 0 | K49: =I49*IF(N('Изолента'!F53)>0,N('Изолента'!F53),N('Изолента'!G53)) -> 0 | L49: =N(L48)+(N(I49)>0) -> 0
A50: Изолента | B50: Изолента класса "standart" | L50: =N(L49)+(N(I50)>0) -> 0
A51: Изолента | B51: ='Изолента'!A55&"" -> IZ 1510FR | C51: ='Изолента'!B55&"" -> ПВХ; черная; 15ммх10м, толщина 0,12мм; самозатухающая | D51: =IF('Изолента'!H55="+","есть",IF('Изолента'!H55="-","нет","")) -> есть | F51: =IF(N('Изолента'!G55)<=0,"по запросу",CHOOSE($K$3,IF(N('Изолента'!E55)>0,N('Изолента'!E55),N('Изолента'!G55)),IF(N('Изолента'!F55)>0,N('Изолента'!F55),N('Изолента'!G55)),N('Изолента'!G55))) -> 66.8 | G51: =IF(I51<=0,"",IF(ISNUMBER(F51),I51*F51,"по запросу")) | H51: =N('Изолента'!I55) -> 0 | I51: =IF(N(E51)>0,N(E51),H51) -> 0 | J51: =I51*IF(N('Изолента'!E55)>0,N('Изолента'!E55),N('Изолента'!G55)) -> 0 | K51: =I51*IF(N('Изолента'!F55)>0,N('Изолента'!F55),N('Изолента'!G55)) -> 0 | L51: =N(L50)+(N(I51)>0) -> 0
A52: Изолента | B52: ='Изолента'!A58&"" -> IZ 1918FR | C52: ='Изолента'!B58&"" -> ПВХ; черная; 19ммх18,3м, толщина 0,12мм; самозатухающая | D52: =IF('Изолента'!H58="+","есть",IF('Изолента'!H58="-","нет","")) -> есть | F52: =IF(N('Изолента'!G58)<=0,"по запросу",CHOOSE($K$3,IF(N('Изолента'!E58)>0,N('Изолента'!E58),N('Изолента'!G58)),IF(N('Изолента'!F58)>0,N('Изолента'!F58),N('Изолента'!G58)),N('Изолента'!G58))) -> 127.5 | G52: =IF(I52<=0,"",IF(ISNUMBER(F52),I52*F52,"по запросу")) | H52: =N('Изолента'!I58) -> 0 | I52: =IF(N(E52)>0,N(E52),H52) -> 0 | J52: =I52*IF(N('Изолента'!E58)>0,N('Изолента'!E58),N('Изолента'!G58)) -> 0 | K52: =I52*IF(N('Изолента'!F58)>0,N('Изолента'!F58),N('Изолента'!G58)) -> 0 | L52: =N(L51)+(N(I52)>0) -> 0
A53: Изолента | B53: ='Изолента'!A60&"" -> 00545 | C53: ='Изолента'!B60&"" -> ПВХ; черная; 19ммх25м, толщина 0,13мм, самозатухающая | D53: =IF('Изолента'!H60="+","есть",IF('Изолента'!H60="-","нет","")) -> есть | F53: =IF(N('Изолента'!G60)<=0,"по запросу",CHOOSE($K$3,IF(N('Изолента'!E60)>0,N('Изолента'!E60),N('Изолента'!G60)),IF(N('Изолента'!F60)>0,N('Изолента'!F60),N('Изолента'!G60)),N('Изолента'!G60))) -> 142.7 | G53: =IF(I53<=0,"",IF(ISNUMBER(F53),I53*F53,"по запросу")) | H53: =N('Изолента'!I60) -> 0 | I53: =IF(N(E53)>0,N(E53),H53) -> 0 | J53: =I53*IF(N('Изолента'!E60)>0,N('Изолента'!E60),N('Изолента'!G60)) -> 0 | K53: =I53*IF(N('Изолента'!F60)>0,N('Изолента'!F60),N('Изолента'!G60)) -> 0 | L53: =N(L52)+(N(I53)>0) -> 0
A54: Изолента | B54: ='Изолента'!A61&"" -> Titan 19мм*10м, ПВХ, водостойкая | C54: ='Изолента'!B61&"" -> ПВХ; прозрачная; 19ммх10м, толщина 0,13мм, водостойкая | D54: =IF('Изолента'!H61="+","есть",IF('Изолента'!H61="-","нет","")) -> есть | F54: =IF(N('Изолента'!G61)<=0,"по запросу",CHOOSE($K$3,IF(N('Изолента'!E61)>0,N('Изолента'!E61),N('Изолента'!G61)),IF(N('Изолента'!F61)>0,N('Изолента'!F61),N('Изолента'!G61)),N('Изолента'!G61))) -> 61.7 | G54: =IF(I54<=0,"",IF(ISNUMBER(F54),I54*F54,"по запросу")) | H54: =N('Изолента'!I61) -> 0 | I54: =IF(N(E54)>0,N(E54),H54) -> 0 | J54: =I54*IF(N('Изолента'!E61)>0,N('Изолента'!E61),N('Изолента'!G61)) -> 0 | K54: =I54*IF(N('Изолента'!F61)>0,N('Изолента'!F61),N('Изолента'!G61)) -> 0 | L54: =N(L53)+(N(I54)>0) -> 0
A55: Изолента | B55: ='Изолента'!A62&"" -> Titan 19мм*20м, ПВХ, черная | C55: ='Изолента'!B62&"" -> ПВХ; черная; 19ммх20м, толщина 0,13мм, огнеупорная | D55: =IF('Изолента'!H62="+","есть",IF('Изолента'!H62="-","нет","")) -> есть | F55: =IF(N('Изолента'!G62)<=0,"по запросу",CHOOSE($K$3,IF(N('Изолента'!E62)>0,N('Изолента'!E62),N('Изолента'!G62)),IF(N('Изолента'!F62)>0,N('Изолента'!F62),N('Изолента'!G62)),N('Изолента'!G62))) -> 111.1 | G55: =IF(I55<=0,"",IF(ISNUMBER(F55),I55*F55,"по запросу")) | H55: =N('Изолента'!I62) -> 0 | I55: =IF(N(E55)>0,N(E55),H55) -> 0 | J55: =I55*IF(N('Изолента'!E62)>0,N('Изолента'!E62),N('Изолента'!G62)) -> 0 | K55: =I55*IF(N('Изолента'!F62)>0,N('Изолента'!F62),N('Изолента'!G62)) -> 0 | L55: =N(L54)+(N(I55)>0) -> 0
A56: Изолента | B56: ='Изолента'!A64&"" -> Titan KINGSIZE 50мм*30м, ПВХ, черная | C56: ='Изолента'!B64&"" -> ПВХ; черная; 50ммх30м, толщина 0,13мм, огнеупорная | D56: =IF('Изолента'!H64="+","есть",IF('Изолента'!H64="-","нет","")) -> есть | F56: =IF(N('Изолента'!G64)<=0,"по запросу",CHOOSE($K$3,IF(N('Изолента'!E64)>0,N('Изолента'!E64),N('Изолента'!G64)),IF(N('Изолента'!F64)>0,N('Изолента'!F64),N('Изолента'!G64)),N('Изолента'!G64))) -> 261.7 | G56: =IF(I56<=0,"",IF(ISNUMBER(F56),I56*F56,"по запросу")) | H56: =N('Изолента'!I64) -> 0 | I56: =IF(N(E56)>0,N(E56),H56) -> 0 | J56: =I56*IF(N('Изолента'!E64)>0,N('Изолента'!E64),N('Изолента'!G64)) -> 0 | K56: =I56*IF(N('Изолента'!F64)>0,N('Изолента'!F64),N('Изолента'!G64)) -> 0 | L56: =N(L55)+(N(I56)>0) -> 0
A57: Изолента | B57: Скотч односторонний упаковочный | L57: =N(L56)+(N(I57)>0) -> 0
A58: Изолента | B58: ='Изолента'!A66&"" -> UP4850 (прозрачный) | C58: ='Изолента'!B66&"" -> П/э; прозрачный; скотч упаковочный 48мм х 50м, толщина 0,45мм | D58: =IF('Изолента'!H66="+","есть",IF('Изолента'!H66="-","нет","")) -> есть | F58: =IF(N('Изолента'!G66)<=0,"по запросу",CHOOSE($K$3,IF(N('Изолента'!E66)>0,N('Изолента'!E66),N('Изолента'!G66)),IF(N('Изолента'!F66)>0,N('Изолента'!F66),N('Изолента'!G66)),N('Изолента'!G66))) -> 105.3 | G58: =IF(I58<=0,"",IF(ISNUMBER(F58),I58*F58,"по запросу")) | H58: =N('Изолента'!I66) -> 0 | I58: =IF(N(E58)>0,N(E58),H58) -> 0 | J58: =I58*IF(N('Изолента'!E66)>0,N('Изолента'!E66),N('Изолента'!G66)) -> 0 | K58: =I58*IF(N('Изолента'!F66)>0,N('Изолента'!F66),N('Изолента'!G66)) -> 0 | L58: =N(L57)+(N(I58)>0) -> 0
A59: Изолента | B59: Ленты специального назначения | L59: =N(L58)+(N(I59)>0) -> 0
A60: Изолента | B60: ='Изолента'!A68&"" -> ALU 4550 | C60: ='Изолента'!B68&"" -> Алюминиевая фольга с клеящим слоем, защищенным силиконизированной бумажной подложкой; 45мм*50м; для защиты и герметизации швов водосточных труб, воздуховодов | D60: =IF('Изолента'!H68="+","есть",IF('Изолента'!H68="-","нет","")) -> есть | F60: =IF(N('Изолента'!G68)<=0,"по запросу",CHOOSE($K$3,IF(N('Изолента'!E68)>0,N('Изолента'!E68),N('Изолента'!G68)),IF(N('Изолента'!F68)>0,N('Изолента'!F68),N('Изолента'!G68)),N('Изолента'!G68))) -> 523.2 | G60: =IF(I60<=0,"",IF(ISNUMBER(F60),I60*F60,"по запросу")) | H60: =N('Изолента'!I68) -> 0 | I60: =IF(N(E60)>0,N(E60),H60) -> 0 | J60: =I60*IF(N('Изолента'!E68)>0,N('Изолента'!E68),N('Изолента'!G68)) -> 0 | K60: =I60*IF(N('Изолента'!F68)>0,N('Изолента'!F68),N('Изолента'!G68)) -> 0 | L60: =N(L59)+(N(I60)>0) -> 0
A61: Изолента | B61: ='Изолента'!A69&"" -> ALU 4840 | C61: ='Изолента'!B69&"" -> Алюминиевая фольга с клеящим слоем, защищенным силиконизированной бумажной подложкой; 48мм*40м; 20 мкм; для защиты и герметизации швов водосточных труб, воздуховодов | D61: =IF('Изолента'!H69="+","есть",IF('Изолента'!H69="-","нет","")) -> есть | F61: =IF(N('Изолента'!G69)<=0,"по запросу",CHOOSE($K$3,IF(N('Изолента'!E69)>0,N('Изолента'!E69),N('Изолента'!G69)),IF(N('Изолента'!F69)>0,N('Изолента'!F69),N('Изолента'!G69)),N('Изолента'!G69))) -> 508 | G61: =IF(I61<=0,"",IF(ISNUMBER(F61),I61*F61,"по запросу")) | H61: =N('Изолента'!I69) -> 0 | I61: =IF(N(E61)>0,N(E61),H61) -> 0 | J61: =I61*IF(N('Изолента'!E69)>0,N('Изолента'!E69),N('Изолента'!G69)) -> 0 | K61: =I61*IF(N('Изолента'!F69)>0,N('Изолента'!F69),N('Изолента'!G69)) -> 0 | L61: =N(L60)+(N(I61)>0) -> 0
A62: Изолента | B62: ='Изолента'!A70&"" -> ARM 4833 | C62: ='Изолента'!B70&"" -> Ткань ламинированная полиэтиленом; серый; 48ммх33м; толщина 180мк; для временного ремонта, упаковки, обертывания труб | D62: =IF('Изолента'!H70="+","есть",IF('Изолента'!H70="-","нет","")) -> есть | F62: =IF(N('Изолента'!G70)<=0,"по запросу",CHOOSE($K$3,IF(N('Изолента'!E70)>0,N('Изолента'!E70),N('Изолента'!G70)),IF(N('Изолента'!F70)>0,N('Изолента'!F70),N('Изолента'!G70)),N('Изолента'!G70))) -> 316.1 | G62: =IF(I62<=0,"",IF(ISNUMBER(F62),I62*F62,"по запросу")) | H62: =N('Изолента'!I70) -> 0 | I62: =IF(N(E62)>0,N(E62),H62) -> 0 | J62: =I62*IF(N('Изолента'!E70)>0,N('Изолента'!E70),N('Изолента'!G70)) -> 0 | K62: =I62*IF(N('Изолента'!F70)>0,N('Изолента'!F70),N('Изолента'!G70)) -> 0 | L62: =N(L61)+(N(I62)>0) -> 0
A63: Изолента | B63: ='Изолента'!A71&"" -> JNOBE 5050 | C63: ='Изолента'!B71&"" -> Алюминевая лента на полипропиленовой основе; 50мм*50м; для соединения панелей, герметизации соединительных швов | D63: =IF('Изолента'!H71="+","есть",IF('Изолента'!H71="-","нет","")) -> есть | F63: =IF(N('Изолента'!G71)<=0,"по запросу",CHOOSE($K$3,IF(N('Изолента'!E71)>0,N('Изолента'!E71),N('Изолента'!G71)),IF(N('Изолента'!F71)>0,N('Изолента'!F71),N('Изолента'!G71)),N('Изолента'!G71))) -> 138.2 | G63: =IF(I63<=0,"",IF(ISNUMBER(F63),I63*F63,"по запросу")) | H63: =N('Изолента'!I71) -> 0 | I63: =IF(N(E63)>0,N(E63),H63) -> 0 | J63: =I63*IF(N('Изолента'!E71)>0,N('Изолента'!E71),N('Изолента'!G71)) -> 0 | K63: =I63*IF(N('Изолента'!F71)>0,N('Изолента'!F71),N('Изолента'!G71)) -> 0 | L63: =N(L62)+(N(I63)>0) -> 0
A64: Изолента | B64: ='Изолента'!A72&"" -> DT 4830 черн. | C64: ='Изолента'!B72&"" -> ПВХ с нанесенным на одну сторону термоустойчивым резиновым клеем; черная; 48мм*30м, толщина 0,12мм; лента для труб | D64: =IF('Изолента'!H72="+","есть",IF('Изолента'!H72="-","нет","")) -> есть | F64: =IF(N('Изолента'!G72)<=0,"по запросу",CHOOSE($K$3,IF(N('Изолента'!E72)>0,N('Изолента'!E72),N('Изолента'!G72)),IF(N('Изолента'!F72)>0,N('Изолента'!F72),N('Изолента'!G72)),N('Изолента'!G72))) -> 246.1 | G64: =IF(I64<=0,"",IF(ISNUMBER(F64),I64*F64,"по запросу")) | H64: =N('Изолента'!I72) -> 0 | I64: =IF(N(E64)>0,N(E64),H64) -> 0 | J64: =I64*IF(N('Изолента'!E72)>0,N('Изолента'!E72),N('Изолента'!G72)) -> 0 | K64: =I64*IF(N('Изолента'!F72)>0,N('Изолента'!F72),N('Изолента'!G72)) -> 0 | L64: =N(L63)+(N(I64)>0) -> 0
A65: Изолента | B65: ='Изолента'!A73&"" -> DT 4830 серая | C65: ='Изолента'!B73&"" -> ПВХ с нанесенным на одну сторону термоустойчивым резиновым клеем; серая; 48мм*30м, толщина 0,12мм; лента для труб | D65: =IF('Изолента'!H73="+","есть",IF('Изолента'!H73="-","нет","")) -> есть | F65: =IF(N('Изолента'!G73)<=0,"по запросу",CHOOSE($K$3,IF(N('Изолента'!E73)>0,N('Изолента'!E73),N('Изолента'!G73)),IF(N('Изолента'!F73)>0,N('Изолента'!F73),N('Изолента'!G73)),N('Изолента'!G73))) -> 246.1 | G65: =IF(I65<=0,"",IF(ISNUMBER(F65),I65*F65,"по запросу")) | H65: =N('Изолента'!I73) -> 0 | I65: =IF(N(E65)>0,N(E65),H65) -> 0 | J65: =I65*IF(N('Изолента'!E73)>0,N('Изолента'!E73),N('Изолента'!G73)) -> 0 | K65: =I65*IF(N('Изолента'!F73)>0,N('Изолента'!F73),N('Изолента'!G73)) -> 0 | L65: =N(L64)+(N(I65)>0) -> 0
A66: Изолента | B66: ='Изолента'!A74&"" -> WT 5033 black/yellow | C66: ='Изолента'!B74&"" -> ПВХ; черн./желт.; 50мм*33м, толщина 0,15мм; предупредительная лента с клейким слоем, для ограждения и маркирования опасных зон | D66: =IF('Изолента'!H74="+","есть",IF('Изолента'!H74="-","нет","")) -> есть | F66: =IF(N('Изолента'!G74)<=0,"по запросу",CHOOSE($K$3,IF(N('Изолента'!E74)>0,N('Изолента'!E74),N('Изолента'!G74)),IF(N('Изолента'!F74)>0,N('Изолента'!F74),N('Изолента'!G74)),N('Изолента'!G74))) -> 322.4 | G66: =IF(I66<=0,"",IF(ISNUMBER(F66),I66*F66,"по запросу")) | H66: =N('Изолента'!I74) -> 0 | I66: =IF(N(E66)>0,N(E66),H66) -> 0 | J66: =I66*IF(N('Изолента'!E74)>0,N('Изолента'!E74),N('Изолента'!G74)) -> 0 | K66: =I66*IF(N('Изолента'!F74)>0,N('Изолента'!F74),N('Изолента'!G74)) -> 0 | L66: =N(L65)+(N(I66)>0) -> 0
A67: Изолента | B67: ='Изолента'!A75&"" -> WT 5033 red/white | C67: ='Изолента'!B75&"" -> ПВХ; красн./бел.; 50мм*33м, толщина 0,15мм; предупредительная лента с клейким слоем, для ограждения и маркирования опасных зон | D67: =IF('Изолента'!H75="+","есть",IF('Изолента'!H75="-","нет","")) -> есть | F67: =IF(N('Изолента'!G75)<=0,"по запросу",CHOOSE($K$3,IF(N('Изолента'!E75)>0,N('Изолента'!E75),N('Изолента'!G75)),IF(N('Изолента'!F75)>0,N('Изолента'!F75),N('Изолента'!G75)),N('Изолента'!G75))) -> 322.4 | G67: =IF(I67<=0,"",IF(ISNUMBER(F67),I67*F67,"по запросу")) | H67: =N('Изолента'!I75) -> 0 | I67: =IF(N(E67)>0,N(E67),H67) -> 0 | J67: =I67*IF(N('Изолента'!E75)>0,N('Изолента'!E75),N('Изолента'!G75)) -> 0 | K67: =I67*IF(N('Изолента'!F75)>0,N('Изолента'!F75),N('Изолента'!G75)) -> 0 | L67: =N(L66)+(N(I67)>0) -> 0
A68: Изолента | B68: ='Изолента'!A76&"" -> WTN 50200 red/white | C68: ='Изолента'!B76&"" -> П/э без клеевого слоя; красн./бел.; 50ммх200м; толщина 50мк, для ограждения и маркирования опасных зон | D68: =IF('Изолента'!H76="+","есть",IF('Изолента'!H76="-","нет","")) -> есть | F68: =IF(N('Изолента'!G76)<=0,"по запросу",CHOOSE($K$3,IF(N('Изолента'!E76)>0,N('Изолента'!E76),N('Изолента'!G76)),IF(N('Изолента'!F76)>0,N('Изолента'!F76),N('Изолента'!G76)),N('Изолента'!G76))) -> 172.9 | G68: =IF(I68<=0,"",IF(ISNUMBER(F68),I68*F68,"по запросу")) | H68: =N('Изолента'!I76) -> 0 | I68: =IF(N(E68)>0,N(E68),H68) -> 0 | J68: =I68*IF(N('Изолента'!E76)>0,N('Изолента'!E76),N('Изолента'!G76)) -> 0 | K68: =I68*IF(N('Изолента'!F76)>0,N('Изолента'!F76),N('Изолента'!G76)) -> 0 | L68: =N(L67)+(N(I68)>0) -> 0
A69: Изолента | B69: ='Изолента'!A77&"" -> AST 5050 clear | C69: ='Изолента'!B77&"" -> противоскользящая лента 50мм*50м, прозрачная | D69: =IF('Изолента'!H77="+","есть",IF('Изолента'!H77="-","нет","")) -> есть | F69: =IF(N('Изолента'!G77)<=0,"по запросу",CHOOSE($K$3,IF(N('Изолента'!E77)>0,N('Изолента'!E77),N('Изолента'!G77)),IF(N('Изолента'!F77)>0,N('Изолента'!F77),N('Изолента'!G77)),N('Изолента'!G77))) -> 3005.1 | G69: =IF(I69<=0,"",IF(ISNUMBER(F69),I69*F69,"по запросу")) | H69: =N('Изолента'!I77) -> 0 | I69: =IF(N(E69)>0,N(E69),H69) -> 0 | J69: =I69*IF(N('Изолента'!E77)>0,N('Изолента'!E77),N('Изолента'!G77)) -> 0 | K69: =I69*IF(N('Изолента'!F77)>0,N('Изолента'!F77),N('Изолента'!G77)) -> 0 | L69: =N(L68)+(N(I69)>0) -> 0
A70: Изолента | B70: ='Изолента'!A78&"" -> AST 5050 lumin | C70: ='Изолента'!B78&"" -> противоскользящая лента 50мм*50м, люминесцентная | D70: =IF('Изолента'!H78="+","есть",IF('Изолента'!H78="-","нет","")) -> есть | F70: =IF(N('Изолента'!G78)<=0,"по запросу",CHOOSE($K$3,IF(N('Изолента'!E78)>0,N('Изолента'!E78),N('Изолента'!G78)),IF(N('Изолента'!F78)>0,N('Изолента'!F78),N('Изолента'!G78)),N('Изолента'!G78))) -> 6492.4 | G70: =IF(I70<=0,"",IF(ISNUMBER(F70),I70*F70,"по запросу")) | H70: =N('Изолента'!I78) -> 0 | I70: =IF(N(E70)>0,N(E70),H70) -> 0 | J70: =I70*IF(N('Изолента'!E78)>0,N('Изолента'!E78),N('Изолента'!G78)) -> 0 | K70: =I70*IF(N('Изолента'!F78)>0,N('Изолента'!F78),N('Изолента'!G78)) -> 0 | L70: =N(L69)+(N(I70)>0) -> 0
A71: Изолента | B71: ='Изолента'!A79&"" -> AST 5050w grey | C71: ='Изолента'!B79&"" -> противоскользящая лента 50мм*50м, для влажных мест, серая | D71: =IF('Изолента'!H79="+","есть",IF('Изолента'!H79="-","нет","")) -> есть | F71: =IF(N('Изолента'!G79)<=0,"по запросу",CHOOSE($K$3,IF(N('Изолента'!E79)>0,N('Изолента'!E79),N('Изолента'!G79)),IF(N('Изолента'!F79)>0,N('Изолента'!F79),N('Изолента'!G79)),N('Изолента'!G79))) -> 7135.1 | G71: =IF(I71<=0,"",IF(ISNUMBER(F71),I71*F71,"по запросу")) | H71: =N('Изолента'!I79) -> 0 | I71: =IF(N(E71)>0,N(E71),H71) -> 0 | J71: =I71*IF(N('Изолента'!E79)>0,N('Изолента'!E79),N('Изолента'!G79)) -> 0 | K71: =I71*IF(N('Изолента'!F79)>0,N('Изолента'!F79),N('Изолента'!G79)) -> 0 | L71: =N(L70)+(N(I71)>0) -> 0
A72: Изолента цвета | L72: =N(L71)+(N(I72)>0) -> 0
A73: Изолента цвета | B73: КЛЕЙКИЕ ЛЕНТЫ | L73: =N(L72)+(N(I73)>0) -> 0
A74: Изолента цвета | B74: Автомобильные клейкие ленты широкого применения | L74: =N(L73)+(N(I74)>0) -> 0
A75: Изолента цвета | B75: Изолента класса "standart" | L75: =N(L74)+(N(I75)>0) -> 0
A76: Изолента цвета | B76: ='Изолента цвета'!A10&"" -> IZT 1919 fabric DUO black & orange | C76: ='Изолента цвета'!B10&"" -> Полиэстер тканый; набор: черная + оранжевая; 19ммх19м, толщина 0,18 мм; акрилатный чувствительный к давлению клей | D76: =IF('Изолента цвета'!H10="+","есть",IF('Изолента цвета'!H10="-","нет","")) -> есть | F76: =IF(N('Изолента цвета'!G10)<=0,"по запросу",CHOOSE($K$3,IF(N('Изолента цвета'!E10)>0,N('Изолента цвета'!E10),N('Изолента цвета'!G10)),IF(N('Изолента цвета'!F10)>0,N('Изолента цвета'!F10),N('Изолента цвета'!G10)),N('Изолента цвета'!G10))) -> 516 | G76: =IF(I76<=0,"",IF(ISNUMBER(F76),I76*F76,"по запросу")) | H76: =N('Изолента цвета'!I10) -> 0 | I76: =IF(N(E76)>0,N(E76),H76) -> 0 | J76: =I76*IF(N('Изолента цвета'!E10)>0,N('Изолента цвета'!E10),N('Изолента цвета'!G10)) -> 0 | K76: =I76*IF(N('Изолента цвета'!F10)>0,N('Изолента цвета'!F10),N('Изолента цвета'!G10)) -> 0 | L76: =N(L75)+(N(I76)>0) -> 0
A77: Изолента цвета | B77: Профессиональные универсальные клейкие ленты | L77: =N(L76)+(N(I77)>0) -> 0
A78: Изолента цвета | B78: Изолента класса "premium" | L78: =N(L77)+(N(I78)>0) -> 0
A79: Изолента цвета | B79: ='Изолента цвета'!A13&"" -> IU1K red | C79: ='Изолента цвета'!B13&"" -> ПВХ; красная; 19ммх20м, толщина 0,18 самозатухающая | D79: =IF('Изолента цвета'!H13="+","есть",IF('Изолента цвета'!H13="-","нет","")) -> есть | F79: =IF(N('Изолента цвета'!G13)<=0,"по запросу",CHOOSE($K$3,IF(N('Изолента цвета'!E13)>0,N('Изолента цвета'!E13),N('Изолента цвета'!G13)),IF(N('Изолента цвета'!F13)>0,N('Изолента цвета'!F13),N('Изолента цвета'!G13)),N('Изолента цвета'!G13))) -> 197 | G79: =IF(I79<=0,"",IF(ISNUMBER(F79),I79*F79,"по запросу")) | H79: =N('Изолента цвета'!I13) -> 0 | I79: =IF(N(E79)>0,N(E79),H79) -> 0 | J79: =I79*IF(N('Изолента цвета'!E13)>0,N('Изолента цвета'!E13),N('Изолента цвета'!G13)) -> 0 | K79: =I79*IF(N('Изолента цвета'!F13)>0,N('Изолента цвета'!F13),N('Изолента цвета'!G13)) -> 0 | L79: =N(L78)+(N(I79)>0) -> 0
A80: Изолента цвета | B80: ='Изолента цвета'!A14&"" -> IU1K orange | C80: ='Изолента цвета'!B14&"" -> ПВХ; оранжевая; 19ммх20м, толщина 0,18 самозатухающая | D80: =IF('Изолента цвета'!H14="+","есть",IF('Изолента цвета'!H14="-","нет","")) -> есть | F80: =IF(N('Изолента цвета'!G14)<=0,"по запросу",CHOOSE($K$3,IF(N('Изолента цвета'!E14)>0,N('Изолента цвета'!E14),N('Изолента цвета'!G14)),IF(N('Изолента цвета'!F14)>0,N('Изолента цвета'!F14),N('Изолента цвета'!G14)),N('Изолента цвета'!G14))) -> 197 | G80: =IF(I80<=0,"",IF(ISNUMBER(F80),I80*F80,"по запросу")) | H80: =N('Изолента цвета'!I14) -> 0 | I80: =IF(N(E80)>0,N(E80),H80) -> 0 | J80: =I80*IF(N('Изолента цвета'!E14)>0,N('Изолента цвета'!E14),N('Изолента цвета'!G14)) -> 0 | K80: =I80*IF(N('Изолента цвета'!F14)>0,N('Изолента цвета'!F14),N('Изолента цвета'!G14)) -> 0 | L80: =N(L79)+(N(I80)>0) -> 0
A81: Изолента цвета | B81: ='Изолента цвета'!A15&"" -> IU1K yellow | C81: ='Изолента цвета'!B15&"" -> ПВХ; желтая; 19ммх20м, толщина 0,18 самозатухающая | D81: =IF('Изолента цвета'!H15="+","есть",IF('Изолента цвета'!H15="-","нет","")) -> есть | F81: =IF(N('Изолента цвета'!G15)<=0,"по запросу",CHOOSE($K$3,IF(N('Изолента цвета'!E15)>0,N('Изолента цвета'!E15),N('Изолента цвета'!G15)),IF(N('Изолента цвета'!F15)>0,N('Изолента цвета'!F15),N('Изолента цвета'!G15)),N('Изолента цвета'!G15))) -> 197 | G81: =IF(I81<=0,"",IF(ISNUMBER(F81),I81*F81,"по запросу")) | H81: =N('Изолента цвета'!I15) -> 0 | I81: =IF(N(E81)>0,N(E81),H81) -> 0 | J81: =I81*IF(N('Изолента цвета'!E15)>0,N('Изолента цвета'!E15),N('Изолента цвета'!G15)) -> 0 | K81: =I81*IF(N('Изолента цвета'!F15)>0,N('Изолента цвета'!F15),N('Изолента цвета'!G15)) -> 0 | L81: =N(L80)+(N(I81)>0) -> 0
A82: Изолента цвета | B82: ='Изолента цвета'!A16&"" -> IU1K green | C82: ='Изолента цвета'!B16&"" -> ПВХ; зеленая; 19ммх20м, толщина 0,18 самозатухающая | D82: =IF('Изолента цвета'!H16="+","есть",IF('Изолента цвета'!H16="-","нет","")) -> есть | F82: =IF(N('Изолента цвета'!G16)<=0,"по запросу",CHOOSE($K$3,IF(N('Изолента цвета'!E16)>0,N('Изолента цвета'!E16),N('Изолента цвета'!G16)),IF(N('Изолента цвета'!F16)>0,N('Изолента цвета'!F16),N('Изолента цвета'!G16)),N('Изолента цвета'!G16))) -> 197 | G82: =IF(I82<=0,"",IF(ISNUMBER(F82),I82*F82,"по запросу")) | H82: =N('Изолента цвета'!I16) -> 0 | I82: =IF(N(E82)>0,N(E82),H82) -> 0 | J82: =I82*IF(N('Изолента цвета'!E16)>0,N('Изолента цвета'!E16),N('Изолента цвета'!G16)) -> 0 | K82: =I82*IF(N('Изолента цвета'!F16)>0,N('Изолента цвета'!F16),N('Изолента цвета'!G16)) -> 0 | L82: =N(L81)+(N(I82)>0) -> 0
A83: Изолента цвета | B83: ='Изолента цвета'!A17&"" -> IU1K blue | C83: ='Изолента цвета'!B17&"" -> ПВХ; синяя; 19ммх20м, толщина 0,18 самозатухающая | D83: =IF('Изолента цвета'!H17="+","есть",IF('Изолента цвета'!H17="-","нет","")) -> есть | F83: =IF(N('Изолента цвета'!G17)<=0,"по запросу",CHOOSE($K$3,IF(N('Изолента цвета'!E17)>0,N('Изолента цвета'!E17),N('Изолента цвета'!G17)),IF(N('Изолента цвета'!F17)>0,N('Изолента цвета'!F17),N('Изолента цвета'!G17)),N('Изолента цвета'!G17))) -> 197 | G83: =IF(I83<=0,"",IF(ISNUMBER(F83),I83*F83,"по запросу")) | H83: =N('Изолента цвета'!I17) -> 0 | I83: =IF(N(E83)>0,N(E83),H83) -> 0 | J83: =I83*IF(N('Изолента цвета'!E17)>0,N('Изолента цвета'!E17),N('Изолента цвета'!G17)) -> 0 | K83: =I83*IF(N('Изолента цвета'!F17)>0,N('Изолента цвета'!F17),N('Изолента цвета'!G17)) -> 0 | L83: =N(L82)+(N(I83)>0) -> 0
A84: Изолента цвета | B84: ='Изолента цвета'!A18&"" -> IU1K white | C84: ='Изолента цвета'!B18&"" -> ПВХ; белая; 19ммх20м, толщина 0,18 самозатухающая | D84: =IF('Изолента цвета'!H18="+","есть",IF('Изолента цвета'!H18="-","нет","")) -> есть | F84: =IF(N('Изолента цвета'!G18)<=0,"по запросу",CHOOSE($K$3,IF(N('Изолента цвета'!E18)>0,N('Изолента цвета'!E18),N('Изолента цвета'!G18)),IF(N('Изолента цвета'!F18)>0,N('Изолента цвета'!F18),N('Изолента цвета'!G18)),N('Изолента цвета'!G18))) -> 197 | G84: =IF(I84<=0,"",IF(ISNUMBER(F84),I84*F84,"по запросу")) | H84: =N('Изолента цвета'!I18) -> 0 | I84: =IF(N(E84)>0,N(E84),H84) -> 0 | J84: =I84*IF(N('Изолента цвета'!E18)>0,N('Изолента цвета'!E18),N('Изолента цвета'!G18)) -> 0 | K84: =I84*IF(N('Изолента цвета'!F18)>0,N('Изолента цвета'!F18),N('Изолента цвета'!G18)) -> 0 | L84: =N(L83)+(N(I84)>0) -> 0
A85: Изолента цвета | B85: ='Изолента цвета'!A19&"" -> IU1K violet | C85: ='Изолента цвета'!B19&"" -> ПВХ; фиолетовая; 19ммх20м, толщина 0,18 самозатухающая | D85: =IF('Изолента цвета'!H19="+","есть",IF('Изолента цвета'!H19="-","нет","")) -> есть | F85: =IF(N('Изолента цвета'!G19)<=0,"по запросу",CHOOSE($K$3,IF(N('Изолента цвета'!E19)>0,N('Изолента цвета'!E19),N('Изолента цвета'!G19)),IF(N('Изолента цвета'!F19)>0,N('Изолента цвета'!F19),N('Изолента цвета'!G19)),N('Изолента цвета'!G19))) -> 197 | G85: =IF(I85<=0,"",IF(ISNUMBER(F85),I85*F85,"по запросу")) | H85: =N('Изолента цвета'!I19) -> 0 | I85: =IF(N(E85)>0,N(E85),H85) -> 0 | J85: =I85*IF(N('Изолента цвета'!E19)>0,N('Изолента цвета'!E19),N('Изолента цвета'!G19)) -> 0 | K85: =I85*IF(N('Изолента цвета'!F19)>0,N('Изолента цвета'!F19),N('Изолента цвета'!G19)) -> 0 | L85: =N(L84)+(N(I85)>0) -> 0
A86: Изолента цвета | B86: ='Изолента цвета'!A20&"" -> IU1K grey | C86: ='Изолента цвета'!B20&"" -> ПВХ; серая; 19ммх20м, толщина 0,18 самозатухающая | D86: =IF('Изолента цвета'!H20="+","есть",IF('Изолента цвета'!H20="-","нет","")) -> есть | F86: =IF(N('Изолента цвета'!G20)<=0,"по запросу",CHOOSE($K$3,IF(N('Изолента цвета'!E20)>0,N('Изолента цвета'!E20),N('Изолента цвета'!G20)),IF(N('Изолента цвета'!F20)>0,N('Изолента цвета'!F20),N('Изолента цвета'!G20)),N('Изолента цвета'!G20))) -> 197 | G86: =IF(I86<=0,"",IF(ISNUMBER(F86),I86*F86,"по запросу")) | H86: =N('Изолента цвета'!I20) -> 0 | I86: =IF(N(E86)>0,N(E86),H86) -> 0 | J86: =I86*IF(N('Изолента цвета'!E20)>0,N('Изолента цвета'!E20),N('Изолента цвета'!G20)) -> 0 | K86: =I86*IF(N('Изолента цвета'!F20)>0,N('Изолента цвета'!F20),N('Изолента цвета'!G20)) -> 0 | L86: =N(L85)+(N(I86)>0) -> 0
A87: Изолента цвета | B87: ='Изолента цвета'!A21&"" -> IU1K brown | C87: ='Изолента цвета'!B21&"" -> ПВХ; коричневая; 19ммх20м, толщина 0,18 самозатухающая | D87: =IF('Изолента цвета'!H21="+","есть",IF('Изолента цвета'!H21="-","нет","")) -> есть | F87: =IF(N('Изолента цвета'!G21)<=0,"по запросу",CHOOSE($K$3,IF(N('Изолента цвета'!E21)>0,N('Изолента цвета'!E21),N('Изолента цвета'!G21)),IF(N('Изолента цвета'!F21)>0,N('Изолента цвета'!F21),N('Изолента цвета'!G21)),N('Изолента цвета'!G21))) -> 197 | G87: =IF(I87<=0,"",IF(ISNUMBER(F87),I87*F87,"по запросу")) | H87: =N('Изолента цвета'!I21) -> 0 | I87: =IF(N(E87)>0,N(E87),H87) -> 0 | J87: =I87*IF(N('Изолента цвета'!E21)>0,N('Изолента цвета'!E21),N('Изолента цвета'!G21)) -> 0 | K87: =I87*IF(N('Изолента цвета'!F21)>0,N('Изолента цвета'!F21),N('Изолента цвета'!G21)) -> 0 | L87: =N(L86)+(N(I87)>0) -> 0
A88: Изолента цвета | B88: ='Изолента цвета'!A22&"" -> IC6P white | C88: ='Изолента цвета'!B22&"" -> ПВХ; белая; 19ммх20м, толщина 0,18мм, всепогодная, самозатухающая | D88: =IF('Изолента цвета'!H22="+","есть",IF('Изолента цвета'!H22="-","нет","")) -> есть | F88: =IF(N('Изолента цвета'!G22)<=0,"по запросу",CHOOSE($K$3,IF(N('Изолента цвета'!E22)>0,N('Изолента цвета'!E22),N('Изолента цвета'!G22)),IF(N('Изолента цвета'!F22)>0,N('Изолента цвета'!F22),N('Изолента цвета'!G22)),N('Изолента цвета'!G22))) -> 232.4 | G88: =IF(I88<=0,"",IF(ISNUMBER(F88),I88*F88,"по запросу")) | H88: =N('Изолента цвета'!I22) -> 0 | I88: =IF(N(E88)>0,N(E88),H88) -> 0 | J88: =I88*IF(N('Изолента цвета'!E22)>0,N('Изолента цвета'!E22),N('Изолента цвета'!G22)) -> 0 | K88: =I88*IF(N('Изолента цвета'!F22)>0,N('Изолента цвета'!F22),N('Изолента цвета'!G22)) -> 0 | L88: =N(L87)+(N(I88)>0) -> 0
A89: Изолента цвета | B89: Изолента класса "standart" | L89: =N(L88)+(N(I89)>0) -> 0
A90: Изолента цвета | B90: ='Изолента цвета'!A24&"" -> IZ 1510 green/yellow | C90: ='Изолента цвета'!B24&"" -> ПВХ; желто/зеленая ; 15ммх10м, толщина 0,12мм | D90: =IF('Изолента цвета'!H24="+","есть",IF('Изолента цвета'!H24="-","нет","")) -> нет | F90: =IF(N('Изолента цвета'!G24)<=0,"по запросу",CHOOSE($K$3,IF(N('Изолента цвета'!E24)>0,N('Изолента цвета'!E24),N('Изолента цвета'!G24)),IF(N('Изолента цвета'!F24)>0,N('Изолента цвета'!F24),N('Изолента цвета'!G24)),N('Изолента цвета'!G24))) -> 58 | G90: =IF(I90<=0,"",IF(ISNUMBER(F90),I90*F90,"по запросу")) | H90: =N('Изолента цвета'!I24) -> 0 | I90: =IF(N(E90)>0,N(E90),H90) -> 0 | J90: =I90*IF(N('Изолента цвета'!E24)>0,N('Изолента цвета'!E24),N('Изолента цвета'!G24)) -> 0 | K90: =I90*IF(N('Изолента цвета'!F24)>0,N('Изолента цвета'!F24),N('Изолента цвета'!G24)) -> 0 | L90: =N(L89)+(N(I90)>0) -> 0
A91: Изолента цвета | B91: ='Изолента цвета'!A25&"" -> IZ 1510 red | C91: ='Изолента цвета'!B25&"" -> ПВХ; красная; 15ммх10м, толщина 0,13мм | D91: =IF('Изолента цвета'!H25="+","есть",IF('Изолента цвета'!H25="-","нет","")) -> есть | F91: =IF(N('Изолента цвета'!G25)<=0,"по запросу",CHOOSE($K$3,IF(N('Изолента цвета'!E25)>0,N('Изолента цвета'!E25),N('Изолента цвета'!G25)),IF(N('Изолента цвета'!F25)>0,N('Изолента цвета'!F25),N('Изолента цвета'!G25)),N('Изолента цвета'!G25))) -> 51.7 | G91: =IF(I91<=0,"",IF(ISNUMBER(F91),I91*F91,"по запросу")) | H91: =N('Изолента цвета'!I25) -> 0 | I91: =IF(N(E91)>0,N(E91),H91) -> 0 | J91: =I91*IF(N('Изолента цвета'!E25)>0,N('Изолента цвета'!E25),N('Изолента цвета'!G25)) -> 0 | K91: =I91*IF(N('Изолента цвета'!F25)>0,N('Изолента цвета'!F25),N('Изолента цвета'!G25)) -> 0 | L91: =N(L90)+(N(I91)>0) -> 0
A92: Изолента цвета | B92: ='Изолента цвета'!A26&"" -> IZ 1510 yellow | C92: ='Изолента цвета'!B26&"" -> ПВХ; желтая; 15ммх10м, толщина 0,13мм | D92: =IF('Изолента цвета'!H26="+","есть",IF('Изолента цвета'!H26="-","нет","")) -> есть | F92: =IF(N('Изолента цвета'!G26)<=0,"по запросу",CHOOSE($K$3,IF(N('Изолента цвета'!E26)>0,N('Изолента цвета'!E26),N('Изолента цвета'!G26)),IF(N('Изолента цвета'!F26)>0,N('Изолента цвета'!F26),N('Изолента цвета'!G26)),N('Изолента цвета'!G26))) -> 51.7 | G92: =IF(I92<=0,"",IF(ISNUMBER(F92),I92*F92,"по запросу")) | H92: =N('Изолента цвета'!I26) -> 0 | I92: =IF(N(E92)>0,N(E92),H92) -> 0 | J92: =I92*IF(N('Изолента цвета'!E26)>0,N('Изолента цвета'!E26),N('Изолента цвета'!G26)) -> 0 | K92: =I92*IF(N('Изолента цвета'!F26)>0,N('Изолента цвета'!F26),N('Изолента цвета'!G26)) -> 0 | L92: =N(L91)+(N(I92)>0) -> 0
A93: Изолента цвета | B93: ='Изолента цвета'!A27&"" -> IZ 1510 green | C93: ='Изолента цвета'!B27&"" -> ПВХ; зеленая; 15ммх10м, толщина 0,13мм | D93: =IF('Изолента цвета'!H27="+","есть",IF('Изолента цвета'!H27="-","нет","")) -> есть | F93: =IF(N('Изолента цвета'!G27)<=0,"по запросу",CHOOSE($K$3,IF(N('Изолента цвета'!E27)>0,N('Изолента цвета'!E27),N('Изолента цвета'!G27)),IF(N('Изолента цвета'!F27)>0,N('Изолента цвета'!F27),N('Изолента цвета'!G27)),N('Изолента цвета'!G27))) -> 51.7 | G93: =IF(I93<=0,"",IF(ISNUMBER(F93),I93*F93,"по запросу")) | H93: =N('Изолента цвета'!I27) -> 0 | I93: =IF(N(E93)>0,N(E93),H93) -> 0 | J93: =I93*IF(N('Изолента цвета'!E27)>0,N('Изолента цвета'!E27),N('Изолента цвета'!G27)) -> 0 | K93: =I93*IF(N('Изолента цвета'!F27)>0,N('Изолента цвета'!F27),N('Изолента цвета'!G27)) -> 0 | L93: =N(L92)+(N(I93)>0) -> 0
A94: Изолента цвета | B94: ='Изолента цвета'!A28&"" -> IZ 1510 blue | C94: ='Изолента цвета'!B28&"" -> ПВХ; синяя 15ммх10м, толщина 0,13мм | D94: =IF('Изолента цвета'!H28="+","есть",IF('Изолента цвета'!H28="-","нет","")) -> есть | F94: =IF(N('Изолента цвета'!G28)<=0,"по запросу",CHOOSE($K$3,IF(N('Изолента цвета'!E28)>0,N('Изолента цвета'!E28),N('Изолента цвета'!G28)),IF(N('Изолента цвета'!F28)>0,N('Изолента цвета'!F28),N('Изолента цвета'!G28)),N('Изолента цвета'!G28))) -> 51.7 | G94: =IF(I94<=0,"",IF(ISNUMBER(F94),I94*F94,"по запросу")) | H94: =N('Изолента цвета'!I28) -> 0 | I94: =IF(N(E94)>0,N(E94),H94) -> 0 | J94: =I94*IF(N('Изолента цвета'!E28)>0,N('Изолента цвета'!E28),N('Изолента цвета'!G28)) -> 0 | K94: =I94*IF(N('Изолента цвета'!F28)>0,N('Изолента цвета'!F28),N('Изолента цвета'!G28)) -> 0 | L94: =N(L93)+(N(I94)>0) -> 0
A95: Изолента цвета | B95: ='Изолента цвета'!A29&"" -> IZ 1510 white | C95: ='Изолента цвета'!B29&"" -> ПВХ; белая; 15ммх10м, толщина 0,13мм | D95: =IF('Изолента цвета'!H29="+","есть",IF('Изолента цвета'!H29="-","нет","")) -> есть | F95: =IF(N('Изолента цвета'!G29)<=0,"по запросу",CHOOSE($K$3,IF(N('Изолента цвета'!E29)>0,N('Изолента цвета'!E29),N('Изолента цвета'!G29)),IF(N('Изолента цвета'!F29)>0,N('Изолента цвета'!F29),N('Изолента цвета'!G29)),N('Изолента цвета'!G29))) -> 51.7 | G95: =IF(I95<=0,"",IF(ISNUMBER(F95),I95*F95,"по запросу")) | H95: =N('Изолента цвета'!I29) -> 0 | I95: =IF(N(E95)>0,N(E95),H95) -> 0 | J95: =I95*IF(N('Изолента цвета'!E29)>0,N('Изолента цвета'!E29),N('Изолента цвета'!G29)) -> 0 | K95: =I95*IF(N('Изолента цвета'!F29)>0,N('Изолента цвета'!F29),N('Изолента цвета'!G29)) -> 0 | L95: =N(L94)+(N(I95)>0) -> 0
A96: Изолента цвета | B96: ='Изолента цвета'!A30&"" -> IZ 1918 red | C96: ='Изолента цвета'!B30&"" -> ПВХ; красная; 19ммх18,3м, толщина 0,13мм | D96: =IF('Изолента цвета'!H30="+","есть",IF('Изолента цвета'!H30="-","нет","")) -> есть | F96: =IF(N('Изолента цвета'!G30)<=0,"по запросу",CHOOSE($K$3,IF(N('Изолента цвета'!E30)>0,N('Изолента цвета'!E30),N('Изолента цвета'!G30)),IF(N('Изолента цвета'!F30)>0,N('Изолента цвета'!F30),N('Изолента цвета'!G30)),N('Изолента цвета'!G30))) -> 106.3 | G96: =IF(I96<=0,"",IF(ISNUMBER(F96),I96*F96,"по запросу")) | H96: =N('Изолента цвета'!I30) -> 0 | I96: =IF(N(E96)>0,N(E96),H96) -> 0 | J96: =I96*IF(N('Изолента цвета'!E30)>0,N('Изолента цвета'!E30),N('Изолента цвета'!G30)) -> 0 | K96: =I96*IF(N('Изолента цвета'!F30)>0,N('Изолента цвета'!F30),N('Изолента цвета'!G30)) -> 0 | L96: =N(L95)+(N(I96)>0) -> 0
A97: Изолента цвета | B97: ='Изолента цвета'!A31&"" -> IZ 1918 yellow | C97: ='Изолента цвета'!B31&"" -> ПВХ; желтая; 19ммх18,3м, толщина 0,13мм | D97: =IF('Изолента цвета'!H31="+","есть",IF('Изолента цвета'!H31="-","нет","")) -> есть | F97: =IF(N('Изолента цвета'!G31)<=0,"по запросу",CHOOSE($K$3,IF(N('Изолента цвета'!E31)>0,N('Изолента цвета'!E31),N('Изолента цвета'!G31)),IF(N('Изолента цвета'!F31)>0,N('Изолента цвета'!F31),N('Изолента цвета'!G31)),N('Изолента цвета'!G31))) -> 106.3 | G97: =IF(I97<=0,"",IF(ISNUMBER(F97),I97*F97,"по запросу")) | H97: =N('Изолента цвета'!I31) -> 0 | I97: =IF(N(E97)>0,N(E97),H97) -> 0 | J97: =I97*IF(N('Изолента цвета'!E31)>0,N('Изолента цвета'!E31),N('Изолента цвета'!G31)) -> 0 | K97: =I97*IF(N('Изолента цвета'!F31)>0,N('Изолента цвета'!F31),N('Изолента цвета'!G31)) -> 0 | L97: =N(L96)+(N(I97)>0) -> 0
A98: Изолента цвета | B98: ='Изолента цвета'!A32&"" -> IZ 1918 green | C98: ='Изолента цвета'!B32&"" -> ПВХ; зеленая; 19ммх18,3м, толщина 0,13мм | D98: =IF('Изолента цвета'!H32="+","есть",IF('Изолента цвета'!H32="-","нет","")) -> есть | F98: =IF(N('Изолента цвета'!G32)<=0,"по запросу",CHOOSE($K$3,IF(N('Изолента цвета'!E32)>0,N('Изолента цвета'!E32),N('Изолента цвета'!G32)),IF(N('Изолента цвета'!F32)>0,N('Изолента цвета'!F32),N('Изолента цвета'!G32)),N('Изолента цвета'!G32))) -> 106.3 | G98: =IF(I98<=0,"",IF(ISNUMBER(F98),I98*F98,"по запросу")) | H98: =N('Изолента цвета'!I32) -> 0 | I98: =IF(N(E98)>0,N(E98),H98) -> 0 | J98: =I98*IF(N('Изолента цвета'!E32)>0,N('Изолента цвета'!E32),N('Изолента цвета'!G32)) -> 0 | K98: =I98*IF(N('Изолента цвета'!F32)>0,N('Изолента цвета'!F32),N('Изолента цвета'!G32)) -> 0 | L98: =N(L97)+(N(I98)>0) -> 0
A99: Изолента цвета | B99: ='Изолента цвета'!A33&"" -> IZ 1918 blue | C99: ='Изолента цвета'!B33&"" -> ПВХ; синяя; 19ммх18,3м, толщина 0,13мм | D99: =IF('Изолента цвета'!H33="+","есть",IF('Изолента цвета'!H33="-","нет","")) -> есть | F99: =IF(N('Изолента цвета'!G33)<=0,"по запросу",CHOOSE($K$3,IF(N('Изолента цвета'!E33)>0,N('Изолента цвета'!E33),N('Изолента цвета'!G33)),IF(N('Изолента цвета'!F33)>0,N('Изолента цвета'!F33),N('Изолента цвета'!G33)),N('Изолента цвета'!G33))) -> 106.3 | G99: =IF(I99<=0,"",IF(ISNUMBER(F99),I99*F99,"по запросу")) | H99: =N('Изолента цвета'!I33) -> 0 | I99: =IF(N(E99)>0,N(E99),H99) -> 0 | J99: =I99*IF(N('Изолента цвета'!E33)>0,N('Изолента цвета'!E33),N('Изолента цвета'!G33)) -> 0 | K99: =I99*IF(N('Изолента цвета'!F33)>0,N('Изолента цвета'!F33),N('Изолента цвета'!G33)) -> 0 | L99: =N(L98)+(N(I99)>0) -> 0
A100: Изолента цвета | B100: ='Изолента цвета'!A34&"" -> IZ 1918 white | C100: ='Изолента цвета'!B34&"" -> ПВХ; белая; 19ммх18,3м, толщина 0,13мм | D100: =IF('Изолента цвета'!H34="+","есть",IF('Изолента цвета'!H34="-","нет","")) -> есть | F100: =IF(N('Изолента цвета'!G34)<=0,"по запросу",CHOOSE($K$3,IF(N('Изолента цвета'!E34)>0,N('Изолента цвета'!E34),N('Изолента цвета'!G34)),IF(N('Изолента цвета'!F34)>0,N('Изолента цвета'!F34),N('Изолента цвета'!G34)),N('Изолента цвета'!G34))) -> 106.3 | G100: =IF(I100<=0,"",IF(ISNUMBER(F100),I100*F100,"по запросу")) | H100: =N('Изолента цвета'!I34) -> 0 | I100: =IF(N(E100)>0,N(E100),H100) -> 0 | J100: =I100*IF(N('Изолента цвета'!E34)>0,N('Изолента цвета'!E34),N('Изолента цвета'!G34)) -> 0 | K100: =I100*IF(N('Изолента цвета'!F34)>0,N('Изолента цвета'!F34),N('Изолента цвета'!G34)) -> 0 | L100: =N(L99)+(N(I100)>0) -> 0
A101: Изолента цвета | B101: ='Изолента цвета'!A35&"" -> Titan 19мм*20м, ПВХ, синяя | C101: ='Изолента цвета'!B35&"" -> ПВХ; синяя; 19ммх20м, толщина 0,13мм, огнеупорная | D101: =IF('Изолента цвета'!H35="+","есть",IF('Изолента цвета'!H35="-","нет","")) -> есть | F101: =IF(N('Изолента цвета'!G35)<=0,"по запросу",CHOOSE($K$3,IF(N('Изолента цвета'!E35)>0,N('Изолента цвета'!E35),N('Изолента цвета'!G35)),IF(N('Изолента цвета'!F35)>0,N('Изолента цвета'!F35),N('Изолента цвета'!G35)),N('Изолента цвета'!G35))) -> 111.1 | G101: =IF(I101<=0,"",IF(ISNUMBER(F101),I101*F101,"по запросу")) | H101: =N('Изолента цвета'!I35) -> 0 | I101: =IF(N(E101)>0,N(E101),H101) -> 0 | J101: =I101*IF(N('Изолента цвета'!E35)>0,N('Изолента цвета'!E35),N('Изолента цвета'!G35)) -> 0 | K101: =I101*IF(N('Изолента цвета'!F35)>0,N('Изолента цвета'!F35),N('Изолента цвета'!G35)) -> 0 | L101: =N(L100)+(N(I101)>0) -> 0
A102: ПРОМО | L102: =N(L101)+(N(I102)>0) -> 0
...

Sheet Изолента
A1: Санкт-Петербург: +7 (812) 271-44 -84; +7 911-771-2000 | C1: прайс-лист действителен с 17.08.2026 | I1: =HYPERLINK("#'Заявка'!B860",IF('Заявка'!$L$5>0,"В заявке "&'Заявка'!$L$5&" поз. на "&IF(ROUND('Заявка'!$G$5,0)>=1000,INT(ROUND('Заявка'!$G$5,0)/1000)&" "&TEXT(MOD(ROUND('Заявка'!$G$5,0),1000),"000"),ROUND('Заявка'!$G$5,0)&"")&" ₽ →","Перейти к заявке →")) -> Перейти к заявке →
A2: Наименование | B2: Краткое описание | C2: Торговая марка | D2: В мастер-коробке (уп) | E2: цена в рублях при покупке на сумму | G2: Мелко-оптовая цена (от 17 000 рублей) | H2: 46300
E3: От 140 000 рублей | F3: От 50 000 рублей
B4: Снижение цены
B5: Повышение цены
B6: Новинка
A7: КЛЕЙКИЕ ЛЕНТЫ | B7: 0 | C7: 0 | D7: #REF! | E7: 0 | F7: 0 | G7: 0
A8: Профессиональные клейкие ленты для автосервиса | B8: 0 | C8: 0 | D8: #REF! | E8: 0 | F8: 0 | G8: 0
A9: Изолента класса "premium" | B9: 0 | C9: 0 | D9: #REF! | E9: 0 | F9: 0 | G9: 0
A10: IZ 1510S | B10: ПВХ; черная; 15ммх10м, толщина 0,13мм | C10: Terminator | D10: 500 | E10: 59.8 | F10: 66.3 | G10: 71.6 | H10: -
A11: IZ 1920S | B11: ПВХ; черная; 19ммх20м, толщина 0,13мм | C11: Terminator | D11: 250 | E11: 124.9 | F11: 137.8 | G11: 152.3 | H11: +
A12: IZ 1920s-11 | B12: ПВХ; черная; 19ммх20м, толщина 0,10мм | C12: 0 | D12: 250 | E12: 109.1 | F12: 119.6 | G12: 132.6 | H12: +
A13: IZC 1510 | B13: ПВХ; черная; 15ммх10м, толщина 0,15мм, холодостойкая, самозатухающая | C13: Terminator | D13: 500 | E13: 78.3 | F13: 85.8 | G13: 94.6 | H13: -
A14: IZC 1920 | B14: ПВХ; черная; 19ммх20м, толщина 0,15мм, холодостойкая, самозатухающая | C14: Terminator | D14: 200 | E14: 166.6 | F14: 183 | G14: 201.9 | H14: -
A15: IZN 1920 | B15: ПВХ; черная; беcклеевая (для жгутов)19ммх20м,толщина 0,12мм | C15: Terminator | D15: 250 | E15: 103.6 | F15: 114.4 | G15: 126.3 | H15: +
A16: 00645 | B16: ПВХ; черная; 15ммх10м, толщина 0,13мм, суперэластичная | C16: 0 | D16: 540 | E16: 55.5 | F16: 61.7 | G16: 68.3 | H16: +
A17: 00745 | B17: ПВХ; черная; 15ммх10м, толщина 0,16мм, суперэластичная, холодостойкая | C17: 0 | D17: 540 | E17: 68.3 | F17: 75.8 | G17: 83.4 | H17: +
A18: Лента малярная класса "premium" | B18: 0 | C18: 0 | D18: #REF! | E18: 0 | F18: 0 | G18: 0
A19: MT 5060 | B19: Креп; белая; 50ммх60м, толщина 0,145мм, серия "Premium" | C19: Terminator | D19: 36 | E19: 609.1 | F19: 673.3 | G19: 744.5 | H19: +
A20: Скотч 2-х сторонний на вспененной основе класса "premium" | B20: 0 | C20: 0 | D20: #REF! | E20: 0 | F20: 0 | G20: 0
A21: ST 610 | B21: П/э вспененный; черный, 6ммх10м, толщина 1мм, для молдингов, эмблем, зеленый лайнер | C21: Terminator | D21: 540 | E21: 110.3 | F21: 121.2 | G21: 133.5 | H21: +
A22: ST 910 | B22: П/э вспененный; черный, 9ммх10м, толщина 1мм, для молдингов, эмблем, зеленый лайнер | C22: Terminator | D22: 360 | E22: 165.4 | F22: 181.3 | G22: 199.9 | H22: +
A23: ST 1210 | B23: П/э вспененный; черный, 12ммх10м, толщина 1,0мм, для молдингов, деталей интерьера, зеленый лайнер | C23: Terminator | D23: 270 | E23: 219.4 | F23: 241.4 | G23: 265.8 | H23: +
A24: ST 1910 | B24: П/э вспененный; черный, 19ммх10м, толщина 1,0мм, для молдингов, деталей интерьера, зеленый лайнер | C24: Terminator | D24: 171 | E24: 339.3 | F24: 373.9 | G24: 410.6 | H24: +
A25: ST 1950 | B25: П/э вспененный; черный, 19ммх50м, толщина 1,0мм, для молдингов, деталей интерьера, зеленый лайнер | C25: Terminator | D25: 53 | E25: 1450.8 | F25: 1595.4 | G25: 1755.9 | H25: +
A26: ST2 385 | B26: П/э вспененный; черный, 38ммх5м, толщина 1,0мм, для молдингов, деталей интерьера, зеленый лайнер | C26: Terminator | D26: 144 | E26: 339.3 | F26: 373.9 | G26: 410.6 | H26: +
A27: ST2 3810 | B27: П/э вспененный; черный, 38ммх10м, толщина 1,0мм, для молдингов, деталей интерьера, зеленый лайнер | C27: Terminator | D27: 81 | E27: 638.4 | F27: 702.2 | G27: 771.9 | H27: +
A28: ST 5010 | B28: П/э вспененный; черный, 50ммх10м, толщина 1,0мм, для молдингов, деталей интерьера, зеленый лайнер | C28: Terminator | D28: 63 | E28: 763.3 | F28: 840.5 | G28: 923.8 | H28: +
A29: STU 910 | B29: ЕВА; белый, 9ммх10м, толщина 1,6мм, для молдингов, деталей интерьера, желтый лайнер | C29: Terminator | D29: 180 | E29: 285.9 | F29: 313.9 | G29: 347.8 | H29: +
A30: STU 1910 | B30: ЕВА; белый, 19ммх10м, толщина 1,6мм, для молдингов, деталей интерьера, желтый лайнер | C30: Terminator | D30: 54 | E30: 585.8 | F30: 644.1 | G30: 711.8 | H30: -
A31: STU 5010 | B31: ЕВА; белый, 50ммх10м, толщина 1,6мм, для молдингов, деталей интерьера, желтый лайнер | C31: Terminator | D31: 26 | E31: 1511.3 | F31: 1663 | G31: 1836.9 | H31: +
A32: Изолента класса "standart" | B32: 0 | C32: 0 | D32: #REF! | E32: 0 | F32: 0 | G32: 0
A33: IZT 1925 canvas black | B33: ацетат тканый, черная, 19мм*25м, толщина 0,22мм, резиновый клей, прекрасно впитывает смолы и лаки, может использоваться для обмотки трансф.катушек | C33: Terminator | D33: 135 | E33: 554.9 | F33: 611.9 | G33: 674.4 | H33: +
A34: IZT 1925 canvas white | B34: ацетат тканый, белая, 19мм*25м, толщина 0,22мм, резиновый клей, прекрасно впитывает смолы и лаки, может использоваться для обмотки трансф.катушек | C34: Terminator | D34: 135 | E34: 554.9 | F34: 611.9 | G34: 674.4 | H34: +
A35: IZT 1925 fabric | B35: Полиэстер тканый; черная; 19ммх25м, толщина 0,25 мм, акрилатный чувствительный к давлению клей | C35: Terminator | D35: 120 | E35: 423.9 | F35: 462 | G35: 509.6 | H35: +
A36: IZT 1925-19 fabric | B36: Полиэстер тканый; черная; 19ммх25м, толщина 0,16 мм, акрилатный чувствительный к давлению клей | C36: Terminator | D36: 120 | E36: 372.6 | F36: 405.5 | G36: 448.3 | H36: +
A37: IZT 1918 fleece | B37: Полиэстер нетканый флис; черная; 19ммх18м, толщина 0,28 мм, синт.каучуковый клей | C37: Terminator | D37: 200 | E37: 273.3 | F37: 299.3 | G37: 330.2 | H37: +
A38: IZT 1925 fleece | B38: Полиэстер нетканый флис; черная; 19ммх25м, толщина 0,35 мм, акрилатный чувствительный к давлению клей | C38: Terminator | D38: 90 | E38: 384.8 | F38: 419 | G38: 464.4 | H38: +
A39: * Важно: характеристики тканевой изоленты (толщина, температурные диапазоны) могут незначительно варьироваться от партии к партии. Эти отличия являются допустимыми в рамках производственных норм и не влияют на функциональные свойства и качество изделия. | B39: 0 | C39: 0 | D39: #REF! | E39: 0 | F39: 0 | G39: 0
A40: Автомобильные клейкие ленты широкого применения | B40: 0 | C40: 0 | D40: #REF! | E40: 0 | F40: 0 | G40: 0
A41: Изолента класса "standart" | B41: 0 | C41: 0 | D41: #REF! | E41: 0 | F41: 0 | G41: 0
A42: IZT 1919 fabric DUO black & orange | B42: Полиэстер тканый; набор: черная + оранжевая; 19ммх19м, толщина 0,18 мм; акрилатный чувствительный к давлению клей | C42: Terminator | D42: 100 | E42: 429.2 | F42: 467.7 | G42: 516 | H42: !!!
A43: Профессиональные универсальные клейкие ленты | B43: 0 | C43: 0 | D43: #REF! | E43: 0 | F43: 0 | G43: 0
A44: Изолента класса "premium" | B44: 0 | C44: 0 | D44: #REF! | E44: 0 | F44: 0 | G44: 0
A45: IU1K | B45: ПВХ; черная; 19ммх20м, толщина 0,18 самозатухающая | C45: Terminator | D45: 200 | E45: 163 | F45: 178 | G45: 197 | H45: -
A46: IU1K цветная | B46: ПВХ; цвета в ассортименте(красный, оранжевый, белый, желтый, зеленый,синий, фиолетовый, серый, коричневый); 19ммх20м, толщина 0,18мм, самозатухающая | C46: Terminator | D46: 0 | E46: 163 | F46: 178 | G46: 197 | H46: !!!
A47: IC6P | B47: ПВХ; черная; 19ммх20м, толщина 0,18мм, всепогодная, самозатухающая | C47: Terminator | D47: 200 | E47: 190.6 | F47: 209.5 | G47: 232.4 | H47: +
A48: IC6P white | B48: ПВХ; белая; 19ммх20м, толщина 0,18мм, всепогодная, самозатухающая | C48: Terminator | D48: 200 | E48: 190.6 | F48: 209.5 | G48: 232.4 | H48: !!!
A49: ICA8P | B49: ПВХ; черная; 19ммх20м, толщина 0,22мм, всепогодная, самозатухающая, суперпрочная | C49: Terminator | D49: 200 | E49: 215.8 | F49: 238.5 | G49: 263.8 | H49: -
A50: IZR 1910 | B50: Полиизобутилен; черная; 19ммх10м,самовулканизирующаяся, толщина 0,5 мм | C50: Terminator | D50: 100 | E50: 460.1 | F50: 506 | G50: 559.8 | H50: +
A51: IZM 381.5 | B51: Виниловая мастика; черная; 38ммх1,5м, самовулканизирующаяся, толщина 2,3 мм | C51: Terminator | D51: 64 | E51: 420.9 | F51: 462.7 | G51: 511.4 | H51: +
A52: IZRM 513 | B52: Резиновая мастика; черная; 51ммх3м, самовулканизирующаяся, толщина 1,65 мм | C52: Terminator | D52: 27 | E52: 728.4 | F52: 801 | G52: 885.3 | H52: +
A53: Tarband 19мм х 25м | B53: Перкаль; черная; 19ммх25м, двусторонняя, толщина 0,35мм, клей на основе смол | C53: Titan | D53: 60 | E53: 174.5 | F53: 191.3 | G53: 213.3 | H53: +
A54: Изолента класса "standart" | B54: 0 | C54: 0 | D54: #REF! | E54: 0 | F54: 0 | G54: 0
A55: IZ 1510FR | B55: ПВХ; черная; 15ммх10м, толщина 0,12мм; самозатухающая | C55: Terminator | D55: 500 | E55: 54.4 | F55: 60.7 | G55: 66.8 | H55: +
A56: IZ 1510 | B56: ПВХ; цвета в ассортименте(красный,синий,белый,зеленый,желтый); 15ммх10м, толщина 0,13мм | C56: Terminator | D56: 500 | E56: 41.7 | F56: 46.8 | G56: 51.7 | H56: !!!
A57: IZ 1510 green/yellow | B57: ПВХ; желто/зеленая ; 15ммх10м, толщина 0,12мм | C57: Terminator | D57: 500 | E57: 47.8 | F57: 53 | G57: 58 | H57: !!!
A58: IZ 1918FR | B58: ПВХ; черная; 19ммх18,3м, толщина 0,12мм; самозатухающая | C58: Terminator | D58: 250 | E58: 106 | F58: 116.1 | G58: 127.5 | H58: +
A59: IZ 1918 | B59: ПВХ; цвета в ассортименте(красный,синий,белый,зеленый,желтый); 19ммх18,3м, толщина 0,12мм | C59: Terminator | D59: 250 | E59: 87.5 | F59: 96.9 | G59: 106.3 | H59: !!!
A60: 00545 | B60: ПВХ; черная; 19ммх25м, толщина 0,13мм, самозатухающая | C60: 0 | D60: 200 | E60: 117.2 | F60: 128.7 | G60: 142.7 | H60: +
A61: Titan 19мм*10м, ПВХ, водостойкая | B61: ПВХ; прозрачная; 19ммх10м, толщина 0,13мм, водостойкая | C61: Titan | D61: 300 | E61: 51.7 | F61: 56.8 | G61: 61.7 | H61: +
A62: Titan 19мм*20м, ПВХ, черная | B62: ПВХ; черная; 19ммх20м, толщина 0,13мм, огнеупорная | C62: Titan | D62: 200 | E62: 91 | F62: 99.6 | G62: 111.1 | H62: +
A63: Titan 19мм*20м, ПВХ, синяя | B63: ПВХ; синяя; 19ммх20м, толщина 0,13мм, огнеупорная | C63: Titan | D63: 200 | E63: 91 | F63: 99.6 | G63: 111.1 | H63: !!!
A64: Titan KINGSIZE 50мм*30м, ПВХ, черная | B64: ПВХ; черная; 50ммх30м, толщина 0,13мм, огнеупорная | C64: Titan | D64: 60 | E64: 214.2 | F64: 234.8 | G64: 261.7 | H64: +
A65: Скотч односторонний упаковочный | B65: 0 | C65: 0 | D65: #REF! | E65: 0 | F65: 0 | G65: 0
A66: UP4850 (прозрачный) | B66: П/э; прозрачный; скотч упаковочный 48мм х 50м, толщина 0,45мм | C66: Terminator | D66: 72 | E66: 86.6 | F66: 95.1 | G66: 105.3 | H66: +
A67: Ленты специального назначения | B67: 0 | C67: 0 | D67: #REF! | E67: 0 | F67: 0 | G67: 0
A68: ALU 4550 | B68: Алюминиевая фольга с клеящим слоем, защищенным силиконизированной бумажной подложкой; 45мм*50м; для защиты и герметизации швов водосточных труб, воздуховодов | C68: Terminator | D68: 24 | E68: 430.4 | F68: 473.4 | G68: 523.2 | H68: +
A69: ALU 4840 | B69: Алюминиевая фольга с клеящим слоем, защищенным силиконизированной бумажной подложкой; 48мм*40м; 20 мкм; для защиты и герметизации швов водосточных труб, воздуховодов | C69: Terminator | D69: 36 | E69: 417.8 | F69: 459.6 | G69: 508 | H69: +
A70: ARM 4833 | B70: Ткань ламинированная полиэтиленом; серый; 48ммх33м; толщина 180мк; для временного ремонта, упаковки, обертывания труб | C70: Terminator | D70: 36 | E70: 259.8 | F70: 286 | G70: 316.1 | H70: +
A71: JNOBE 5050 | B71: Алюминевая лента на полипропиленовой основе; 50мм*50м; для соединения панелей, герметизации соединительных швов | C71: Terminator | D71: 36 | E71: 113.7 | F71: 125.2 | G71: 138.2 | H71: +
A72: DT 4830 черн. | B72: ПВХ с нанесенным на одну сторону термоустойчивым резиновым клеем; черная; 48мм*30м, толщина 0,12мм; лента для труб | C72: Terminator | D72: 60 | E72: 202.4 | F72: 222.7 | G72: 246.1 | H72: +
A73: DT 4830 серая | B73: ПВХ с нанесенным на одну сторону термоустойчивым резиновым клеем; серая; 48мм*30м, толщина 0,12мм; лента для труб | C73: Terminator | D73: 60 | E73: 202.4 | F73: 222.7 | G73: 246.1 | H73: +
A74: WT 5033 black/yellow | B74: ПВХ; черн./желт.; 50мм*33м, толщина 0,15мм; предупредительная лента с клейким слоем, для ограждения и маркирования опасных зон | C74: Terminator | D74: 24 | E74: 265.4 | F74: 291.9 | G74: 322.4 | H74: +
A75: WT 5033 red/white | B75: ПВХ; красн./бел.; 50мм*33м, толщина 0,15мм; предупредительная лента с клейким слоем, для ограждения и маркирования опасных зон | C75: Terminator | D75: 24 | E75: 265.4 | F75: 291.9 | G75: 322.4 | H75: +
A76: WTN 50200 red/white | B76: П/э без клеевого слоя; красн./бел.; 50ммх200м; толщина 50мк, для ограждения и маркирования опасных зон | C76: 0 | D76: 18 | E76: 142.3 | F76: 156.5 | G76: 172.9 | H76: +
A77: AST 5050 clear | B77: противоскользящая лента 50мм*50м, прозрачная | C77: Terminator | D77: 12 | E77: 2472.3 | F77: 2719.6 | G77: 3005.1 | H77: +
A78: AST 5050 lumin | B78: противоскользящая лента 50мм*50м, люминесцентная | C78: Terminator | D78: 12 | E78: 5341.2 | F78: 5875.5 | G78: 6492.4 | H78: +
A79: AST 5050w grey | B79: противоскользящая лента 50мм*50м, для влажных мест, серая | C79: Terminator | D79: 12 | E79: 5870.1 | F79: 6457.2 | G79: 7135.1 | H79: +

Sheet Изолента цвета
A1: Санкт-Петербург: +7 (812) 271-44 -84; +7 911-771-2000 | C1: прайс-лист действителен с 17.08.2026 | I1: =HYPERLINK("#'Заявка'!B860",IF('Заявка'!$L$5>0,"В заявке "&'Заявка'!$L$5&" поз. на "&IF(ROUND('Заявка'!$G$5,0)>=1000,INT(ROUND('Заявка'!$G$5,0)/1000)&" "&TEXT(MOD(ROUND('Заявка'!$G$5,0),1000),"000"),ROUND('Заявка'!$G$5,0)&"")&" ₽ →","Перейти к заявке →")) -> Перейти к заявке →
A2: Наименование | B2: Краткое описание | C2: Торговая марка | D2: В мастер-коробке (уп) | E2: цена в рублях при покупке на сумму | G2: Мелко-оптовая цена (от 17 000 рублей) | H2: 46300
E3: От 140 000 рублей | F3: От 50 000 рублей
B4: Снижение цены
B5: Повышение цены
B6: Новинка
A7: КЛЕЙКИЕ ЛЕНТЫ | B7: 0 | C7: 0 | D7: 0 | E7: 0 | F7: 0 | G7: 0
A8: Автомобильные клейкие ленты широкого применения | B8: 0 | C8: 0 | D8: 0 | E8: 0 | F8: 0 | G8: 0
A9: Изолента класса "standart" | B9: 0 | C9: 0 | D9: 0 | E9: 0 | F9: 0 | G9: 0
A10: IZT 1919 fabric DUO black & orange | B10: Полиэстер тканый; набор: черная + оранжевая; 19ммх19м, толщина 0,18 мм; акрилатный чувствительный к давлению клей | C10: Terminator | D10: 100 | E10: 429.2 | F10: 467.7 | G10: 516 | H10: +
A11: Профессиональные универсальные клейкие ленты | B11: 0 | C11: 0 | D11: 0 | E11: 0 | F11: 0 | G11: 0
A12: Изолента класса "premium" | B12: 0 | C12: 0 | D12: 0 | E12: 0 | F12: 0 | G12: 0
A13: IU1K red | B13: ПВХ; красная; 19ммх20м, толщина 0,18 самозатухающая | C13: Terminator | D13: 200 | E13: 163 | F13: 178 | G13: 197 | H13: +
A14: IU1K orange | B14: ПВХ; оранжевая; 19ммх20м, толщина 0,18 самозатухающая | C14: Terminator | D14: 200 | E14: 163 | F14: 178 | G14: 197 | H14: +
A15: IU1K yellow | B15: ПВХ; желтая; 19ммх20м, толщина 0,18 самозатухающая | C15: Terminator | D15: 200 | E15: 163 | F15: 178 | G15: 197 | H15: +
A16: IU1K green | B16: ПВХ; зеленая; 19ммх20м, толщина 0,18 самозатухающая | C16: Terminator | D16: 200 | E16: 163 | F16: 178 | G16: 197 | H16: +
A17: IU1K blue | B17: ПВХ; синяя; 19ммх20м, толщина 0,18 самозатухающая | C17: Terminator | D17: 200 | E17: 163 | F17: 178 | G17: 197 | H17: +
A18: IU1K white | B18: ПВХ; белая; 19ммх20м, толщина 0,18 самозатухающая | C18: Terminator | D18: 200 | E18: 163 | F18: 178 | G18: 197 | H18: +
A19: IU1K violet | B19: ПВХ; фиолетовая; 19ммх20м, толщина 0,18 самозатухающая | C19: Terminator | D19: 200 | E19: 163 | F19: 178 | G19: 197 | H19: +
A20: IU1K grey | B20: ПВХ; серая; 19ммх20м, толщина 0,18 самозатухающая | C20: Terminator | D20: 200 | E20: 163 | F20: 178 | G20: 197 | H20: +
A21: IU1K brown | B21: ПВХ; коричневая; 19ммх20м, толщина 0,18 самозатухающая | C21: Terminator | D21: 200 | E21: 163 | F21: 178 | G21: 197 | H21: +
A22: IC6P white | B22: ПВХ; белая; 19ммх20м, толщина 0,18мм, всепогодная, самозатухающая | C22: Terminator | D22: 200 | E22: 190.6 | F22: 209.5 | G22: 232.4 | H22: +
A23: Изолента класса "standart" | B23: 0 | C23: 0 | D23: 0 | E23: 0 | F23: 0 | G23: 0
A24: IZ 1510 green/yellow | B24: ПВХ; желто/зеленая ; 15ммх10м, толщина 0,12мм | C24: Terminator | D24: 500 | E24: 47.8 | F24: 53 | G24: 58 | H24: -
A25: IZ 1510 red | B25: ПВХ; красная; 15ммх10м, толщина 0,13мм | C25: Terminator | D25: 500 | E25: 41.7 | F25: 46.8 | G25: 51.7 | H25: +
A26: IZ 1510 yellow | B26: ПВХ; желтая; 15ммх10м, толщина 0,13мм | C26: Terminator | D26: 500 | E26: 41.7 | F26: 46.8 | G26: 51.7 | H26: +
A27: IZ 1510 green | B27: ПВХ; зеленая; 15ммх10м, толщина 0,13мм | C27: Terminator | D27: 500 | E27: 41.7 | F27: 46.8 | G27: 51.7 | H27: +
A28: IZ 1510 blue | B28: ПВХ; синяя 15ммх10м, толщина 0,13мм | C28: Terminator | D28: 500 | E28: 41.7 | F28: 46.8 | G28: 51.7 | H28: +
A29: IZ 1510 white | B29: ПВХ; белая; 15ммх10м, толщина 0,13мм | C29: Terminator | D29: 500 | E29: 41.7 | F29: 46.8 | G29: 51.7 | H29: +
A30: IZ 1918 red | B30: ПВХ; красная; 19ммх18,3м, толщина 0,13мм | C30: Terminator | D30: 250 | E30: 87.5 | F30: 96.9 | G30: 106.3 | H30: +
A31: IZ 1918 yellow | B31: ПВХ; желтая; 19ммх18,3м, толщина 0,13мм | C31: Terminator | D31: 250 | E31: 87.5 | F31: 96.9 | G31: 106.3 | H31: +
A32: IZ 1918 green | B32: ПВХ; зеленая; 19ммх18,3м, толщина 0,13мм | C32: Terminator | D32: 250 | E32: 87.5 | F32: 96.9 | G32: 106.3 | H32: +
A33: IZ 1918 blue | B33: ПВХ; синяя; 19ммх18,3м, толщина 0,13мм | C33: Terminator | D33: 250 | E33: 87.5 | F33: 96.9 | G33: 106.3 | H33: +
A34: IZ 1918 white | B34: ПВХ; белая; 19ммх18,3м, толщина 0,13мм | C34: Terminator | D34: 250 | E34: 87.5 | F34: 96.9 | G34: 106.3 | H34: +
A35: Titan 19мм*20м, ПВХ, синяя | B35: ПВХ; синяя; 19ммх20м, толщина 0,13мм, огнеупорная | C35: Titan | D35: 200 | E35: 91 | F35: 99.6 | G35: 111.1 | H35: +

Sheet ПРОМО
A1: Санкт-Петербург: +7 (812) 271-44 -84; +7 911-771-2000 | D1: прайс-лист действителен с 17.08.2026 | J1: =HYPERLINK("#'Заявка'!B860",IF('Заявка'!$L$5>0,"В заявке "&'Заявка'!$L$5&" поз. на "&IF(ROUND('Заявка'!$G$5,0)>=1000,INT(ROUND('Заявка'!$G$5,0)/1000)&" "&TEXT(MOD(ROUND('Заявка'!$G$5,0),1000),"000"),ROUND('Заявка'!$G$5,0)&"")&" ₽ →","Перейти к заявке →")) -> Перейти к заявке →
A2: Наименование | B2: фото | C2: Краткое описание | D2: Торговая марка | E2: В мастер-коробке (уп) | F2: цена в рублях при покупке на сумму | H2: Мелко-оптовая цена (от 17 000 рублей) | I2: 46300
F3: От 140 000 рублей | G3: От 50 000 рублей
A4: ПРОМО продукция | C4: 0 | D4: 0 | E4: 0 | F4: 0 | G4: 0 | H4: 0
A5: Blade 5000 PROMO | C5: Ультра тонкий пауэрбэнк, черно/белый, покрытие софт-тач, тип батареи: Li-Polymer (cell UL approval), Емкость: 5000mAh, размер: 150*65*9.6 мм, вес: 121.3 г | D5: Terminator | E5: 32 | F5: специальное предложение только для покупателей изоленты Terminator | G5: 0 | H5: 632.4 | I5: -
A6: UP4850 c логотипом TERMINATOR | C6: П/э; скотч упаковочный 48мм х 50м | D6: Terminator | E6: 36 | F6: 133.3 | G6: 146.9 | H6: 146.9 | I6: -
A7: Листы для заметок TERMINATOR | C7: Кубарики на склейке 9см*9см*5, 2см | D7: Terminator | E7: 100 | F7: 122.4 | G7: 122.4 | H7: 122.4 | I7: +
A8: Зонт "TERMINATOR" | C8: Зонт-автомат с куполом из переработанного пластика с логотипом "TERMINATOR" | D8: Terminator | E8: 48 | F8: 1600 | G8: 1700 | H8: 2000 | I8: +
A9: D-5.1918-20 | C9: Диспенсер настенный для изоленты TERMINATOR на 5 отсеков | D9: Terminator | E9: 1 | F9: 2000 | G9: 2000 | H9: 2500 | I9: +
A10: Плед "TERMINATOR" | C10: Плед-трансформер, дорожный вязаный, дизайн "TERMINATOR" | D10: Terminator | E10: 10 | F10: 3500 | G10: 3500 | H10: 4000 | I10: +
A11: Термостакан TITAN | C11: Термостакан TITAN, белый | D11: Titan | E11: 70 | F11: 400 | G11: 400 | H11: 400 | I11: +
A12: Ручка c логотипом TERMINATOR | C12: Ручка шариковая с логотипом TERMINATOR, цвета: красный, синий | D12: Terminator | E12: 1000 | F12: 70 | G12: 70 | H12: 70 | I12: +
A13: Ручка c логотипом TITAN | C13: Ручка шариковая с логотипом TITAN, цвет: золотистый | D13: Titan | E13: 1000 | F13: 70 | G13: 70 | H13: 70 | I13: +
A14: Кружка с логотипом TERMINATOR | C14: Кружка с пробковой подставкой TERMINATOR | D14: Terminator | E14: 24 | F14: 550 | G14: 550 | H14: 550 | I14: +

Sheet Провода
A1: Санкт-Петербург: +7 (812) 271-44 -84; +7 911-771-2000 | C1: прайс-лист действителен с 17.08.2026 | I1: =HYPERLINK("#'Заявка'!B860",IF('Заявка'!$L$5>0,"В заявке "&'Заявка'!$L$5&" поз. на "&IF(ROUND('Заявка'!$G$5,0)>=1000,INT(ROUND('Заявка'!$G$5,0)/1000)&" "&TEXT(MOD(ROUND('Заявка'!$G$5,0),1000),"000"),ROUND('Заявка'!$G$5,0)&"")&" ₽ →","Перейти к заявке →")) -> Перейти к заявке →
A2: Наименование | B2: Краткое описание | C2: Торговая марка | D2: В мастер-коробке (уп) | E2: цена в рублях при покупке на сумму | G2: Мелко-оптовая цена (от 17 000 рублей) | H2: 46300
E3: От 140 000 рублей | F3: От 50 000 рублей
B4: Снижение цены
B5: Повышение цены
B6: Новинка
A7: ПРОВОДА | B7: 0 | C7: 0 | D7: #REF! | E7: 0 | F7: 0 | G7: 0
A8: Провод монтажный двужильный(изоляция винил, красно-черный): | B8: 0 | C8: 0 | D8: #REF! | E8: 0 | F8: 0 | G8: 0
A9: бухты 100 метров: | B9: 0 | C9: 0 | D9: #REF! | E9: 0 | F9: 0 | G9: 0
A10: CM 0,35 (B) | B10: 100м, сечение 2*0,35мм², CCA | C10: Titan | D10: 20 | E10: 1514.4 | F10: 1675.2 | G10: 1853.1 | H10: +
A11: CM 0,5 | B11: 100м, сечение 2*0,5мм², Cu | C11: Titan | D11: 10 | E11: 4942.2 | F11: 5461.1 | G11: 6034.5 | H11: +
A12: CM 0,5 (B) | B12: 100м, сечение 2*0,5мм², CCA | C12: Titan | D12: 20 | E12: 1694.3 | F12: 1872.1 | G12: 2068.6 | H12: +
A13: CM 0,75 | B13: 100м,сечение 2*0,75мм², Cu | C13: Titan | D13: 8 | E13: 6672.5 | F13: 7372.3 | G13: 8145.5 | H13: +
A14: CM 0,75 (B) | B14: 100м,сечение 2*0,75мм², CCA | C14: Titan | D14: 8 | E14: 2302.4 | F14: 2544.3 | G14: 2811.6 | H14: +
A15: CM 1,0 | B15: 100м,сечение 2*1мм², Cu | C15: Titan | D15: 8 | E15: 8951.3 | F15: 9891.5 | G15: 10930.5 | H15: +
A16: CM 1,0 (B) | B16: 100м,сечение 2*1мм², CCA | C16: Titan | D16: 4 | E16: 3387.6 | F16: 3742.3 | G16: 4134.1 | H16: -
A17: CM 1,25 | B17: 100м, сечение 2*1,25мм², Cu | C17: Titan | D17: 8 | E17: 11861.1 | F17: 13106.9 | G17: 14483.5 | H17: +
A18: CM 1,25 (B) | B18: 100м,сечение 2*1,25мм², CCA | C18: Titan | D18: 6 | E18: 3537.8 | F18: 3910.6 | G18: 4322.7 | H18: +
A19: CM 1,5 (B) | B19: 100м,сечение 2*1,5мм², CCA | C19: Titan | D19: 6 | E19: 4258.8 | F19: 4706.1 | G19: 5200.4 | H19: +
A20: CM 2,0 (B) | B20: 100м, сечение 2*2,0мм², CCA | C20: Titan | D20: 4 | E20: 5439.7 | F20: 6010.6 | G20: 6641.4 | H20: +
A21: CM 2,5 (B) | B21: 100м, сечение 2*2,5мм², CCA | C21: Titan | D21: 4 | E21: 6253.4 | F21: 6909.6 | G21: 7634.7 | H21: +
A22: CM 4,0 (B) | B22: 100м, сечение 2*4,0мм², CCA | C22: Titan | D22: 2 | E22: 10048.9 | F22: 11104.2 | G22: 12270.3 | H22: +
A23: Кабель монтажный двужильный в двойной изоляции (винил, внешний - черный, цвет оcновной изоляции: красно/черный): | B23: 0 | C23: 0 | D23: #REF! | E23: 0 | F23: 0 | G23: 0
A24: PC-2 (B) | B24: 100м,сечение 2*0,75мм², CCA | C24: Titan | D24: 5 | E24: 4227.9 | F24: 4672 | G24: 5162.7 | H24: +
A25: PC-3 (B) | B25: 100м,сечение 2*1,0мм², CCA | C25: Titan | D25: 5 | E25: 6215.2 | F25: 6866.8 | G25: 7586.7 | H25: -
A26: PC-4 (B) | B26: 100м,сечение 2*1,5мм², CCA | C26: Titan | D26: 5 | E26: 7822.2 | F26: 8642.2 | G26: 9548.2 | H26: -
A27: Провод монтажный многожильный (изоляция винил): | B27: 0 | C27: 0 | D27: #REF! | E27: 0 | F27: 0 | G27: 0
A28: бухты 50 метров: | B28: 0 | C28: 0 | D28: #REF! | E28: 0 | F28: 0 | G28: 0
A29: PM 0,75 7-Pin 50м | B29: 50м, сечение 0,75мм², Cu; цвета изоляции жил: красный, черный, желтый, серый, белый, синий, зеленый | C29: Titan | D29: 4 | E29: 13214.6 | F29: 14602.5 | G29: 16136.2 | H29: -
A30: PM 1,25 7-Pin 50м | B30: 50м, сечение 1,25мм², Cu; цвета изоляции жил: красный, черный, желтый, серый, белый, синий, зеленый | C30: Titan | D30: 4 | E30: 20719.8 | F30: 22894.3 | G30: 25297 | H30: -
A31: бухты 100 метров: | B31: 0 | C31: 0 | D31: #REF! | E31: 0 | F31: 0 | G31: 0
A32: PM 0,35 5-Pin | B32: 100м, сечение 0,35мм², Cu; цвета изоляции жил: красный, черный, желтый, серый, белый | C32: Titan | D32: 6 | E32: 8122.4 | F32: 8975.4 | G32: 9918 | H32: -
A33: PM 0,35 7-Pin | B33: 100м, сечение 0,35мм², Cu; цвета изоляции жил: красный, черный, желтый, серый, белый, синий, зеленый | C33: Titan | D33: 4 | E33: 13970.4 | F33: 15437.3 | G33: 17058.2 | H33: +
A34: Провод монтажный, цвета в ассортименте (черный,красный,коричневый,синий,зеленый,желтый,оранжевый,серый,белый,фиолетовый): | B34: 0 | C34: 0 | D34: #REF! | E34: 0 | F34: 0 | G34: 0
A35: бухты 100 метров: | B35: 0 | C35: 0 | D35: #REF! | E35: 0 | F35: 0 | G35: 0
A36: PM 0,35 (B) | B36: 100м, сечение 0,35мм², CCA; цвета в ассортименте | C36: Titan | D36: 24 | E36: 800.8 | F36: 885.1 | G36: 978.3 | H36: !!!
A37: PM 0,5 | B37: 100м, сечение 0,5мм², Cu; цвета в ассортименте | C37: Titan | D37: 20 | E37: 2298.2 | F37: 2539.8 | G37: 2806.8 | H37: !!!
A38: PM 0,5 (B) | B38: 100м, сечение 0,5мм², CCA; цвета в ассортименте | C38: Titan | D38: 20 | E38: 878.6 | F38: 971.1 | G38: 1073.3 | H38: !!!
A39: PM 0,75 | B39: 100м, сечение 0,75мм², Cu; цвета в ассортименте | C39: Titan | D39: 16 | E39: 3138.7 | F39: 3468.5 | G39: 3833 | H39: !!!
A40: PM 0,75 (B) | B40: 100м, сечение 0,75мм², CCA; цвета в ассортименте | C40: Titan | D40: 20 | E40: 1176.9 | F40: 1300.3 | G40: 1436.6 | H40: !!!
A41: PM 1,0 | B41: 100м, сечение 1мм², Cu; цвета в ассортименте (черный,красный,синий,желтый) | C41: Titan | D41: 10 | E41: 4413.3 | F41: 4875.9 | G41: 5387 | H41: !!!
A42: PM 1,0 (B) | B42: 100м, сечение 1мм², CCA,; цвета в ассортименте | C42: Titan | D42: 10 | E42: 1594.3 | F42: 1761.3 | G42: 1945.8 | H42: !!!
A43: PM 1,25 | B43: 100м, сечение 1,25мм², Cu; цвета в ассортименте | C43: Titan | D43: 8 | E43: 5516 | F43: 6094.3 | G43: 6733.2 | H43: !!!
A44: PM 1,25 (B) | B44: 100м, сечение 1,25мм², CCA; цвета в ассортименте | C44: Titan | D44: 10 | E44: 1823.1 | F44: 2014 | G44: 2224.9 | H44: !!!
A45: PM 1,5 | B45: 100м, сечение 1,5мм², Cu; цвета в ассортименте (черный,красный,синий,желтый) | C45: Titan | D45: 10 | E45: 6618.8 | F45: 7313.8 | G45: 8081.8 | H45: !!!
A46: PM 1,5 (B) | B46: 100м, сечение 1,5мм², CCA; цвета в ассортименте | C46: Titan | D46: 8 | E46: 2099 | F46: 2319.5 | G46: 2563.2 | H46: !!!
A47: PM 2,0 | B47: 100м, сечение 2мм², Cu; цвета в ассортименте | C47: Titan | D47: 10 | E47: 8824.1 | F47: 9750.7 | G47: 10774.6 | H47: !!!
... A49: PM 2,5 (B) | B49: 100м, сечение 2,5мм², CCA; цвета в ассортименте (черный,красный) | C49: Titan | D49: 4 | E49: 3211.8 | F49: 3549.5 | G49: 3922.7 | H49: !!!

Sheet Провода цвета
A1: Санкт-Петербург: +7 (812) 271-44 -84; +7 911-771-2000 | C1: прайс-лист действителен с 17.08.2026 | I1: =HYPERLINK("#'Заявка'!B860",IF('Заявка'!$L$5>0,"В заявке "&'Заявка'!$L$5&" поз. на "&IF(ROUND('Заявка'!$G$5,0)>=1000,INT(ROUND('Заявка'!$G$5,0)/1000)&" "&TEXT(MOD(ROUND('Заявка'!$G$5,0),1000),"000"),ROUND('Заявка'!$G$5,0)&"")&" ₽ →","Перейти к заявке →")) -> Перейти к заявке →
A2: Наименование | B2: Краткое описание | C2: Торговая марка | D2: В мастер-коробке (уп) | E2: цена в рублях при покупке на сумму | G2: Мелко-оптовая цена (от 17 000 рублей) | H2: 46300
E3: От 140 000 рублей | F3: От 50 000 рублей
B4: Снижение цены
B5: Повышение цены
B6: Новинка
A7: ПРОВОДА | B7: 0 | C7: 0 | D7: 0 | E7: 0 | F7: 0 | G7: 0
A8: Провод монтажный многожильный (изоляция винил): | B8: 0 | C8: 0 | D8: 0 | E8: 0 | F8: 0 | G8: 0
A9: бухты 100 метров: | B9: 0 | C9: 0 | D9: 0 | E9: 0 | F9: 0 | G9: 0
A10: PM 0,35 (B) красн. | B10: 100м, сечение 0,35мм², CCA; красный | C10: Titan | D10: 24 | E10: 800.8 | F10: 885.1 | G10: 978.3 | H10: +
A11: PM 0,35 (B) оранж. | B11: 100м, сечение 0,35мм², CCA; оранжевый | C11: Titan | D11: 24 | E11: 800.8 | F11: 885.1 | G11: 978.3 | H11: +
A12: PM 0,35 (B) бел. | B12: 100м, сечение 0,35мм², CCA; белый | C12: Titan | D12: 24 | E12: 800.8 | F12: 885.1 | G12: 978.3 | H12: +
A13: PM 0,35 (B) зелен. | B13: 100м, сечение 0,35мм², CCA; зеленый | C13: Titan | D13: 24 | E13: 800.8 | F13: 885.1 | G13: 978.3 | H13: +
A14: PM 0,35 (B) син. | B14: 100м, сечение 0,35мм², CCA; синий | C14: Titan | D14: 24 | E14: 800.8 | F14: 885.1 | G14: 978.3 | H14: +
A15: PM 0,35 (B) кор. | B15: 100м, сечение 0,35мм², CCA; коричневый | C15: Titan | D15: 24 | E15: 800.8 | F15: 885.1 | G15: 978.3 | H15: +
A16: PM 0,35 (B) черн. | B16: 100м, сечение 0,35мм², CCA; черный | C16: Titan | D16: 24 | E16: 800.8 | F16: 885.1 | G16: 978.3 | H16: +
A17: PM 0,5 красн. | B17: 100м, сечение 0,5мм², Cu; красный | C17: Titan | D17: 20 | E17: 2298.2 | F17: 2539.8 | G17: 2806.8 | H17: +
A18: PM 0,5 зел. | B18: 100м, сечение 0,5мм², Cu; зеленый | C18: Titan | D18: 20 | E18: 2298.2 | F18: 2539.8 | G18: 2806.8 | H18: +
A19: PM 0,5 син. | B19: 100м, сечение 0,5мм², Cu; синий | C19: Titan | D19: 20 | E19: 2298.2 | F19: 2539.8 | G19: 2806.8 | H19: +
A20: PM 0,5 кор. | B20: 100м, сечение 0,5мм², Cu; коричневый | C20: Titan | D20: 20 | E20: 2298.2 | F20: 2539.8 | G20: 2806.8 | H20: +
A21: PM 0,5 черн. | B21: 100м, сечение 0,5мм², Cu; черный | C21: Titan | D21: 20 | E21: 2298.2 | F21: 2539.8 | G21: 2806.8 | H21: +
... A94: PM 2,5 (B) черн. | B94: 100м, сечение 2,5мм², CCA; черный | C94: Titan | D94: 4 | E94: 3211.8 | F94: 3549.5 | G94: 3922.7 | H94: +

Sheet Реле
A1: Санкт-Петербург: +7 (812) 271-44 -84; +7 911-771-2000 | C1: прайс-лист действителен с 17.08.2026 | I1: =HYPERLINK("#'Заявка'!B860",IF('Заявка'!$L$5>0,"В заявке "&'Заявка'!$L$5&" поз. на "&IF(ROUND('Заявка'!$G$5,0)>=1000,INT(ROUND('Заявка'!$G$5,0)/1000)&" "&TEXT(MOD(ROUND('Заявка'!$G$5,0),1000),"000"),ROUND('Заявка'!$G$5,0)&"")&" ₽ →","Перейти к заявке →")) -> Перейти к заявке →
A2: Наименование | B2: Краткое описание | C2: Торговая марка | D2: В мастер-коробке (уп) | E2: цена в рублях при покупке на сумму | G2: Мелко-оптовая цена (от 17 000 рублей) | H2: 46300
E3: От 140 000 рублей | F3: От 50 000 рублей
B4: Снижение цены
B5: Повышение цены
B6: Новинка
A7: РЕЛЕ БЛОКИРОВКИ И КОЛОДКИ К НИМ | B7: 0 | C7: 0 | D7: #REF! | E7: 0 | F7: 0 | G7: 0
A8: Реле блокировки без резистора | B8: 0 | C8: 0 | D8: #REF! | E8: 0 | F8: 0 | G8: 0
A9: AQR 12/10 MINI | B9: 5 контактов, MINI, без Разъема, 10А, 12В, в упаковке 100 шт, цена за штуку | C9: Titan | D9: 2000 | E9: 48.8 | F9: 54.2 | G9: 59.6 | H9: +
A10: AQR 12/15 MINI | B10: 5 контактов, MINI, без Разъема, 15А, 12В, в упаковке 100 шт, цена за штуку | C10: Titan | D10: 2000 | E10: 48.8 | F10: 54.2 | G10: 59.6 | H10: +
A11: AQR 12/20 MINI | B11: 5 контактов, MINI, без Разъема, 20А, 12В, в упаковке 25 шт, цена за штуку | C11: Titan | D11: 3000 | E11: 52.1 | F11: 56.5 | G11: 65.1 | H11: +
A12: AQR 12/40SF-4 | B12: 4 контакта, без Разъема, 40А, 12В, флюсостойкий пылезащ. корпус 27x28x25, пластик.брекет | C12: Titan | D12: 500 | E12: под заказ.мин. Партия 5000 шт | F12: 0 | G12: 0 | H12: -
A13: AQR 12/40SF-5 | B13: 5 контактов, без Разъема, 40А, 12В, флюсостойкий пылезащ. корпус 27x28x25, пластик.брекет | C13: Titan | D13: 400 | E13: 140.6 | F13: 154.4 | G13: 170.6 | H13: +
A14: AQR 24/40SF-5 | B14: 5 контактов, без Разъема, 40А, 24В, флюсостойкий пылезащ. корпус 27x28x25, пластик.брекет | C14: Titan | D14: 400 | E14: 142.8 | F14: 156.9 | G14: 173 | H14: +
A15: AQR 12/40SW-5 | B15: 5 контактов, без Разъема, 40А, 12В, герметичный корпус 27x28x25, металлический брекет | C15: Titan | D15: 400 | E15: 158.5 | F15: 174.6 | G15: 192.3 | H15: +
A16: AQR 12/40SW-5 (F) | B16: 5 контактов, без Разъема, 40А, 12В, герметичный корпус 27x28x25, пластик.брекет | C16: Titan | D16: 400 | E16: 116.2 | F16: 127.3 | G16: 140.7 | H16: +
A17: AQR 12/40SW-5 (М) | B17: 5 контактов: 2 конт. 6,3мм, 3конт.4,8мм, без Разъема, 40А, 12В, герметичный корпус 20,5x15x22, без брекета | C17: Titan | D17: 700 | E17: 100.3 | F17: 109.7 | G17: 121.5 | H17: +
A18: Колодки к реле | B18: 0 | C18: 0 | D18: #REF! | E18: 0 | F18: 0 | G18: 0
A19: AQR 16-15 MINI | B19: колодка к мини реле AQR 12/15 MINI и AQR 12/10 MINI, пятипроводная | C19: Titan | D19: 2000 | E19: 78.3 | F19: 83.3 | G19: 88.5 | H19: +
A20: AQR 16-20 MINI | B20: колодка к мини реле AQR 12/20 MINI, пятипроводная | C20: Titan | D20: 1000 | E20: 78.3 | F20: 83.3 | G20: 88.5 | H20: +
A21: AQR 16-5 | B21: колодка к реле AQR 12/40SW-5 (М), пятипроводная, с брекетом, наборная в линейку | C21: Titan | D21: 500 | E21: 113.7 | F21: 120.8 | G21: 128.5 | H21: +
A22: AQR 16-5D | B22: колодка к реле, пятипроводная с диодом, "квадрат", провода: L=19см; сечение 2*0,75мм² и 3*2,0мм² | C22: Titan | D22: 500 | E22: 113.7 | F22: 120.8 | G22: 128.5 | H22: +
A23: AQR 16-5DK | B23: колодка к реле, пятипроводная с диодом, "крест", провода: L=19см; сечение 2*0,75мм² и 3*2,0мм² | C23: Titan | D23: 500 | E23: 113.7 | F23: 120.8 | G23: 128.5 | H23: +
A24: AQR 16-4/4,8 | B24: колодка к реле AQR 12/40SP-4, четырехпроводная , провода L=16см | C24: Titan | D24: 1000 | E24: 52 | F24: 57.8 | G24: 63.8 | H24: +
A25: AQA 5 (100шт) | B25: корпус колодки "квадрат" для 5-ти контактного реле без проводов и клемм (100шт) | C25: Titan | D25: 15 | E25: 2700.9 | F25: 3102.4 | G25: 3420.5 | H25: +
A26: AQA 6 (100шт) | B26: корпус колодки "крест" для 5-ти контактного реле без проводов и клемм, наборный в линейку(100шт), черный | C26: Titan | D26: 14 | E26: 2252.9 | F26: 2594.9 | G26: 2854.5 | H26: +

Sheet Концевики
A1: Санкт-Петербург: +7 (812) 271-44 -84; +7 911-771-2000 | C1: прайс-лист действителен с 17.08.2026 | I1: =HYPERLINK("#'Заявка'!B860",IF('Заявка'!$L$5>0,"В заявке "&'Заявка'!$L$5&" поз. на "&IF(ROUND('Заявка'!$G$5,0)>=1000,INT(ROUND('Заявка'!$G$5,0)/1000)&" "&TEXT(MOD(ROUND('Заявка'!$G$5,0),1000),"000"),ROUND('Заявка'!$G$5,0)&"")&" ₽ →","Перейти к заявке →")) -> Перейти к заявке →
A2: Наименование | C2: Краткое описание | D2: В мастер-коробке (уп) | E2: цена в рублях при покупке на сумму | G2: Мелко-оптовая цена (от 17 000 рублей) | H2: 46300
E3: От 140 000 рублей | F3: От 50 000 рублей
B4: Снижение цены | D4: 0 | E4: 0 | F4: 0 | G4: 0 | H4: 0
B5: Повышение цены | D5: 0 | E5: 0 | F5: 0 | G5: 0 | H5: 0
B6: Новинка | D6: 0 | E6: 0 | F6: 0 | G6: 0 | H6: 0
A7: КОНЦЕВЫЕ КОНТАКТЫ
A8: AQM 21 | C8: Металлический шток. Мin высота выступающей части. Цилиндрический контакт и резьба. | D8: 2400 | E8: 14 | F8: 16.1 | G8: 17.5 | H8: +
A9: AQM 22 | C9: Концевой контакт общего назначения. Пластмассовый шток. Две контргайки. Ножевой контакт и резьба. Регулировка по высоте. | D9: 1000 | E9: 37.7 | F9: 42.3 | G9: 46.9 | H9: +
A10: AQM 25В | C10: На сдвижную дверь для кузовов фургонного типа. | D10: 250 | E10: 193.4 | F10: 211.2 | G10: 234.6 | H10: +
A11: AQM 30A с пыльником | C11: для ВАЗ 2114-15, 1119, "Шевроле-Нива", "Приора", "Лада-Гранта" с пыльником | D11: 500 | E11: 122.5 | F11: 131.3 | G11: 144.4 | H11: +
A12: WH-3P-F (мама) | C12: Герметичный Разъем для концевика AQM 30A, произв. Россия | D12: 2000 | E12: 77.6 | F12: 85.6 | G12: 96.9 | H12: +
A13: WH-3P-F мама, Тайвань | C13: Герметичный Разъем для концевика AQM 30A, произв. Тайвань | D13: 2000 | E13: 203.8 | F13: 224.4 | G13: 248.4 | H13: +
A14: AQM 30B | C14: Корпус с неподвижным фланцем. Пластмассовый шток, регулируемый по высоте. Ножевой контакт. Герметичный резиновый протектор. | D14: 1500 | E14: 34.5 | F14: 37 | G14: 40.8 | H14: +
A15: AQM 40A | C15: Металлические кронштейны для концевых выключателей. Отверстие с резьбой и регулировочные прорези. Пластина прямая. | D15: 800 | E15: 28.7 | F15: 30.8 | G15: 34.4 | H15: +
A16: AQM 40AL | C16: Металлические кронштейны для концевых выключателей. Отверстие с резьбой и регулировочные прорези. Пластина гнутая | D16: 700 | E16: 28.7 | F16: 30.8 | G16: 34.4 | H16: +
A17: AQM 54 с пыльником | C17: на Lada Largus, Renault Logan фаза 1, Logan фаза 2, Sandero, Sandero stepway, Duster | D17: 1000 | E17: 186.8 | F17: 205 | G17: 226.7 | H17: +
A18: WH-2P-F, мама, "Ларгус" (Россия) | C18: Разъем для концевика AQM 54, произв. Россия | D18: 1000 | E18: 80.9 | F18: 80.9 | G18: 90.7 | H18: +
A19: WH-2P-F, мама, "Ларгус" Тайвань | C19: Разъем для концевика AQM 54, произв. Тайвань | D19: 2000 | E19: 163.8 | F19: 180.8 | G19: 200.5 | H19: +

Sheet Предохранители
A1: Санкт-Петербург: +7 (812) 271-44 -84; +7 911-771-2000 | C1: прайс-лист действителен с 17.08.2026 | I1: =HYPERLINK("#'Заявка'!B860",IF('Заявка'!$L$5>0,"В заявке "&'Заявка'!$L$5&" поз. на "&IF(ROUND('Заявка'!$G$5,0)>=1000,INT(ROUND('Заявка'!$G$5,0)/1000)&" "&TEXT(MOD(ROUND('Заявка'!$G$5,0),1000),"000"),ROUND('Заявка'!$G$5,0)&"")&" ₽ →","Перейти к заявке →")) -> Перейти к заявке →
A2: Наименование | B2: Краткое описание | C2: Торговая марка | D2: В мастер-коробке (уп) | E2: цена в рублях при покупке на сумму | G2: Мелко-оптовая цена (от 17 000 рублей) | H2: 46300
E3: От 140 000 рублей | F3: От 50 000 рублей
B4: Снижение цены
B5: Повышение цены
B6: Новинка
A7: ДЕРЖАТЕЛИ ПРЕДОХРАНИТЕЛЯ И ПРЕДОХРАНИТЕЛИ АВТОМОБИЛЬНЫЕ ПЛАВКИЕ, НОЖЕВОГО ТИПА | B7: 0 | C7: 0 | D7: #REF! | E7: 0 | F7: 0 | G7: 0
A8: Предохранители, 50 шт: | B8: 0 | C8: 0 | D8: #REF! | E8: 0 | F8: 0 | G8: 0
A9: PRMICRO 10 | B9: 10А, размер-micro | C9: Titan | D9: 100 | E9: 553.1 | F9: 635.7 | G9: 699.6 | H9: +
A10: PRMICRO 15 | B10: 15А, размер-micro | C10: Titan | D10: 20 | E10: 553.1 | F10: 635.7 | G10: 699.6 | H10: +
A11: PRMICRO 20 | B11: 20А, размер-micro | C11: Titan | D11: 20 | E11: 553.1 | F11: 635.7 | G11: 699.6 | H11: +
A12: PRMICRO 30 | B12: 30А, размер-micro | C12: Titan | D12: 10 | E12: 553.1 | F12: 635.7 | G12: 699.6 | H12: +
A13: PRM 3 | B13: 3А, размер-mini | C13: Titan | D13: 100 | E13: 391.6 | F13: 470.6 | G13: 517.7 | H13: +
A14: PRM 5 | B14: 5А, размер-mini | C14: Titan | D14: 100 | E14: 391.6 | F14: 470.6 | G14: 517.7 | H14: +
A15: PRM 7,5 | B15: 7А, размер-mini | C15: Titan | D15: 100 | E15: 391.6 | F15: 470.6 | G15: 517.7 | H15: +
A16: PRM 10 | B16: 10А, размер-mini | C16: Titan | D16: 10 | E16: 391.6 | F16: 470.6 | G16: 517.7 | H16: +
A17: PRM 15 | B17: 15А, размер-mini | C17: Titan | D17: 20 | E17: 391.6 | F17: 470.6 | G17: 517.7 | H17: +
A18: PRM 20 | B18: 20А, размер-mini | C18: Titan | D18: 20 | E18: 391.6 | F18: 470.6 | G18: 517.7 | H18: +
A19: PRM 25 | B19: 25А, размер-mini | C19: Titan | D19: 20 | E19: 391.6 | F19: 470.6 | G19: 517.7 | H19: +
A20: PRM 30 | B20: 30А, размер-mini | C20: Titan | D20: 20 | E20: 391.6 | F20: 470.6 | G20: 517.7 | H20: +
... A35: PRX 30 | B35: 30А, размер-maxi | C35: Titan | D35: 40 | E35: 1396.4 | F35: 1676.9 | G35: 1844.6 | H35: +
A36: Наборы предохранителей: | B36: 0 | C36: 0 | D36: #REF! | E36: 0 | F36: 0 | G36: 0
A37: F 152 | B37: Комплект предохранителей 10шт; 5А-25А; тип "ТОРПЕДО"; блистер | C37: Tesla | D37: 180 | E37: 107 | F37: 111.8 | G37: 123 | H37: +
A38: Держатель предохранителей/разветвитель, 25 шт: | B38: 0 | C38: 0 | D38: #REF! | E38: 0 | F38: 0 | G38: 0
A39: DPRC 7,5 micro | B39: для 7,5А, с крышкой; VINYL, размер-micro, сечение провода 1,3 мм² | C39: Titan | D39: 50 | E39: 1978.6 | F39: 2183.6 | G39: 2412.4 | H39: +
A40: DPRC 20 micro | B40: для 20А, с крышкой; VINYL, размер-micro, сечение провода 3,3 мм² | C40: Titan | D40: 40 | E40: 2227 | F40: 2457.7 | G40: 2715.1 | H40: +
A41: Держатель предохранителей, 25 шт: | B41: 0 | C41: 0 | D41: #REF! | E41: 0 | F41: 0 | G41: 0
A42: DPRC 7,5 mini | B42: для 7,5А, с крышкой; VINYL, размер-mini, сечение провода 1,3 мм² | C42: Titan | D42: 20 | E42: 1978.6 | F42: 2183.6 | G42: 2412.4 | H42: +
A43: DPRC 20 mini | B43: для 20А, с крышкой; VINYL, размер-mini, сечение провода 3,3 мм² | C43: Titan | D43: 20 | E43: 2227 | F43: 2457.7 | G43: 2715.1 | H43: +
A44: DPRC 7,5 RED | B44: для 7,5А, с крышкой; VINYL, размер-standart, красн., сечение провода 1,3 мм² | C44: Titan | D44: 20 | E44: 1835.2 | F44: 2025.4 | G44: 2237.5 | H44: +
A45: DPRC 15 RED | B45: для 15А, с крышкой; VINYL, размер-standart, красн., сечение провода 2,1 мм² | C45: Titan | D45: 20 | E45: 2031.5 | F45: 2242 | G45: 2477 | H45: +
A46: DPRC 20 RED | B46: для 20А, с крышкой; VINYL, размер-standart, красн., сечение провода 3,3 мм² | C46: Titan | D46: 20 | E46: 2314.2 | F46: 2553.9 | G46: 2821.3 | H46: +
A47: DPRC 30 RED | B47: для 30А, с крышкой; VINYL, размер-standart, красн., сечение провода 5,3 мм² | C47: Titan | D47: 20 | E47: 3362.8 | F47: 3711.2 | G47: 4099.8 | H47: +
A48: DPRC 7,5 BLACK | B48: для 7,5А, с крышкой; VINYL, размер-standart, черн., сечение провода 1,3 мм² | C48: Titan | D48: 20 | E48: 1835.2 | F48: 2025.4 | G48: 2237.5 | H48: +
A49: DPRC 15 BLACK | B49: для 15А, с крышкой; VINYL, размер-standart, черн., сечение провода 2,1 мм² | C49: Titan | D49: 20 | E49: 2031.5 | F49: 2242 | G49: 2477 | H49: +
A50: DPRC 20 BLACK | B50: для 20А, с крышкой; VINYL, размер-standart, черн., сечение провода 3,3 мм² | C50: Titan | D50: 20 | E50: 2314.2 | F50: 2553.9 | G50: 2821.3 | H50: +
A51: DPRC 30 BLACK | B51: для 30А, с крышкой; VINYL, размер-standart, черн., сечение провода 5,3 мм² | C51: Titan | D51: 20 | E51: 3362.8 | F51: 3711.2 | G51: 4099.8 | H51: +

Sheet Тюбинг
A1: Санкт-Петербург: +7 (812) 271-44 -84; +7 911-771-2000 | C1: прайс-лист действителен с 17.08.2026 | I1: =HYPERLINK("#'Заявка'!B860",IF('Заявка'!$L$5>0,"В заявке "&'Заявка'!$L$5&" поз. на "&IF(ROUND('Заявка'!$G$5,0)>=1000,INT(ROUND('Заявка'!$G$5,0)/1000)&" "&TEXT(MOD(ROUND('Заявка'!$G$5,0),1000),"000"),ROUND('Заявка'!$G$5,0)&"")&" ₽ →","Перейти к заявке →")) -> Перейти к заявке →
A2: Наименование | B2: Краткое описание | C2: Торговая марка | D2: В мастер-коробке (уп) | E2: цена в рублях при покупке на сумму | G2: Мелко-оптовая цена (от 17 000 рублей) | H2: 46300
E3: От 140 000 рублей | F3: От 50 000 рублей
B4: Снижение цены
B5: Повышение цены
B6: Новинка
A7: ТЮБИНГ ДЛЯ УКЛАДКИ ПРОВОДОВ | B7: 0 | C7: 0 | D7: #REF! | E7: 0 | F7: 0 | G7: 0
A8: Кембрик | B8: 0 | C8: 0 | D8: #REF! | E8: 0 | F8: 0 | G8: 0
A9: KM-5 | B9: Кембрик пвх, диам.5 мм, черн., длина 200 м | C9: Titan | D9: 5 | E9: 3181.2 | F9: 3498.6 | G9: 3866.2 | H9: +
A10: KM-6 | B10: Кембрик пвх, диам.6 мм, черн., длина 200 м | C10: Titan | D10: 4 | E10: 3806.1 | F10: 4187.8 | G10: 4627.3 | H10: -
A11: KM-10 | B11: Кембрик пвх, диам.10 мм, черн., длина 100 м | C11: Titan | D11: 4 | E11: 3171.4 | F11: 3487.7 | G11: 3854.2 | H11: -
A12: Защитная оплетка "змеиная кожа" | B12: 0 | C12: 0 | D12: #REF! | E12: 0 | F12: 0 | G12: 0
A13: SS-5 (10м) черн. | B13: номинальный размер: 6 мм, длина 10 м, диаметр 3-9 мм | C13: Titan | D13: 20 | E13: 670.4 | F13: 737.1 | G13: 804.7 | H13: -
A14: SS-5 (10м) син. | B14: номинальный размер: 6 мм, длина 10 м, диаметр 3-9 мм | C14: Titan | D14: 20 | E14: 701.7 | F14: 771.3 | G14: 842.2 | H14: +
A15: SS-5 (15м) черн. | B15: номинальный размер: 6 мм, длина 15 м, диаметр 3-9 мм | C15: Titan | D15: 50 | E15: 815.1 | F15: 896.3 | G15: 979.5 | H15: +
A16: SS-5 (15м) красн. | B16: номинальный размер: 6 мм, длина 15 м, диаметр 3-9 мм | C16: Titan | D16: 54 | E16: 862 | F16: 948.4 | G16: 1035.8 | H16: +
A17: SS-5 (15м) син. | B17: номинальный размер: 6 мм, длина 15 м, диаметр 3-9 мм | C17: Titan | D17: 54 | E17: 862 | F17: 948.4 | G17: 1035.8 | H17: +
A18: SS-5 (15м) зел | B18: номинальный размер: 6 мм, длина 15 м, диаметр 3-9 мм | C18: Titan | D18: 54 | E18: 862 | F18: 948.4 | G18: 1035.8 | H18: +
A19: SS-5 (100м) черн. | B19: номинальный размер: 6 мм, длина 100 м, диаметр 3-9 мм | C19: Titan | D19: 8 | E19: 2954.4 | F19: 3251 | G19: 3549.9 | H19: +
A20: SS-10 (10м) черн. | B20: номинальный размер: 10 мм, длина 10 м, диаметр 7-19 мм | C20: Titan | D20: 50 | E20: 776.6 | F20: 854.7 | G20: 933.8 | H20: +
A21: SS-10 (100м) черн. | B21: номинальный размер: 10 мм, длина 100 м, диаметр 7-19 мм | C21: Titan | D21: 10 | E21: 4027.7 | F21: 4428.4 | G21: 4836.5 | H21: +
A22: SS-10 (10м) графит | B22: номинальный размер: 10 мм, длина 10 м, диаметр 7-19 мм | C22: Titan | D22: 50 | E22: 830.7 | F22: 914 | G22: 998.4 | H22: +
A23: SS-10 (100м) графит | B23: номинальный размер: 10 мм, длина 100 м, диаметр 7-19 мм | C23: Titan | D23: 10 | E23: 4562.8 | F23: 5018.7 | G23: 5480.9 | H23: +
A24: SS-10 (10м) красн. | B24: номинальный размер: 10 мм, длина 10 м, диаметр 7-19 мм | C24: Titan | D24: 50 | E24: 830.7 | F24: 914 | G24: 998.4 | H24: +
... A43: SS-80 (100м) | B43: номинальный размер: 76 мм, длина 100 м, диаметр 64-120 мм | C43: Titan | D43: 2 | E43: 62610.7 | F43: 68869.2 | G43: 76106.4 | H43: +
A44: Самоскручивающаяся защитная оплетка тип "змеиная кожа" с разрезом | B44: 0 | C44: 0 | D44: #REF! | E44: 0 | F44: 0 | G44: 0
A45: SS-10SC (100м) | B45: самоскручивающаяся змеиная кожа с разрезом, вн. диаметр 13мм, перекрытие краев 25%, диапазон рабочих температур: -50°С +150°С | C45: Titan | D45: 4 | E45: 13137.5 | F45: 14451.5 | G45: 13885.9 | H45: +
A46: Термоусаживаемая оплетка, коэффициент усадки 2:1 | B46: 0 | C46: 0 | D46: #REF! | E46: 0 | F46: 0 | G46: 0
A47: SSA-10 (5м) черн. | B47: диаметр 10 мм, длина 5м | C47: Titan | D47: 50 | E47: 1368.9 | F47: 1506.3 | G47: 1664.6 | H47: +
A48: SSA-20 (5м) черн. | B48: диаметр 20 мм, длина 5м | C48: Titan | D48: 50 | E48: 1848.9 | F48: 2033.1 | G48: 2247.6 | H48: +
A49: SSA-20 (50м) черн. | B49: диаметр 20 мм, длина 50м | C49: Titan | D49: 5 | E49: 16806.1 | F49: 18486.3 | G49: 20428.9 | H49: +
A50: SSA-40 (2,5м) черн. | B50: диаметр 40 мм, длина 2,5м | C50: Titan | D50: 50 | E50: 1643.8 | F50: 1808.3 | G50: 1998.8 | H50: +
A51: SSA-40 (50м) черн. | B51: диаметр 40 мм, длина 50м | C51: Titan | D51: 3 | E51: 29890.6 | F51: 32877.3 | G51: 31593.7 | H51: +
A52: SSA-70 (50м) черн. | B52: диаметр 70 мм, длина 50м | C52: Titan | D52: 5 | E52: 45485 | F52: 50033.1 | G52: 55287.1 | H52: +
A53: SSA-70 черн.на отрез | B53: диаметр 70 мм, цена за 1м | C53: Titan | D53: 250 | E53: 1014.4 | F53: 1117.2 | G53: 1233.8 | H53: -
A54: Гофрированный, длина 10 метров: | B54: 0 | C54: 0 | D54: #REF! | E54: 0 | F54: 0 | G54: 0
A55: SLT-4 (10) | B55: диаметр 4,6 мм, с разрезом | C55: Titan | D55: 10 | E55: 242.8 | F55: 268.1 | G55: 295.5 | H55: -
A56: SLT-4 (10) без разреза | B56: диаметр 4,6 мм, без разреза | C56: Titan | D56: 10 | E56: 153.4 | F56: 168.3 | G56: 185.5 | H56: -
A57: SLT-7 (10) | B57: диаметр 6,6 мм, с разрезом | C57: Titan | D57: 10 | E57: 264.5 | F57: 290.9 | G57: 321.8 | H57: +
A58: SLT-7 (10) без разреза | B58: диаметр 6,6 мм, без разреза | C58: Titan | D58: 10 | E58: 264.5 | F58: 290.9 | G58: 321.8 | H58: +
A59: SLT-10 (10) | B59: диаметр 9,7 мм, с разрезом | C59: Titan | D59: 10 | E59: 355 | F59: 389.3 | G59: 430.5 | H59: -
A60: SLT-10 (10) без разреза | B60: диаметр 9,7 мм, без разреза | C60: Titan | D60: 10 | E60: 355 | F60: 389.3 | G60: 430.5 | H60: +
A61: SLT-13 (10) | B61: диаметр 13 мм, с разрезом | C61: Titan | D61: 10 | E61: 446.6 | F61: 491.2 | G61: 544 | H61: +
A62: SLT-13 (10) без разреза | B62: диаметр 13 мм, без разреза | C62: Titan | D62: 10 | E62: 446.6 | F62: 491.2 | G62: 544 | H62: +
A63: SLT-17 (10) | B63: диаметр 15,7 мм, с разрезом | C63: Titan | D63: 10 | E63: 615 | F63: 676.9 | G63: 747.8 | H63: +
A64: SLT-17 (10) без разреза | B64: диаметр 15,7 мм, без разреза | C64: Titan | D64: 10 | E64: 615 | F64: 676.9 | G64: 747.8 | H64: +
A65: Тюбинг гофрированный, длина 25 метров: | B65: 0 | C65: 0 | D65: #REF! | E65: 0 | F65: 0 | G65: 0
A66: SLT-30 (25) | B66: диаметр 25,8 мм, c разрезом | C66: Titan | D66: 10 | E66: 1706.3 | F66: 1875.7 | G66: 2072.6 | H66: +
A67: Тюбинг гофрированный, длина 50 метров: | B67: 0 | C67: 0 | D67: #REF! | E67: 0 | F67: 0 | G67: 0
A68: SLT-7 (50) | B68: диаметр 6,6 мм, с разрезом | C68: Titan | D68: 10 | E68: 1267.7 | F68: 1394.7 | G68: 1542.4 | H68: +
A69: SLT-10 (50) | B69: диаметр 9,7 мм, с разрезом | C69: Titan | D69: 10 | E69: 1656.9 | F69: 1820.7 | G69: 2013.1 | H69: +
A70: SLT-10 (50) без разреза | B70: диаметр 9,7 мм, без разреза | C70: Titan | D70: 24 | E70: 1506.3 | F70: 1655.3 | G70: 1830.1 | H70: +
A71: SLT-13 (50) | B71: диаметр 13 мм, с разрезом | C71: Titan | D71: 10 | E71: 2053.3 | F71: 2257.1 | G71: 2494 | H71: +
A72: SLT-17 (50) | B72: диаметр 15,7 мм, с разрезом | C72: Titan | D72: 10 | E72: 2794.1 | F72: 3073.6 | G72: 3395.4 | H72: +
A73: Тюбинг гофрированный, длина 100 метров: | B73: 0 | C73: 0 | D73: #REF! | E73: 0 | F73: 0 | G73: 0
A74: SLT-4 (100) | B74: диаметр 4,6 мм, с разрезом | C74: Titan | D74: 10 | E74: 2331.4 | F74: 2563.9 | G74: 2833.1 | H74: +
A75: SLT-4 (100) без разреза | B75: диаметр 4,6 мм, без разреза | C75: Titan | D75: 10 | E75: 893.5 | F75: 983.2 | G75: 1086.3 | H75: +
A76: Тюбинг спиральный 10метров: | B76: 0 | C76: 0 | D76: #REF! | E76: 0 | F76: 0 | G76: 0
A77: SPT-4,5 | B77: рабочий диапазон:4,5мм-25мм, черный | C77: Titan | D77: 420 | E77: 172.1 | F77: 189.5 | G77: 209.5 | H77: +
A78: SPT-6 | B78: рабочий диапазон:5мм-25мм, черный | C78: Titan | D78: 125 | E78: 227 | F78: 249.5 | G78: 275.8 | H78: +
A79: SPT-15 | B79: рабочий диапазон:12мм-35мм, черный | C79: Titan | D79: 60 | E79: 466.9 | F79: 513.3 | G79: 567.3 | H79: +
A80: SPT-15 natural | B80: рабочий диапазон:12мм-35мм, белый | C80: Titan | D80: 15 | E80: 466.9 | F80: 513.3 | G80: 567.3 | H80: +
A81: SPT-19 | B81: рабочий диапазон:15мм-50мм, черный | C81: Titan | D81: 20 | E81: 583.5 | F81: 641.7 | G81: 709.1 | H81: +
A82: SPT-19 natural | B82: рабочий диапазон:15мм-50мм, белый | C82: Titan | D82: 20 | E82: 583.5 | F82: 641.7 | G82: 709.1 | H82: +
A83: SPT-24 | B83: рабочий диапазон:20мм-100мм, черный | C83: Titan | D83: 25 | E83: 891.5 | F83: 980.6 | G83: 1083.6 | H83: +

Sheet Клеммы
A1: Санкт-Петербург: +7 (812) 271-44 -84; +7 911-771-2000 | C1: прайс-лист действителен с 17.08.2026 | I1: =HYPERLINK("#'Заявка'!B860",IF('Заявка'!$L$5>0,"В заявке "&'Заявка'!$L$5&" поз. на "&IF(ROUND('Заявка'!$G$5,0)>=1000,INT(ROUND('Заявка'!$G$5,0)/1000)&" "&TEXT(MOD(ROUND('Заявка'!$G$5,0),1000),"000"),ROUND('Заявка'!$G$5,0)&"")&" ₽ →","Перейти к заявке →")) -> Перейти к заявке →
A2: Наименование | B2: Краткое описание | C2: Торговая марка | D2: В мастер-коробке (уп) | E2: цена в рублях при покупке на сумму | G2: Мелко-оптовая цена (от 17 000 рублей) | H2: 46300
E3: От 140 000 рублей | F3: От 50 000 рублей
A4: В связи с вступлением в силу требований по обязательной маркировке радиоэлектронной продукции (Постановление Правительства РФ № 1954) с 1 декабря 2026 г. — наступает запрет оборота немаркированной радиоэлектронной продукции. Все немаркированные остатки должны быть распроданы либо промаркированы. Товары код ТНВЭД 8536699008 и 8536901000 | B4: 0 | C4: 0 | D4: 0 | E4: 0 | F4: 0 | G4: 0
A5: 0 | B5: 0 | C5: 0 | D5: 0 | E5: 0 | F5: 0 | G5: 0
A6: С 1 мая 2026 года до 30 ноября 2026 года все участники оборота товаров могут начать маркировать остатки товаров, произведенных до 1 мая 2026 года (продажа и отгрузка немаркированных остатков до 01.12.2026 разрешены). | B6: 0 | C6: 0 | D6: 0 | E6: 0 | F6: 0 | G6: 0
A7: КЛЕММЫ ОБЖИМНЫЕ | B7: 0 | C7: 0 | D7: 0 | E7: 0 | F7: 0 | G7: 0
A8: Кольцевые без изоляции, 100 шт. | B8: 0 | C8: 0 | D8: 0 | E8: 0 | F8: 0 | G8: 0
A9: RNB 1-4 | B9: диам. 4,3мм , 0,5-1,5мм² | C9: Titan | D9: 240 | E9: 211.7 | F9: 232.6 | G9: 256.9 | H9: -
A10: RNB 1-5 | B10: диам. 5,3мм, 0,5-1,5мм² | C10: Titan | D10: 240 | E10: 213.2 | F10: 234.6 | G10: 258.3 | H10: -
A11: RNB 1-6 | B11: диам. 6,7мм, 0,5-1,5мм² | C11: Titan | D11: 100 | E11: 369.2 | F11: 406.2 | G11: 449.1 | H11: -
A12: RNB 2-6 | B12: диам. 6,4мм, 1,5-2,5мм² | C12: Titan | D12: 15 | E12: 469.8 | F12: 517.2 | G12: 571.2 | H12: -
A13: RNB 5-8 | B13: диам. 8,4мм, 4-6мм² | C13: Titan | D13: 100 | E13: 974.2 | F13: 1071.8 | G13: 1183.8 | H13: -
A14: Кольцевые без изоляции, латунь, 100шт. | B14: 0 | C14: 0 | D14: 0 | E14: 0 | F14: 0 | G14: 0
A15: LR 1-6-0,8 | B15: клемма кольцевая, диам. 6мм, сечение провода 0,5-0,8мм² | C15: Titan | D15: 240 | E15: 282.2 | F15: 310.9 | G15: 339.5 | H15: +
A16: LR 1-8-1,5 | B16: клемма кольцевая, диам. 8мм, сечение провода 1-1,5мм² | C16: Titan | D16: 180 | E16: 416.8 | F16: 458.5 | G16: 501.4 | H16: +
A17: LR 1-10-1,5 | B17: клемма кольцевая, диам. 10мм, сечение провода 1-1,5мм² | C17: Titan | D17: 120 | E17: 416.8 | F17: 458.5 | G17: 501.4 | H17: +
A18: LR 2-5-2,5 | B18: клемма кольцевая, диам. 5мм, сечение провода 1,5-2,5мм² | C18: Titan | D18: 240 | E18: 295.4 | F18: 324 | G18: 353.7 | H18: +
A19: LR 2-6-2,5 | B19: клемма кольцевая, диам. 6мм, сечение провода 1,5-2,5мм² | C19: Titan | D19: 180 | E19: 327.6 | F19: 359.7 | G19: 392.9 | H19: +
A20: LR 4-6-4,0 | B20: клемма кольцевая, диам. 6мм, сечение провода 2,5-4,0мм² | C20: Titan | D20: 144 | E20: 360.9 | F20: 396.7 | G20: 432.4 | H20: +
A21: LR 1-5Z-1,5 | B21: клемма кольцевая, диам. 5мм, отверстие "звездочка", сечение провода 1-1,5мм² | C21: Titan | D21: 240 | E21: 416.8 | F21: 458.5 | G21: 501.4 | H21: -
A22: Кольцевые в изоляции vinyl, 100 шт. | B22: 0 | C22: 0 | D22: 0 | E22: 0 | F22: 0 | G22: 0
A23: RV 1-3,2 | B23: диам. 3,2мм, 0,5-1,5мм² | C23: Titan | D23: 100 | E23: 315.6 | F23: 346.5 | G23: 383.4 | H23: +
A24: RV 1-4 | B24: диам. 4,3мм, 0,5-1,5мм² | C24: Titan | D24: 240 | E24: 278.8 | F24: 306.1 | G24: 338.3 | H24: +
A25: RV 1-5 | B25: диам. 5,3мм, 0,5-1,5мм² | C25: Titan | D25: 200 | E25: 315.6 | F25: 346.5 | G25: 383.4 | H25: +
A26: RV 1-6 | B26: диам. 6,4мм, 0,5-1,5мм² | C26: Titan | D26: 120 | E26: 480.1 | F26: 528.8 | G26: 583.6 | H26: +
A27: RV 1-8 | B27: диам. 8,4мм, 0,5-1,5мм² | C27: Titan | D27: 120 | E27: 593.1 | F27: 652.6 | G27: 720.6 | H27: +
A28: RV 1-10 | B28: диам. 10,5мм, 0,5-1,5мм² | C28: Titan | D28: 240 | E28: 725.2 | F28: 797.9 | G28: 881.2 | H28: +
A29: RV 1-12 | B29: диам. 12,3мм, 0,5-1,5мм² | C29: Titan | D29: 130 | E29: 1070.7 | F29: 1177.8 | G29: 1300.5 | H29: +
A30: RV M 2-3,7 | B30: диам. 3,7мм, 1,5-2,5мм² | C30: Titan | D30: 240 | E30: 320.3 | F30: 352.5 | G30: 389.4 | H30: -
A31: RV 2-5 | B31: диам. 5мм, 1,5-2,5мм² | C31: Titan | D31: 250 | E31: 412 | F31: 453.9 | G31: 501.4 | H31: +
A32: RV 2-6 | B32: диам. 6,4мм, 1,5-2,5мм² | C32: Titan | D32: 120 | E32: 545.5 | F32: 600.3 | G32: 663.3 | H32: +
A33: RV 2-8 | B33: диам. 8,4мм , 1,5-2,5мм² | C33: Titan | D33: 120 | E33: 677.7 | F33: 745.6 | G33: 823 | H33: +
A34: RV 2-10 | B34: диам. 10,5мм, 1,5-2,5мм² | C34: Titan | D34: 50 | E34: 949.2 | F34: 1044.4 | G34: 1154.1 | H34: +
... A40: RV 5-12 | B40: диам. 13мм, 4-6мм² | C40: Titan | D40: 2 | E40: 1633.9 | F40: 1799.5 | G40: 1986.5 | H40: +
A41: Y-образные в изоляции vinyl, 100 шт. | B41: 0 | C41: 0 | D41: 0 | E41: 0 | F41: 0 | G41: 0
A42: SV 1-4 | B42: диам.4,3мм, 0,5-1,5мм² | C42: Titan | D42: 1 | E42: 270.3 | F42: 297.8 | G42: 328.7 | H42: -
A43: SV 2-4 | B43: диам.4,3мм, 1,5-2,5мм² | C43: Titan | D43: 120 | E43: 304.8 | F43: 334.7 | G43: 370.4 | H43: -
A44: SV 2-5 | B44: диам.5,3мм, 1,5-2,5мм² | C44: Titan | D44: 120 | E44: 415.6 | F44: 457.3 | G44: 505 | H44: -
A45: SV 2-6 | B45: диам.6,5мм, 1,5-2,5мм² | C45: Titan | D45: 120 | E45: 621.6 | F45: 683.6 | G45: 755 | H45: -

Sheet Коннекторы
A1: Санкт-Петербург: +7 (812) 271-44 -84; +7 911-771-2000 | C1: прайс-лист действителен с 17.08.2026 | I1: =HYPERLINK("#'Заявка'!B860",IF('Заявка'!$L$5>0,"В заявке "&'Заявка'!$L$5&" поз. на "&IF(ROUND('Заявка'!$G$5,0)>=1000,INT(ROUND('Заявка'!$G$5,0)/1000)&" "&TEXT(MOD(ROUND('Заявка'!$G$5,0),1000),"000"),ROUND('Заявка'!$G$5,0)&"")&" ₽ →","Перейти к заявке →")) -> Перейти к заявке →
A2: Наименование | B2: Краткое описание | C2: Торговая марка | D2: В мастер-коробке (уп) | E2: цена в рублях при покупке на сумму | G2: Мелко-оптовая цена (от 17 000 рублей) | H2: 46300
E3: От 140 000 рублей | F3: От 50 000 рублей
A4: В связи с вступлением в силу требований по обязательной маркировке радиоэлектронной продукции (Постановление Правительства РФ № 1954) с 1 декабря 2026 г. — наступает запрет оборота немаркированной радиоэлектронной продукции. Все немаркированные остатки должны быть распроданы либо промаркированы. Товары код ТНВЭД 8536699008 и 8536901000 | B4: 0 | C4: 0 | D4: 0 | E4: 0 | F4: 0 | G4: 0
A5: 0 | B5: 0 | C5: 0 | D5: 0 | E5: 0 | F5: 0 | G5: 0
A6: С 1 мая 2026 года до 30 ноября 2026 года все участники оборота товаров могут начать маркировать остатки товаров, произведенных до 1 мая 2026 года (продажа и отгрузка немаркированных остатков до 01.12.2026 разрешены). | B6: 0 | C6: 0 | D6: 0 | E6: 0 | F6: 0 | G6: 0
A7: КОННЕКТОРЫ И РАЗЪЕМЫ | B7: 0 | C7: 0 | D7: 0 | E7: 0 | F7: 0 | G7: 0
A8: Разъемы "мама" в изоляции vinyl, 100 шт. | B8: 0 | C8: 0 | D8: 0 | E8: 0 | F8: 0 | G8: 0
A9: FDV 1-110(8) | B9: Входной размер 2,8 х0,8мм.0,5-1,5мм², красная изоляция | C9: Titan | D9: 240 | E9: 254.9 | F9: 300.2 | G9: 331 | H9: +
A10: FDV 1-187(8) | B10: Входной размер 4,75х0,8мм. 0,5-1,5мм², красная изоляция | C10: Titan | D10: 240 | E10: 315.6 | F10: 372.7 | G10: 409.7 | H10: +
A11: FDV 1-250 | B11: Входной размер 6,4х0,8мм. 0,5-1,5мм², красная изоляция | C11: Titan | D11: 180 | E11: 378.6 | F11: 446.7 | G11: 491.8 | H11: +
A12: FDV 2-110 | B12: Входной размер 2,8х0,8мм. 1,5-2,5мм², синяя изоляция | C12: Titan | D12: 240 | E12: 304.8 | F12: 359.7 | G12: 396.7 | H12: -
A13: FDV 2-187(8) | B13: Входной размер 4,75х0,8мм. 1,5-2,5мм², синяя изоляция | C13: Titan | D13: 240 | E13: 365.6 | F13: 432.4 | G13: 475.3 | H13: +
A14: FDV 2-250 | B14: Входной размер 6,4х0,8мм. 1,5-2,5мм², синяя изоляция | C14: Titan | D14: 120 | E14: 408.5 | F14: 482.5 | G14: 531.1 | H14: +
A15: FDV 5-250 | B15: Входной размер 6,4х0,8мм. 4-6мм², желтая изоляция | C15: Titan | D15: 120 | E15: 498.9 | F15: 589.6 | G15: 649.1 | H15: +
A16: Разъемы "папа" в изоляции vinyl, 100 шт. | B16: 0 | C16: 0 | D16: 0 | E16: 0 | F16: 0 | G16: 0
A17: MDV 1-110(8) | B17: Разъем плоский, входной размер 2,8х0,8; 0,5-1,5мм²; красная изоляция | C17: Titan | D17: 240 | E17: 333.5 | F17: 365.6 | G17: 404.9 | H17: +
A18: MDV 1-187(8) | B18: Разъем плоский, входной размер 4,75х0,8; 0,5-1,5мм²; красная изоляция | C18: Titan | D18: 20 | E18: 337.1 | F18: 370.4 | G18: 409.7 | H18: +
A19: MDV 1-250 | B19: Разъем плоский, входной размер 6,4х0,8; 0,5-1,5мм²; красная изоляция | C19: Titan | D19: 180 | E19: 344.1 | F19: 377.5 | G19: 418.1 | H19: +
A20: MDV 2-110(8) | B20: Разъем плоский, входной размер 2,8х0,8; 1,5-2,5мм²; синяя изоляция | C20: Titan | D20: 240 | E20: 333.5 | F20: 365.6 | G20: 404.9 | H20: +
A21: MDV 2-187(8) | B21: Разъем плоский, входной размер 4,8х0,8; 1,5-2,5мм3; синяя изоляция | C21: Titan | D21: 100 | E21: 337.1 | F21: 370.4 | G21: 409.7 | H21: +
A22: MDV 2-250 | B22: Разъем плоский, входной размер 6,4х0,8; 1,5-2,5мм²; синяя изоляция | C22: Titan | D22: 240 | E22: 355 | F22: 389.4 | G22: 431.1 | H22: +
A23: MDV 5-250 | B23: Разъем плоский, "папа", входной размер 6,4х0,8; 4-6мм²; желтая изоляция | C23: Titan | D23: 120 | E23: 429.9 | F23: 472.8 | G23: 522.8 | H23: +
A24: Разъемы "мама/папа" в изоляции vinyl, 100 шт. | B24: 0 | C24: 0 | D24: 0 | E24: 0 | F24: 0 | G24: 0
A25: FDMV 1-250 | B25: Разъем ответвительный, изоляция Vnil, 0,8х6,4; 0,5-1,5мм², красный | C25: Titan | D25: 120 | E25: 426.3 | F25: 469.2 | G25: 518.1 | H25: -
A26: FDMV 2-250 | B26: Разъем ответвительный, изоляция Vnil, 0,8х6,4; 1,5-2,5мм², синий | C26: Titan | D26: 120 | E26: 483.5 | F26: 532.3 | G26: 588.4 | H26: -
A27: FDMV 5-250 | B27: Разъем ответвительный, изоляция Vnil, 0,8х6,4; 4,0-6,0мм², желтый | C27: Titan | D27: 120 | E27: 634.8 | F27: 697.8 | G27: 771.8 | H27: -
A28: Разъемы "мама" полностью изолированные в изоляции nylon, 100 шт. | B28: 0 | C28: 0 | D28: 0 | E28: 0 | F28: 0 | G28: 0
A29: FDFN 1-250 | B29: Разъем плоский, изоляция Nylon, 0,8х6,4; 0,5-1,5мм², красный | C29: Titan | D29: 60 | E29: 977.7 | F29: 1075.5 | G29: 1188.5 | H29: -
A30: FDFN 2-250 | B30: Разъем плоский, изоляция Nylon, 0,8х6,4; 1,5-2,5мм²; синий | C30: Titan | D30: 96 | E30: 1069.5 | F30: 1176.7 | G30: 1300.5 | H30: -
A31: FDFN 5-250 | B31: Разъем плоский, изоляция Nylon, 0,8х6,4; 4-6мм²; желтый | C31: Titan | D31: 60 | E31: 1069.5 | F31: 1176.7 | G31: 1300.5 | H31: -
A32: Разъемы "папа" полностью изолированные в изоляции nylon, 100 шт. | B32: 0 | C32: 0 | D32: 0 | E32: 0 | F32: 0 | G32: 0
A33: 90673 | B33: Разъем плоский "папа", 0,32*270, 0,8*6,4, 24А, 4-6мм² | C33: Titan | D33: 100 | E33: 329.4 | F33: 396 | G33: 435.6 | H33: +
A34: Разъемы "мама" полностью изолированные в изоляции vinyl, 100 шт. | B34: 0 | C34: 0 | D34: 0 | E34: 0 | F34: 0 | G34: 0
A35: FDFV 1-250 | B35: Разъем плоский, изоляция Vinil, 0,8х6,4; 0,5-1,5мм², красный | C35: Titan | D35: 150 | E35: 488.3 | F35: 537.1 | G35: 594.3 | H35: +
A36: FDFV 2-250 | B36: Разъем плоский, изоляция Vinil, 0,8х6,4; 1,5-2,5мм², синий | C36: Titan | D36: 150 | E36: 579.9 | F36: 638.2 | G36: 705 | H36: +
A37: FDFV 5-250 | B37: Разъем плоский, изоляция Vinil, 0,8х6,4; 4-6мм², желтый | C37: Titan | D37: 60 | E37: 721.7 | F37: 794.4 | G37: 877.7 | H37: +
A38: Разъемы "мама" пулевого типа полностью изолированные в изоляции vinyl , 100 шт. | B38: 0 | C38: 0 | D38: 0 | E38: 0 | F38: 0 | G38: 0
A39: FRV 1-156 | B39: Входной размер 4мм. Сечение провода 0,5-1,5 , 10А | C39: Titan | D39: 160 | E39: 458.5 | F39: 503.8 | G39: 557.3 | H39: -
A40: FRV 2-156 | B40: Входной размер 4мм. Сечечение провода 1,5-2,5; 15А | C40: Titan | D40: 160 | E40: 487 | F40: 535.9 | G40: 591.9 | H40: -
A41: FRV 2-187 | B41: Входной размер 4,8мм. Сечечение провода 1,5-2,5; 15А | C41: Titan | D41: 240 | E41: 625.4 | F41: 688.4 | G41: 760.9 | H41: -
A42: Разъемы "папа" пулевого типа в изоляции vinyl, 100 шт. | B42: 0 | C42: 0 | D42: 0 | E42: 0 | F42: 0 | G42: 0
A43: MPV 1-156 | B43: Входной размер 4мм. Сечение провода 0,5-1,5 , 10А | C43: Titan | D43: 250 | E43: 402.5 | F43: 443 | G43: 489.4 | H43: -
A44: MPV 2-156 | B44: Входной размер 4мм. Сечечение провода 1,5-2,5; 15А | C44: Titan | D44: 250 | E44: 438.3 | F44: 482.5 | G44: 533.6 | H44: -
A45: MPV 2-187 | B45: Входной размер 4,8мм. Сечечение провода 1,5-2,5; 15А | C45: Titan | D45: 240 | E45: 502.6 | F45: 553.8 | G45: 611 | H45: -
A46: Пластиковые наконечники для скрутки проводов,100шт. | B46: 0 | C46: 0 | D46: 0 | E46: 0 | F46: 0 | G46: 0
A47: SK-1 | B47: Пластиковый наконечник для скрутки проводов с резьбой | C47: Titan | D47: 100 | E47: 126.6 | F47: 147.8 | G47: 162.7 | H47: -
A48: SK-2 | B48: Пластиковый наконечник для скрутки проводов с резьбой | C48: Titan | D48: 100 | E48: 144.9 | F48: 159.8 | G48: 176 | H48: -
A49: SK-3 | B49: Пластиковый наконечник для скрутки проводов с резьбой | C49: Titan | D49: 100 | E49: 168.8 | F49: 185.7 | G49: 204.4 | H49: -
A50: SK-4 | B50: Пластиковый наконечник для скрутки проводов с резьбой | C50: Titan | D50: 100 | E50: 290 | F50: 318.3 | G50: 350.3 | H50: -
A51: Коннекторы гильотинного типа, латунь в изоляции PP, с гидрофобным наполнением (50 шт в уп) | B51: 0 | C51: 0 | D51: 0 | E51: 0 | F51: 0 | G51: 0
A52: CETV 2 | B52: Синий. 20*8*25, сеч. провода 0,5-1,5мм. | C52: Titan | D52: 40 | E52: 2345.9 | F52: 2580.6 | G52: 2851.6 | H52: +
A53: Коннекторы гильотинного типа, латунь в изоляции PP, 100шт. | B53: 0 | C53: 0 | D53: 0 | E53: 0 | F53: 0 | G53: 0
A54: 878100 | B54: Красный. 20*8*25, сеч. провода 0,5-1,5мм. | C54: Titan | D54: 100 | E54: 477.7 | F54: 525.2 | G54: 574.1 | H54: +
A55: 878101 | B55: Голубой. 20*8*25, сеч. провода 1,5-2,5мм. | C55: Titan | D55: 100 | E55: 490.8 | F55: 540.8 | G55: 589.6 | H55: +
A56: 878201 | B56: Желтый, сечение провода 4-6мм. | C56: Titan | D56: 18 | E56: 963.5 | F56: 1060 | G56: 1157.5 | H56: +
A57: Коннекторы трубчатого типа в изоляции vinyl, 100шт. | B57: 0 | C57: 0 | D57: 0 | E57: 0 | F57: 0 | G57: 0
A58: BVS 1 | B58: Красный, d=1,7, D=4,1, 10А 0,5-1,5мм² | C58: Titan | D58: 220 | E58: 438.3 | F58: 482.5 | G58: 533.6 | H58: -
A59: BVS 2 | B59: Синий, d=2,3, D=4,5 , 15А; 1,5-2,5мм² | C59: Titan | D59: 200 | E59: 541.8 | F59: 596.8 | G59: 658.6 | H59: -
A60: BVS 5 | B60: Желтый, d=3,4 D=6,5 , 24А; 4-6мм² | C60: Titan | D60: 100 | E60: 935.7 | F60: 1030.1 | G60: 1137.1 | H60: -
A61: Коннекторы трубчатого типа в изоляции nylon, 100шт. | B61: 0 | C61: 0 | D61: 0 | E61: 0 | F61: 0 | G61: 0
A62: BNY 1 | B62: Красный, d=1,7; D=4,1; 0,5-1,5мм² ; 19А | C62: Titan | D62: 110 | E62: 500.1 | F62: 551.4 | G62: 608.6 | H62: -
A63: BNY 2 | B63: Синий, d=2,3; D=4,5; 1,5-2,5мм²; 27А | C63: Titan | D63: 180 | E63: 641.9 | F63: 706.3 | G63: 780.1 | H63: -
A64: BNY 5 | B64: Желтый, d=3,4; D=6,5; 4-6мм²; 48А | C64: Titan | D64: 100 | E64: 821.8 | F64: 903.9 | G64: 999.1 | H64: -
A65: Коннекторы трубчатого типа в термоусадочной изоляции материал HDPE, водостойкие, 100шт. | B65: 0 | C65: 0 | D65: 0 | E65: 0 | F65: 0 | G65: 0
A66: BNT 1/2 | B66: Прозрачный, d=0,8; D=2,0; 0,1-0,5мм²; 19А | C66: Titan | D66: 200 | E66: 979.6 | F66: 1157.5 | G66: 1273.3 | H66: +
A67: BNT 1 | B67: Красный, d=1,7; D=4,1; 0,5-1,5мм²; 19А | C67: Titan | D67: 160 | E67: 1219.8 | F67: 1441.8 | G67: 1585.3 | H67: +
A68: BNT 2 | B68: Синий, d=2,3; D=4,5; 1,5-2,5мм², 27А | C68: Titan | D68: 160 | E68: 1290.3 | F68: 1546.7 | G68: 1701.1 | H68: +
A69: BNT 5 | B69: Желтый, d=3,4; D=6,5; 4-6мм²; 48А | C69: Titan | D69: 100 | E69: 1825.3 | F69: 2188.7 | G69: 2407.4 | H69: -
A70: Коннекторы трубчатого типа в термоусадочной изоляции материал Nylon, водостойкие, 100шт. | B70: 0 | C70: 0 | D70: 0 | E70: 0 | F70: 0 | G70: 0
A71: BNYT 1/2 | B71: Прозрачный, d=0,8; D=2,0; 0,1-0,5мм²; 19А | C71: Titan | D71: 1 | E71: скоро в наличии | F71: 0 | G71: 0 | H71: -
A72: BNYT 1 | B72: Красный, d=1,7; D=4,1; 0,5-1,5мм²; 19А | C72: Titan | D72: 1 | E72: скоро в наличии | F72: 0 | G72: 0 | H72: -
A73: BNYT 2 | B73: Синий, d=2,3; D=4,5; 1,5-2,5мм², 27А | C73: Titan | D73: 1 | E73: скоро в наличии | F73: 0 | G73: 0 | H73: -
A74: BNYT 5 | B74: Желтый, d=3,4; D=6,5; 4-6мм²; 48А | C74: Titan | D74: 1 | E74: скоро в наличии | F74: 0 | G74: 0 | H74: -
A75: Соединители встык без изоляции, латунь, 100шт. | B75: 0 | C75: 0 | D75: 0 | E75: 0 | F75: 0 | G75: 0
A76: LRBs 1 | B76: Соединитель встык луженый, для проводов 1,0-1,5 мм кв. L=14,8мм, D=3,2мм | C76: Titan | D76: 480 | E76: 168.8 | F76: 185.3 | G76: 202.5 | H76: +
A77: LRBs 2 | B77: Соединитель встык луженый, для проводов 2,0-2,5 мм кв., L=15,2мм, D=4,8мм | C77: Titan | D77: 240 | E77: 215.8 | F77: 237.2 | G77: 258.4 | H77: +
A78: Коннекторы без изоляции, "мамы" и "папы", латунь, 100шт. | B78: 0 | C78: 0 | D78: 0 | E78: 0 | F78: 0 | G78: 0
A79: 351 LR-0,8 | B79: Цилиндр.коннектор "папа". Вх. размер 3,5мм, сечение провода 0,5-0,8мм² | C79: Titan | D79: 240 | E79: 225.1 | F79: 247.7 | G79: 270.3 | H79: +
A80: 352 LR-0,8 | B80: Цилиндр/ коннектор "мама". Вх. размер 3,5мм, стоппер, сечение провода 0,5-0,8мм² | C80: Titan | D80: 384 | E80: 225.1 | F80: 247.7 | G80: 270.3 | H80: +
A81: 401 LR-0,8 | B81: Цилиндр.коннектор "папа". Вх. размер 4,0мм, сечение провода 0,5-0,8мм² | C81: Titan | D81: 15 | E81: 225.1 | F81: 247.7 | G81: 270.3 | H81: +
A82: 402 LR-0,8 | B82: Цилиндр.коннектор "мама". Вх. размер 4,0мм, стоппер, сечение провода 0,5-0,8мм² | C82: Titan | D82: 15 | E82: 225.1 | F82: 247.7 | G82: 270.3 | H82: +
A83: 501 LR-0,8 | B83: Плоский коннектор "папа". Входной размер 6,3х0,8мм, сечение провода 0,5-0,8мм² | C83: Titan | D83: 240 | E83: 269.2 | F83: 295.4 | G83: 322.7 | H83: +
A84: 905 LR-0,8 | B84: Плоский. коннектор "папа". Вх. размер 6,3х0,8мм, стоппер, сечение провода 0,5-0,8мм² | C84: Titan | D84: 312 | E84: 282.2 | F84: 310.9 | G84: 339.5 | H84: +
A85: 601 LR-0,8 | B85: Плоский. коннектор "мама". Вх. размер 6,3х0,8мм, стоппер, сечение провода 0,5-0,8мм² | C85: Titan | D85: 250 | E85: 269.2 | F85: 295.4 | G85: 322.7 | H85: +
A86: 617 LR-0,8 | B86: Плоский. коннектор "мама". Вх. размер 6,3мм, 2 прорези, сечение провода 0,5-0,8мм² | C86: Titan | D86: 300 | E86: 269.2 | F86: 295.4 | G86: 322.7 | H86: +
A87: 501 LR-1,5 | B87: Плоский коннектор "папа". Вх.размер 6,3мм, сечение провода 1-1,5мм² | C87: Titan | D87: 360 | E87: 282.2 | F87: 310.9 | G87: 339.5 | H87: +
A88: 601 LR-1,5 | B88: Плоский. коннектор "мама". Вх. размер 6,3мм, стоппер, сечение провода 1-1,5мм² | C88: Titan | D88: 170 | E88: 282.2 | F88: 310.9 | G88: 339.5 | H88: +
A89: 607 LRs-1,5 | B89: Плоский. коннектор "мама". Вх. размер 6,3мм, гладкий, луженый, сечение провода 1-1,5мм² | C89: Titan | D89: 250 | E89: 282.2 | F89: 310.9 | G89: 339.5 | H89: -
A90: 617 LR-1,5 | B90: Плоский. коннектор "мама". Вх. размер 6,3мм, 2 прорези, сечение провода 1-1,5мм² | C90: Titan | D90: 240 | E90: 282.2 | F90: 310.9 | G90: 339.5 | H90: +
... A109: 606 LRs | B109: Плоский коннектор "мама". Вх.размер 2,8х0,5мм, стоппер, луженый, сечение провода 0,5-0,8мм² | C109: Titan | D109: 250 | E109: 151.3 | F109: 166.6 | G109: 182.2 | H109: -
A110: Изоляционные насадки ПВХ на коннекторы без изоляции серии LR, 100 шт. | B110: 0 | C110: 0 | D110: 0 | E110: 0 | F110: 0 | G110: 0
A111: 1501PVC | B111: изоляция для цилиндр.коннектора "мама". Вх. размер 4,0мм | C111: Titan | D111: 300 | E111: 197 | F111: 245.1 | G111: 269.1 | H111: +
A112: 1502PVC | B112: изоляция для цилиндр.коннектора "папа". Вх. размер 4,0мм | C112: Titan | D112: 240 | E112: 197 | F112: 245.1 | G112: 269.1 | H112: +
A113: 1505PVC | B113: изоляция для плоского коннектора "мама". Вх. размер 6,3мм | C113: Titan | D113: 80 | E113: 240.5 | F113: 298.9 | G113: 328.6 | H113: +
A114: 1506PVC | B114: изоляция для плоского коннектора "мама". Вх. размер 4,8мм | C114: Titan | D114: 50 | E114: 197 | F114: 245.1 | G114: 269.1 | H114: +
A115: 1508PVC | B115: изоляция для плоского коннектора "мама". Вх. размер 2,8мм | C115: Titan | D115: 240 | E115: 156.9 | F115: 195.8 | G115: 215.2 | H115: +
A116: Коннекторы с проводами | B116: 0 | C116: 0 | D116: 0 | E116: 0 | F116: 0 | G116: 0
A117: Универсальные коннекторы типа 250, мама,папа, шт | B117: 0 | C117: 0 | D117: 0 | E117: 0 | F117: 0 | G117: 0
A118: UH-2P-F, 250 мама | B118: 2 Pin, мама (цена за 1 шт) | C118: 0 | D118: 1000 | E118: 55 | F118: 59.6 | G118: 66.4 | H118: +
...

Sheet Стяжки
A1: Санкт-Петербург: +7 (812) 271-44 -84; +7 911-771-2000 | C1: прайс-лист действителен с 17.08.2026 | I1: =HYPERLINK("#'Заявка'!B860",IF('Заявка'!$L$5>0,"В заявке "&'Заявка'!$L$5&" поз. на "&IF(ROUND('Заявка'!$G$5,0)>=1000,INT(ROUND('Заявка'!$G$5,0)/1000)&" "&TEXT(MOD(ROUND('Заявка'!$G$5,0),1000),"000"),ROUND('Заявка'!$G$5,0)&"")&" ₽ →","Перейти к заявке →")) -> Перейти к заявке →
A2: Наименование | B2: Краткое описание | C2: Торговая марка | D2: В мастер-коробке (уп) | E2: цена в рублях при покупке на сумму | G2: Мелко-оптовая цена (от 17 000 рублей) | H2: 46300
E3: От 140 000 рублей | F3: От 50 000 рублей
B4: Снижение цены
B5: Повышение цены
B6: Новинка
A7: ХОМУТЫ - СТЯЖКИ | B7: 0 | C7: 0 | D7: 0 | E7: 0 | F7: 0 | G7: 0
A8: Ленточные винтовые, червячного типа, сталь, диапазон температур -60С - +120С, упаковка 10шт. | B8: 0 | C8: 0 | D8: 0 | E8: 0 | F8: 0 | G8: 0
A9: CHK-9 130-150 | B9: Dмин 130мм, Dмакс 150мм, ширина 9мм, головка: паз крест/прямой /шести-граннник 7мм | C9: 0 | D9: 100 | E9: 32.2 | F9: 35.3 | G9: 39 | H9: +
A10: Стандартные, нейлон, устойчивы к истиранию, диапазон температур -35°С - +85°С , цвет черный, упаковка 100шт. | B10: 0 | C10: 0 | D10: 0 | E10: 0 | F10: 0 | G10: 0
A11: K-100M | B11: 100мм*2,5мм, черные | C11: Titan | D11: 400 | E11: 72.7 | F11: 81 | G11: 89.3 | H11: +
A12: K-100M /Italy | B12: 100мм*2,5мм, черные | C12: Cobra | D12: 300 | E12: 101.3 | F12: 112 | G12: 122.7 | H12: +
A13: K-140M /Italy | B13: 140мм*2,5мм, черные | C13: Cobra | D13: 250 | E13: 125.1 | F13: 137.1 | G13: 151.3 | H13: +
A14: K-140I /Italy | B14: 140мм*3,6мм, черные | C14: Cobra | D14: 200 | E14: 195.3 | F14: 214.3 | G14: 237.1 | H14: +
A15: K-150M | B15: 150мм*2,5мм, черные | C15: Titan | D15: 300 | E15: 109.7 | F15: 121.6 | G15: 133.3 | H15: -
A16: K-150I | B16: 150мм*3,6мм, черные | C16: Titan | D16: 200 | E16: 157.2 | F16: 172.8 | G16: 191.8 | H16: +
A17: K-160M/Italy | B17: 160мм*2,5мм, черные | C17: Cobra | D17: 200 | E17: 170.4 | F17: 187 | G17: 206.1 | H17: +
A18: K-200M | B18: 200мм*2,5мм, черные | C18: Titan | D18: 280 | E18: 145.2 | F18: 159.5 | G18: 177.4 | H18: +
A19: K-200M /Italy | B19: 200мм*2,5мм, черные | C19: Cobra | D19: 200 | E19: 202.4 | F19: 222.8 | G19: 246.4 | H19: +
A20: K-200I | B20: 200мм*3,6мм, черные | C20: Titan | D20: 180 | E20: 240.6 | F20: 265.5 | G20: 293 | H20: +
A21: K-200S | B21: 200мм*4,8мм, черные | C21: Titan | D21: 120 | E21: 278.8 | F21: 307.3 | G21: 340.6 | H21: +
A22: K-250I | B22: 250мм*3,6мм, черные | C22: Titan | D22: 150 | E22: 302.5 | F22: 332.3 | G22: 368 | H22: +
... A37: K-530S /Italy | B37: 530мм*4,8мм, черные | C37: Cobra | D37: 30 | E37: 1133.8 | F37: 1244.6 | G37: 1375.6 | H37: +
A38: Стандартные, нейлон, устойчивы к истиранию, диапазон температур -35°С - +85°С , цвет белый, упаковка 100шт. | B38: 0 | C38: 0 | D38: 0 | E38: 0 | F38: 0 | G38: 0
A39: K-100M Natural | B39: 100мм*2,5мм, белые | C39: Titan | D39: 100 | E39: 72.7 | F39: 81 | G39: 89.3 | H39: +
A40: K-100M /Italy Natural | B40: 100мм*2,5мм, белые | C40: Cobra | D40: 300 | E40: 101.3 | F40: 112 | G40: 122.7 | H40: +
A41: K-140M /Italy Natural | B41: 140мм*2,5мм, белые | C41: Cobra | D41: 0 | E41: 125.1 | F41: 137.1 | G41: 151.3
A42: K-140I /Italy Natural | B42: 140мм*3,6мм, белые | C42: Cobra | D42: 200 | E42: 195.3 | F42: 214.3 | G42: 237.1 | H42: +
A43: K-160M/Italy Natural | B43: 160мм*2,5мм, белые | C43: Cobra | D43: 200 | E43: 170.4 | F43: 187 | G43: 206.1 | H43: +
A44: K-200M /Italy Natural | B44: 200мм*2,5мм, белые | C44: Cobra | D44: 200 | E44: 202.4 | F44: 222.8 | G44: 246.4 | H44: +
A45: K-200M /Natural | B45: 200мм*2,5мм, белые | C45: Titan | D45: 100 | E45: 145.2 | F45: 159.5 | G45: 177.4 | H45: +
A46: K-200I Natural | B46: 200мм*3,6мм, белые | C46: Titan | D46: 170 | E46: 240.6 | F46: 265.5 | G46: 293 | H46: +
A47: K-200S Natural | B47: 200мм*4,8мм, белые | C47: Titan | D47: 130 | E47: 278.8 | F47: 307.3 | G47: 340.6 | H47: +
A48: K-250I Natural | B48: 250мм*3,6мм, белые | C48: Titan | D48: 150 | E48: 302.5 | F48: 332.3 | G48: 368 | H48: +
A49: K-250S Italy Natural | B49: 250мм*4,8мм, белые | C49: Cobra | D49: 100 | E49: 488.3 | F49: 535.9 | G49: 593.1 | H49: +
A50: K-280S Natural | B50: 280мм*4,8мм, белые | C50: Titan | D50: 100 | E50: 390.6 | F50: 431.1 | G50: 476.4 | H50: +
A51: K-290I /Italy Natural | B51: 290мм*3,6мм, белые | C51: Cobra | D51: 120 | E51: 425.2 | F51: 468.1 | G51: 516.9 | H51: +
A52: K-290S /Italy Natural | B52: 290мм*4,8мм, белые | C52: Cobra | D52: 100 | E52: 565.8 | F52: 621.6 | G52: 687.2 | H52: +
A53: K-290H /Italy Natural | B53: 290мм*7,6мм, белые | C53: Cobra | D53: 0 | E53: 896.8 | F53: 986.1 | G53: 1089.7
A54: K-300I Natural | B54: 300мм*3,6мм, белые | C54: Titan | D54: 125 | E54: 316.8 | F54: 347.9 | G54: 384.8 | H54: +
A55: K-360I /Italy Natural | B55: 360мм*3,6мм, белые | C55: Cobra | D55: 90 | E55: 527.5 | F55: 579.9 | G55: 640.6 | H55: +
A56: K-360S /Italy Natural | B56: 360мм*4,8мм, белые | C56: Cobra | D56: 75 | E56: 702.6 | F56: 771.8 | G56: 852.6 | H56: +
A57: K-360H /Italy Natural | B57: 360мм*7,6мм, белые | C57: Cobra | D57: 40 | E57: 1112.4 | F57: 1224.3 | G57: 1352.8 | H57: +
A58: K-370I Natural | B58: 370мм*3,6мм, белые | C58: Titan | D58: 120 | E58: 389.4 | F58: 428.7 | G58: 473.9 | H58: +
A59: K-370S Natural | B59: 370мм*4,8мм, белые | C59: Titan | D59: 1 | E59: 516.9 | F59: 569.3 | G59: 628.8 | H59: +
A60: K-530S /Italy Natural | B60: 530мм*4,8мм, белые | C60: Cobra | D60: 30 | E60: 1133.8 | F60: 1244.6 | G60: 1375.6 | H60: +
A61: Для наружного применения, нейлон, устойчивые к УФ, устойчивы к истиранию, диапазон температур -40°С- +85°С , цвет зеленый, упаковка 100шт. | B61: 0 | C61: 0 | D61: 0 | E61: 0 | F61: 0 | G61: 0
A62: K-200S /Italy UV green | B62: 200мм*4,8мм, зеленые | C62: Cobra | D62: 50 | E62: 387.2 | F62: 425.7 | G62: 470.3 | H62: +
A63: С отверстием под саморез, нейлон, устойчивы к истиранию, диапазон температур -40°С- +85°С , цвет черный и белый, упаковка 100шт. | B63: 0 | C63: 0 | D63: 0 | E63: 0 | F63: 0 | G63: 0
A64: ZK-100M | B64: 100мм*2,5мм, черные | C64: Titan | D64: 100 | E64: 151.3 | F64: 166.6 | G64: 184.7 | H64: +
A65: ZK-100M Natural | B65: 100мм*2,5мм, белые | C65: Titan | D65: 320 | E65: 151.3 | F65: 166.6 | G65: 184.7 | H65: +
A66: ZK-150I | B66: 150мм*3,6мм, черные | C66: Titan | D66: 100 | E66: 310.5 | F66: 341.8 | G66: 379 | H66: +
A67: ZK-170I | B67: 170мм*3,6мм, черные | C67: Titan | D67: 240 | E67: 330.7 | F67: 363.9 | G67: 404.6 | H67: +
A68: ZK-170I Natural | B68: 170мм*3,6мм, белые | C68: Titan | D68: 180 | E68: 330.7 | F68: 363.9 | G68: 404.6 | H68: +
A69: ZK-200S | B69: 200мм*4,8мм, черные | C69: Titan | D69: 100 | E69: 369.5 | F69: 406.7 | G69: 449.7 | H69: +
A70: С дюбелем, нейлон, устойчивы к истиранию, диапазон температур -40°С - +85°С , цвет черный, упаковка 100шт. | B70: 0 | C70: 0 | D70: 0 | E70: 0 | F70: 0 | G70: 0
A71: DK-155I | B71: 155мм*3,6мм | C71: Titan | D71: 50 | E71: 587.2 | F71: 646.8 | G71: 714.6 | H71: +
A72: Стяжка для кабеля с двойным замком (для создания 2х параллельных жгутов или подвязки к стационарным объектам), упаковка 100шт.: | B72: 0 | C72: 0 | D72: 0 | E72: 0 | F72: 0 | G72: 0
A73: DHK-300S | B73: 300мм*4,8мм, черные | C73: Titan | D73: 110 | E73: 382.2 | F73: 419.6 | G73: 463.8 | H73: +
A74: DHK-300S Natural | B74: 300мм*4,8мм, белые | C74: Titan | D74: 110 | E74: 382.2 | F74: 419.6 | G74: 463.8 | H74: +
A75: Противоскользящие, нейлон, -40°С - +85°С, цвет в ассортименте, упаковка 6шт. | B75: 0 | C75: 0 | D75: 0 | E75: 0 | F75: 0 | G75: 0
A76: TK-912 Green | B76: 912мм*9мм, неоновый зеленый | C76: Titan | D76: 80 | E76: 587 | F76: 646.1 | G76: 713.9 | H76: +
A77: TK-912 Yellow | B77: 912мм*9мм, неоновый желтый | C77: Titan | D77: 80 | E77: 587 | F77: 646.1 | G77: 713.9 | H77: +
A78: Стяжка для кабеля VELCRO | B78: 0 | C78: 0 | D78: 0 | E78: 0 | F78: 0 | G78: 0
A79: VK-150V | B79: 150мм*10мм, черные, упаковка 20шт. | C79: Titan | D79: 450 | E79: 262.4 | F79: 289.7 | G79: 319.8 | H79: +
A80: VK-1510 черн. | B80: рулон 15мм*10м, цвет - черный | C80: Titan | D80: 120 | E80: 594.9 | F80: 654.2 | G80: 723.2 | H80: +
A81: VK-1510 красн. | B81: рулон 15мм*10м, цвет - красный | C81: Titan | D81: 120 | E81: 594.9 | F81: 654.2 | G81: 723.2 | H81: +
A82: Держатели стяжек, крепеж на 2-сторонний скотч/саморез, упаковка 100шт.: | B82: 0 | C82: 0 | D82: 0 | E82: 0 | F82: 0 | G82: 0
A83: KT-401 черн. | B83: L=19мм, W=19мм, H=3,9мм., цвет: черный | C83: Titan | D83: 100 | E83: 545.1 | F83: 598.9 | G83: 661.9 | H83: +
A84: KT-401 бел. | B84: L=19мм, W=19мм, H=3,9мм., цвет: белый | C84: Titan | D84: 100 | E84: 545.1 | F84: 598.9 | G84: 661.9 | H84: +
A85: Инструмент для автоматической обвязки | B85: 0 | C85: 0 | D85: 0 | E85: 0 | F85: 0 | G85: 0
A86: LY-07CT | B86: инструмент для обвязки стяжек | C86: Titan | D86: 100 | E86: 1054.8 | F86: 1165.5 | G86: 1281.6 | H86: +

Sheet Термотрубка
A1: Санкт-Петербург: +7 (812) 271-44 -84; +7 911-771-2000 | C1: прайс-лист действителен с 17.08.2026 | I1: =HYPERLINK("#'Заявка'!B860",IF('Заявка'!$L$5>0,"В заявке "&'Заявка'!$L$5&" поз. на "&IF(ROUND('Заявка'!$G$5,0)>=1000,INT(ROUND('Заявка'!$G$5,0)/1000)&" "&TEXT(MOD(ROUND('Заявка'!$G$5,0),1000),"000"),ROUND('Заявка'!$G$5,0)&"")&" ₽ →","Перейти к заявке →")) -> Перейти к заявке →
A2: Наименование | B2: Краткое описание | C2: Торговая марка | D2: В мастер-коробке (уп) | E2: цена в рублях при покупке на сумму | G2: Мелко-оптовая цена (от 17 000 рублей) | H2: 46300
E3: От 140 000 рублей | F3: От 50 000 рублей
B4: Снижение цены
B5: Повышение цены
B6: Новинка
A7: ТРУБКИ ТЕРМОУСАДОЧНЫЕ | B7: 0 | C7: 0 | D7: 0 | E7: 0 | F7: 0 | G7: 0
A8: Трубки термоусадочные, коэффициент усадки 2:1 | B8: 0 | C8: 0 | D8: 0 | E8: 0 | F8: 0 | G8: 0
A9: SAA-BNT 1/2 (20шт) | B9: Прозрачный. D до усадки (min)=3,2мм, D после усадки (max)= 1,0мм. Длина = 35 мм, 20 шт в уп. | C9: Titan | D9: 750 | E9: 32.2 | F9: 35.4 | G9: 39.1 | H9: +
A10: SAA-BNT 1 (20шт) | B10: Красный. D до усадки (min)= 4,8мм, D после усадки (max)= 1,5мм. Длина= 35мм, 20 шт в уп. | C10: Titan | D10: 750 | E10: 32.2 | F10: 35.4 | G10: 39.1 | H10: +
A11: SAA-BNT 2 (20шт) | B11: Синий. D до усадки (min)= 5,8мм, D после усадки (max)= 1,8мм. Длина= 35 мм, 20 шт в уп. | C11: Titan | D11: 500 | E11: 34.2 | F11: 37.7 | G11: 41.6 | H11: +
A12: SAA-BNT 5 (20шт) | B12: Красный. D до усадки (min)= 6,8мм, D после усадки (max)= 2,2мм. Длина= 40 мм, 20 шт в уп. | C12: Titan | D12: 250 | E12: 42.9 | F12: 47.3 | G12: 52.2 | H12: +
A13: SA-2,5 | B13: Черный. D до усадки (min)=2,5мм, D после усадки (max)= 1,25мм. 200м | C13: Titan | D13: 14 | E13: 1619.6 | F13: 1829.4 | G13: 2012.6 | H13: +
A14: SA-2,5 (10м) | B14: Черный. D до усадки (min)=2,5мм, D после усадки (max)= 1,25мм. 10м | C14: Titan | D14: 100 | E14: 89.8 | F14: 100.7 | G14: 110.9 | H14: +
A15: SA-4 | B15: Черный. D до усадки (min)=4мм, D после усадки (max)= 2мм. 200м | C15: Titan | D15: 8 | E15: 2590.7 | F15: 2927.8 | G15: 3220.1 | H15: +
A16: SA-4 (10м) | B16: Черный. D до усадки (min)=4мм, D после усадки (max)= 2мм. 10м | C16: Titan | D16: 170 | E16: 142.1 | F16: 161.2 | G16: 177.8 | H16: +
A17: SA-4 Yellow | B17: Желтый. D до усадки (min)=4мм, D после усадки (max)= 2мм. 200м | C17: Titan | D17: 7 | E17: 2850 | F17: 3220.1 | G17: 3542.5 | H17: +
A18: SA-4 Yellow (10м) | B18: Желтый. D до усадки (min)=4мм, D после усадки (max)= 2мм. 10м | C18: Titan | D18: 50 | E18: 156.6 | F18: 176.9 | G18: 195.1 | H18: +
A19: SA-4 Red | B19: Красный. D до усадки (min)=4мм, D после усадки (max)= 2мм. 200м | C19: Titan | D19: 7 | E19: 2850 | F19: 3220.1 | G19: 3542.5 | H19: +
A20: SA-4 Red (10м) | B20: Красный. D до усадки (min)=4мм, D после усадки (max)= 2мм. 10м | C20: Titan | D20: 40 | E20: 156.6 | F20: 176.9 | G20: 195.1 | H20: +
... A39: SA-KIT 1-9/10 | B39: Набор термоусадочных трубок 1мм-9мм(нарезка 10см), 170шт:Ø1x100mm x 60шт;Ø2x100mm x 40шт;Ø3x100mm x 30шт;Ø4.5x100mm x 20шт;Ø6x100mm x 10шт;Ø9 x100mm x 10шт; цвет: черный | C39: Titan | D39: 50 | E39: 335.2 | F39: 368.4 | G39: 407.6 | H39: +
A40: Трубки термоусадочные, коэффициент усадки 2:1, с клеевым слоем | B40: 0 | C40: 0 | D40: 0 | E40: 0 | F40: 0 | G40: 0
A41: SAA-KIT 2,4-12,7/10-Color | B41: Набор термоусадочных трубок, диаметр:2.4мм-12.7мм (нарезка 10см). В наборе 85шт: Ø2.4×100mm×30; Ø3.2×100mm×20; Ø4.8×100mm×15; Ø6.4×100mm×10; Ø9.5×100mm×5; Ø12.7×100mm×5 цвета: красный, синий, зеленый, прозр., черный цвета:черный, красный, синий, прозрачный, белый, желтый; с клеевым слоем | C41: Titan | D41: 56 | E41: 737.5 | F41: 811.2 | G41: 896.1 | H41: +
A42: Трубки термоусадочные, коэффициент усадки 3:1, с клеевым слоем | B42: 0 | C42: 0 | D42: 0 | E42: 0 | F42: 0 | G42: 0
A43: SAA-3/1 (1,22м) | B43: Черный. D до усадки (min)=3,2 мм, D после усадки (max)=1,6 мм; с клеевым слоем; 1,22м | C43: Titan | D43: 2000 | E43: 48.1 | F43: 52.9 | G43: 58.5 | H43: -
A44: SAA-3/1 (12,2м) | B44: Черный. D до усадки (min)=3,2 мм, D после усадки (max)=1,6 мм; с клеевым слоем; 1,22м * 10шт | C44: Titan | D44: 50 | E44: 480.9 | F44: 529.2 | G44: 585.2 | H44: +
A45: SAA-3/1 | B45: Черный. D до усадки (min)=3,2 мм, D после усадки (max)=1,6 мм; с клеевым слоем; 200м | C45: Titan | D45: 8 | E45: 7905.2 | F45: 8695.5 | G45: 9605.4 | H45: +
A46: SAA-4/1,6 (1,22м) | B46: Черный. D до усадки (min)=4,7мм, D после усадки (max)= 1,6мм; с клеевым слоем; 1,22м | C46: Titan | D46: 1500 | E46: 51.3 | F46: 56.1 | G46: 62.6 | H46: +
A47: SAA-4/1,6 (12,2м) | B47: Черный. D до усадки (min)=4,7мм, D после усадки (max)= 1,6мм; с клеевым слоем; 1,22м * 10шт | C47: Titan | D47: 25 | E47: 513.1 | F47: 561.4 | G47: 625.8 | H47: +
A48: SAA-4/1,6 | B48: Черный. D до усадки (min)=4,7мм, D после усадки (max)= 1,6мм; с клеевым слоем; 100м | C48: Titan | D48: 10 | E48: 4192.2 | F48: 4611.5 | G48: 5090.1 | H48: +
A49: SAA-6/2 (1,22м) | B49: Черный. D до усадки (min)=6,4мм, D после усадки (max)= 2,1мм; с клеевым слоем; 1,22м | C49: Titan | D49: 750 | E49: 52.9 | F49: 57.8 | G49: 64.2 | H49: +
A50: SAA-6/2 (12,2м) | B50: Черный. D до усадки (min)=6,4мм, D после усадки (max)= 2,1мм; с клеевым слоем; 1,22м * 10 шт | C50: Titan | D50: 25 | E50: 529.2 | F50: 577.5 | G50: 641.9 | H50: +
A51: SAA-6/2 | B51: Черный. D до усадки (min)=6,4мм, D после усадки (max)= 2,1мм; с клеевым слоем; 100м | C51: Titan | D51: 5 | E51: 4311.7 | F51: 4743 | G51: 5245.5 | H51: +
A52: SAA-6/2 clear | B52: Прозрачный. D до усадки (min)=6,4мм, D после усадки (max)= 2,1мм; с клеевым слоем; 100м | C52: Titan | D52: 5 | E52: 4311.7 | F52: 4743 | G52: 5245.5 | H52: +
A53: SAA-8/2,6 (1,22м) | B53: Черный. D до усадки (min)= 7,9мм, D после усадки (max)= 2,6 мм; с клеевым слоем; 1,22м | C53: Titan | D53: 500 | E53: 55.2 | F53: 60.9 | G53: 67.4 | H53: +
A54: SAA-8/2,6 (12,2м) | B54: Черный. D до усадки (min)= 7,9мм, D после усадки (max)= 2,6 мм; с клеевым слоем; 1,22м * 10шт | C54: Titan | D54: 20 | E54: 552.3 | F54: 609 | G54: 674.1 | H54: +
... A64: SAA-KIT 3,5-15/9.5 | B64: Набор термоусадочных трубок, диаметр:3.5мм-15мм (нарезка 9,5см), В наборе 76 шт: Ø3.2mmx95mmx25шт;Ø4.8mmx95mmx20шт;Ø6.4mmx95mmx15шт;Ø7.9mmx95mmx8шт;Ø.5mmx95mmx5шт;Ø15mm-3шт, цвет: черный; с клеевым слоем | C64: Titan | D64: 50 | E64: 717.4 | F64: 789.6 | G64: 869.8 | H64: +
A65: Термоусадочные изоляторы с припоем, коэффициент усадки 3:1, с клеевым слоем, 20шт. | B65: 0 | C65: 0 | D65: 0 | E65: 0 | F65: 0 | G65: 0
A66: SLD-1/2 | B66: Прозрачный, D до усадки (min)= 1,7мм, D после усадки (max)= 0,6 мм; с клеевым слоем | C66: Titan | D66: 1000 | E66: 452.5 | F66: 497 | G66: 549.7 | H66: +
A67: SLD-1 | B67: Прозрачный, D до усадки (min)= 2,7мм, D после усадки (max)= 0,9 мм; с клеевым слоем | C67: Titan | D67: 1000 | E67: 511.8 | F67: 563.4 | G67: 622.9 | H67: +
A68: SLD-2 | B68: Прозрачный, D до усадки (min)= 4,5мм, D после усадки (max)= 1,5 мм; с клеевым слоем | C68: Titan | D68: 500 | E68: 560 | F68: 616 | G68: 680.2 | H68: +
A69: SLD-5 | B69: Прозрачный, D до усадки (min)= 6,0мм, D после усадки (max)= 2,0 мм; с клеевым слоем | C69: Titan | D69: 200 | E69: 679.1 | F69: 746.6 | G69: 825.7 | H69: +

Sheet ДОП
A1: Санкт-Петербург: +7 (812) 271-44 -84; +7 911-771-2000 | C1: прайс-лист действителен с 17.08.2026 | I1: =HYPERLINK("#'Заявка'!B860",IF('Заявка'!$L$5>0,"В заявке "&'Заявка'!$L$5&" поз. на "&IF(ROUND('Заявка'!$G$5,0)>=1000,INT(ROUND('Заявка'!$G$5,0)/1000)&" "&TEXT(MOD(ROUND('Заявка'!$G$5,0),1000),"000"),ROUND('Заявка'!$G$5,0)&"")&" ₽ →","Перейти к заявке →")) -> Перейти к заявке →
A2: Наименование | B2: Краткое описание | C2: Торговая марка | D2: В мастер-коробке (уп) | E2: цена в рублях при покупке на сумму | G2: Мелко-оптовая цена (от 17 000 рублей) | H2: 46300
E3: От 140 000 рублей | F3: От 50 000 рублей
B4: Снижение цены
B5: Повышение цены
B6: Новинка
A7: ЛЕНТЫ ТЕРМОСТОЙКИЕ | B7: 0 | C7: 0 | D7: 0 | E7: 0 | F7: 0 | G7: 0
A8: SST 3016 White | B8: термолента 30мм х 16м, белая | C8: Titan | D8: 30 | E8: 730.8 | F8: 803.8 | G8: 888.6 | H8: +
A9: SST 3016 Black | B9: термолента 30мм х 16м, черная | C9: Titan | D9: 30 | E9: 730.8 | F9: 803.8 | G9: 888.6 | H9: +
A10: SST CARBON 3016 | B10: термолента CARBON 30мм х 16м | C10: Titan | D10: 30 | E10: 894.9 | F10: 984.2 | G10: 1088.1 | H10: +
A11: ПЕРЕХОДНИКИ ДВЕРНЫЕ | B11: 0 | C11: 0 | D11: 0 | E11: 0 | F11: 0 | G11: 0
A12: AQM 46 | B12: Гофрированная трубка для проводки прямая, диам. 10мм | C12: 0 | D12: 1000 | E12: 39.3 | F12: 44 | G12: 48.1 | H12: +
A13: AQM 46(S)(тонкая) | B13: Гофрированная трубка, S-образная, 10 мм. | C13: 0 | D13: 1000 | E13: 42.7 | F13: 47.5 | G13: 51.9 | H13: +
A14: AQM 47(7) | B14: Прямая трубка, диам.7мм. | C14: 0 | D14: 1500 | E14: 35.7 | F14: 39.4 | G14: 43.2 | H14: +
A15: AQM 47(9) | B15: Прямая трубка, диам.9мм. | C15: 0 | D15: 1500 | E15: 42.7 | F15: 47.5 | G15: 51.9 | H15: +
A16: AQM 80S | B16: S-образная, диам.20мм. В штатное место передних дверей ВАЗ-2109 | C16: 0 | D16: 250 | E16: 98.8 | F16: 103.4 | G16: 107.9 | H16: +
A17: AQM 89 | B17: трубка гофрированная косая внутренний диаметр 20 мм (в штатное место задних дверей ВАЗ-21099,2115) | C17: 0 | D17: 1 | E17: 44.7 | F17: 49.6 | G17: 54.5 | H17: +
A18: AQM 90 | B18: Трубка гофрированная в штатные места передних и задних дверей на Lada Largus, РЕНО-Логан, Сандеро, Дастер, Ниссан-Террано (для некоторых моделей нужна дополнительная втулка AQM 91, для "Лада-Ларгус" втулка не требуется) | C18: 0 | D18: 200 | E18: 119.9 | F18: 133.2 | G18: 145.7 | H18: +
A19: AQM 91 | B19: Площадка для AQM 90 (в штатные места передних и задних дверей на РЕНО-Логан и РЕНО-Сандеро) | C19: 0 | D19: 1000 | E19: 43 | F19: 47.8 | G19: 52.2 | H19: +
A20: AQM 108 | B20: Колпачок защитный для Лада-Гранта, Ниссан-Датсун | C20: 0 | D20: 500 | E20: 29.5 | F20: 32.9 | G20: 35.9 | H20: +
A21: AQM 109 | B21: Чехол защитный для Лада-Гранта, Ниссан-Датсун | C21: 0 | D21: 100 | E21: 92.8 | F21: 103 | G21: 112.6 | H21: +
A22: AQM 110 | B22: Втулка для совмещения AQM 108 и AQM 109, для Лада-Гранта, Ниссан-Датсун | C22: 0 | D22: 500 | E22: 81.2 | F22: 90.3 | G22: 98.8 | H22: +
A23: AQM 108/09/10 | B23: Переходник для Лада Гранта в сборе(AQM 108+AQM 109+AQM 110) | C23: 0 | D23: 140 | E23: 283.3 | F23: 314.8 | G23: 344.3 | H23: +
A24: МОНТАЖНЫЙ ИНСТРУМЕНТ | B24: 0 | C24: 0 | D24: 0 | E24: 0 | F24: 0 | G24: 0
A25: Пробники: | B25: 0 | C25: 0 | D25: 0 | E25: 0 | F25: 0 | G25: 0
A26: LY AT 10 | B26: пробник 6; 12; 24В | C26: Titan | D26: 40 | E26: 410.9 | F26: 452.4 | G26: 500 | H26: -
A27: Инструмент для снятия изоляции: | B27: 0 | C27: 0 | D27: 0 | E27: 0 | F27: 0 | G27: 0
A28: LY-6261 | B28: эргономичные ручки AWG 22-6 | C28: Titan | D28: 50 | E28: 200 | F28: 200 | G28: 200 | H28: + | I28: ликвидация остатков!!!!
A29: Универсальный обжимной инструмент: | B29: 0 | C29: 0 | D29: 0 | E29: 0 | F29: 0 | G29: 0
A30: LY-1305 | B30: для изолированных Разъемов | C30: Titan | D30: 40 | E30: 200 | F30: 200 | G30: 200 | H30: + | I30: ликвидация остатков!!!!
A31: LY-6202 | B31: AWG22-10 для клемм б/и, AWG28-14 для плоских Разъемов б/и | C31: Titan | D31: 50 | E31: 200 | F31: 200 | G31: 200 | H31: + | I31: ликвидация остатков!!!!
A32: LY-462WH | B32: для набивания резиновых втулок влагозащищенных коннекторов | C32: Titan | D32: 1000 | E32: 50 | F32: 50 | G32: 50 | H32: + | I32: ликвидация остатков!!!!
A33: LY-462WH | B33: для набивания резиновых втулок влагозащищенных коннекторов | C33: Titan | D33: 1000 | E33: 135 | F33: 148.5 | G33: 163.8 | H33: +
A34: Инструмент, используемый при установке дополнительного оборудования | B34: 0 | C34: 0 | D34: 0 | E34: 0 | F34: 0 | G34: 0
A35: GT 194 | B35: для демонтажа уплотнителей, панелей и т.п. | C35: 0 | D35: 500 | E35: 245.1 | F35: 245.1 | G35: 245.1 | H35: +
A36: ДОПОЛНИТЕЛЬНОЕ ОБОРУДОВАНИЕ | B36: 0 | C36: 0 | D36: 0 | E36: 0 | F36: 0 | G36: 0
A37: Электронная секретка ES-1 | B37: Электронная секретка ES-1 | C37: 0 | D37: 350 | E37: 200 | F37: 200 | G37: 200 | H37: + | I37: ликвидация остатков!!!!
A38: СТЕКЛОПОДЪЕМНИКИ | B38: 0 | C38: 0 | D38: 0 | E38: 0 | F38: 0 | G38: 0
A39: Комплекты: стеклоподъемники универсальные+кнопки | B39: 0 | C39: 0 | D39: 0 | E39: 0 | F39: 0 | G39: 0
A40: PW-1 | B40: универсальный эл.стеклоподъемник, 2двери; 3 кнопки с подсветкой | C40: Titan | D40: 10 | E40: 2679.3 | F40: 2867 | G40: 3149.4 | H40: +
A41: SPL 001 | B41: универсальный эл.стеклоподъемник, 2двери; 3 кнопки с подсветкой (PW2 в белой коробке) | C41: 0 | D41: 10 | E41: 2994.8 | F41: 3204.8 | G41: 3528.6 | H41: +

Sheet Защитные покрытия
A1: Санкт-Петербург: +7 (812) 271-44 -84; +7 911-771-2000 | C1: прайс-лист действителен с 17.08.2026 | I1: =HYPERLINK("#'Заявка'!B860",IF('Заявка'!$L$5>0,"В заявке "&'Заявка'!$L$5&" поз. на "&IF(ROUND('Заявка'!$G$5,0)>=1000,INT(ROUND('Заявка'!$G$5,0)/1000)&" "&TEXT(MOD(ROUND('Заявка'!$G$5,0),1000),"000"),ROUND('Заявка'!$G$5,0)&"")&" ₽ →","Перейти к заявке →")) -> Перейти к заявке →
A2: Наименование | B2: Краткое описание | C2: Торговая марка | D2: В мастер-коробке (уп) | E2: цена в рублях при покупке на сумму | G2: Мелко-оптовая цена (от 17 000 рублей) | H2: 46300
E3: От 140 000 рублей | F3: От 50 000 рублей
B4: Снижение цены
B5: Повышение цены
B6: Новинка
A7: ЗАЩИТНЫЕ ПОКРЫТИЯ | B7: 0 | C7: 0 | D7: #REF! | E7: 0 | F7: 0 | G7: 0
A8: Универсальные защитные покрытия | B8: 0 | C8: 0 | D8: #REF! | E8: 0 | F8: 0 | G8: 0
A9: NU-55 | B9: маскирующее укрывное покрытие п/э с клейкой креплентой, 55смХ20м | C9: 0 | D9: 60 | E9: 155.6 | F9: 171.7 | G9: 189.8 | H9: +
A10: NU-110 | B10: маскирующее укрывное покрытие п/э с клейкой креплентой, 110смХ20м | C10: 0 | D10: 40 | E10: 237.4 | F10: 261.5 | G10: 288.8 | H10: +
A11: NU-180 | B11: маскирующее укрывное покрытие п/э с клейкой креплентой, 180смХ20м | C11: 0 | D11: 40 | E11: 454.4 | F11: 499.9 | G11: 552.3 | H11: +
A12: NU-270 (15) | B12: маскирующее укрывное покрытие п/э с клейкой креплентой, 270смХ15м | C12: 0 | D12: 30 | E12: 500.8 | F12: 551.3 | G12: 608.9 | H12: +
A13: Защитные покрытия для наружного применения | B13: 0 | C13: 0 | D13: #REF! | E13: 0 | F13: 0 | G13: 0
A14: NKA | B14: защитная накидка с магнитами на капот для защиты лакокрасочного покрытия, синяя, 195см х 140 см | C14: 0 | D14: 10 | E14: 1736.4 | F14: 1927.5 | G14: 2120.9 | H14: +
A15: Внутрисалонные защитные покрытия | B15: 0 | C15: 0 | D15: #REF! | E15: 0 | F15: 0 | G15: 0
A16: NS-2 накидка на сиденье | B16: накидка на сиденье,130см*80см, п/э 12 мкм, 250шт в рулоне | C16: 0 | D16: 1 | E16: 1809.4 | F16: 1990.2 | G16: 2199.3 | H16: -
A17: NR-1 чехол на руль | B17: чехол на руль, d=45см, п/э, 250шт,(в мастер-коробке 4 упаковки), цена за упаковку | C17: 0 | D17: 4 | E17: 1478.9 | F17: 1626.6 | G17: 1797.5 | H17: +
A18: NR-KIT | B18: набор защитной пленки для руля (10 роликов стрейч пленки 110 мм*150м+1 ручка 21см) | C18: 0 | D18: 1 | E18: 1654.4 | F18: 1819.8 | G18: 2010.9 | H18: +
A19: NKPP-500 чехлы на КПП и ручник | B19: чехлы на КПП и ручник, п/э, 500шт в коробке | C19: 0 | D19: 1 | E19: 1119.3 | F19: 1230.8 | G19: 1360.4 | H19: -
A20: NP-3 защитное покрытие на пол | B20: защитное покрытие на пол, 40,5см*52,5см, бумага,"Следы ног вертикальные", 500шт | C20: 0 | D20: 1 | E20: 2203.5 | F20: 2423.8 | G20: 2678.4 | H20: +
A21: Пакеты для хранения колес | B21: 0 | C21: 0 | D21: #REF! | E21: 0 | F21: 0 | G21: 0
A22: NK-110/15 | B22: Пакеты для хранения колес, 15мк, 110см х 110см (100 шт), белые | C22: 0 | D22: 1 | E22: 1065 | F22: 1171.2 | G22: 1294.4 | H22: +

Sheet Мобильные аксессуары
A1: Санкт-Петербург: +7 (812) 271-44 -84; +7 911-771-2000 | D1: прайс-лист действителен с 06.07.2026 | J1: =HYPERLINK("#'Заявка'!B860",IF('Заявка'!$L$5>0,"В заявке "&'Заявка'!$L$5&" поз. на "&IF(ROUND('Заявка'!$G$5,0)>=1000,INT(ROUND('Заявка'!$G$5,0)/1000)&" "&TEXT(MOD(ROUND('Заявка'!$G$5,0),1000),"000"),ROUND('Заявка'!$G$5,0)&"")&" ₽ →","Перейти к заявке →")) -> Перейти к заявке →
A2: Наименование | C2: Краткое описание | D2: Торговая марка | E2: В мастер-коробке (уп) | F2: цена в рублях при покупке на сумму | H2: Мелко-оптовая цена (от 17 000 рублей) | I2: 46293
F3: От 140 000 рублей | G3: От 50 000 рублей
A4: МОБИЛЬНЫЕ АКСЕССУАРЫ | C4: 0 | D4: 0 | E4: 0 | F4: 0 | G4: 0 | H4: 0
A5: Blade 5000 | C5: Ультра тонкий пауэрбэнк, тип батареи: Li-Polymer (cell UL approval), Емкость: 5000mAh, размер: 150*65*9.6 мм, вес: 121.3 г | D5: Terminator | E5: 32 | H5: 200 | I5: + | J5: ликвидация остатков!!!!
A6: PSC-A2 | C6: Smart USB Cable для безопасной зарядки гаджетов и проверки емкости аккумуляторов, в т.ч. переносных (пауэрбанков) | D6: 0 | E6: 40 | F6: 1347.2 | G6: 1478.7 | H6: 1625.5 | I6: +
E7: В мастер-коробке (уп) | F7: для покупателей изоленты Terminator по специальным предложениям на объем
A8: Blade 5000 PROMO | C8: Ультра тонкий пауэрбэнк, тип батареи: Li-Polymer (cell UL approval), Емкость: 5000mAh, размер: 150*65*9.6 мм, вес: 121.3 г | D8: Terminator | E8: 32 | F8: по запросу | H8: 632.4 | I8: -

Sheet Тонировочный инструмент
A1: Санкт-Петербург: +7 (812) 271-44 -84; +7 911-771-2000 | B1: 0 | C1: Прайс-лист действителен с 15.01.2026 | K1: =HYPERLINK("#'Заявка'!B860",IF('Заявка'!$L$5>0,"В заявке "&'Заявка'!$L$5&" поз. на "&IF(ROUND('Заявка'!$G$5,0)>=1000,INT(ROUND('Заявка'!$G$5,0)/1000)&" "&TEXT(MOD(ROUND('Заявка'!$G$5,0),1000),"000"),ROUND('Заявка'!$G$5,0)&"")&" ₽ →","Перейти к заявке →")) -> Перейти к заявке →
A2: Код | B2: ПРОФЕССИОНАЛЬНЫЙ ИНСТРУМЕНТ ДЛЯ УСТАНОВКИ ПЛЕНОК | C2: Страна-производитель | D2: цена в рублях при покупке на сумму | F2: Мелкий опт | G2: 46300 | H2: ВАШ ЗАКАЗ
B3: Наименование | D3: От 90 000 руб | E3: От 25 000 руб | H3: Кол-во | I3: Ваша цена | J3: Сумма
A4: Ножи и сменные лезвия | B4: 0 | C4: 0 | D4: 0
A5: GT 108 | B5: Сменные лезвия для скребка "Triumph", 25 шт. | C5: Дания | D5: 4134.2 | E5: 4351.8 | F5: 4699.9 | G5: + | I5: =IF(G5="+",IF(SUMPRODUCT(H$5:H$99,D$5:D$99)>90000,D5,IF(SUMPRODUCT(H$5:H$99,E$5:E$99)>25000,E5,F5)),0) -> 4699.9 | J5: =H5*I5 -> 0
A6: GT 115 | B6: Сменный лезвия для безопасного ножа GT 125 | C6: Германия | D6: 45.9 | E6: 48.6 | F6: 56.1 | G6: + | I6: =IF(G6="+",IF(SUMPRODUCT(H$5:H$99,D$5:D$99)>90000,D6,IF(SUMPRODUCT(H$5:H$99,E$5:E$99)>25000,E6,F6)),0) -> 56.1 | J6: =H6*I6 -> 0
A7: GT 125 | B7: Безопасный нож для раскроя пленки | C7: Германия | D7: 803.3 | E7: 845.3 | F7: 945.9 | G7: + | I7: =IF(G7="+",IF(SUMPRODUCT(H$5:H$99,D$5:D$99)>90000,D7,IF(SUMPRODUCT(H$5:H$99,E$5:E$99)>25000,E7,F7)),0) -> 945.9 | J7: =H7*I7 -> 0
A8: GT 137 | B8: Нержавеющие стальные лезвия для чистки стекла, 100 шт | C8: США | D8: 2186.8 | E8: 2302.5 | F8: 2413.6 | G8: + | I8: =IF(G8="+",IF(SUMPRODUCT(H$5:H$99,D$5:D$99)>90000,D8,IF(SUMPRODUCT(H$5:H$99,E$5:E$99)>25000,E8,F8)),0) -> 2413.6 | J8: =H8*I8 -> 0
A9: GT 139 | B9: Пластиковые лезвия для чистки стекла, 100 шт. | C9: США | D9: 1718.3 | E9: 1808.5 | F9: 2098.4 | G9: + | I9: =IF(G9="+",IF(SUMPRODUCT(H$5:H$99,D$5:D$99)>90000,D9,IF(SUMPRODUCT(H$5:H$99,E$5:E$99)>25000,E9,F9)),0) -> 2098.4 | J9: =H9*I9 -> 0
A10: GT 140 | B10: Лезвия простые для чистки стекла, 100 шт. | C10: Мексика | D10: 1246.4 | E10: 1311.3 | F10: 1425.7 | G10: + | I10: =IF(G10="+",IF(SUMPRODUCT(H$5:H$99,D$5:D$99)>90000,D10,IF(SUMPRODUCT(H$5:H$99,E$5:E$99)>25000,E10,F10)),0) -> 1425.7 | J10: =H10*I10 -> 0
A11: GT 211 | B11: Сменные лезвия для скребка "Triumph" GT 210, 10 шт. | C11: США | D11: 455.2 | E11: 477.9 | F11: 555.4 | G11: + | I11: =IF(G11="+",IF(SUMPRODUCT(H$5:H$99,D$5:D$99)>90000,D11,IF(SUMPRODUCT(H$5:H$99,E$5:E$99)>25000,E11,F11)),0) -> 555.4 | J11: =H11*I11 -> 0
A12: GT 226 | B12: Нож "Silver Cutter Olfa" SVR-2 для раскроя пленки | C12: США | D12: 902.5 | E12: 949.8 | F12: 1064.5 | G12: + | I12: =IF(G12="+",IF(SUMPRODUCT(H$5:H$99,D$5:D$99)>90000,D12,IF(SUMPRODUCT(H$5:H$99,E$5:E$99)>25000,E12,F12)),0) -> 1064.5 | J12: =H12*I12 -> 0
A13: Выгонки | B13: 0 | C13: 0 | D13: 0 | E13: 0 | F13: 0
A14: GT 034 | B14: Прозрачная выгонка с держателем, 30см | C14: США | D14: 1670.6 | E14: 1757.6 | F14: 1969.1 | G14: + | I14: =IF(G14="+",IF(SUMPRODUCT(H$5:H$99,D$5:D$99)>90000,D14,IF(SUMPRODUCT(H$5:H$99,E$5:E$99)>25000,E14,F14)),0) -> 1969.1 | J14: =H14*I14 -> 0
A15: GT 042 | B15: Серебристая выгонка с металлической ручкой | C15: США | D15: цена по запросу | G15: - | I15: =IF(G15="+",IF(SUMPRODUCT(H$5:H$99,D$5:D$99)>90000,D15,IF(SUMPRODUCT(H$5:H$99,E$5:E$99)>25000,E15,F15)),0) -> 0 | J15: =H15*I15 -> 0
A16: GT 044R | B16: Выгонка красная, 15см | C16: США | D16: 520.2 | E16: 546.3 | F16: 635.2 | G16: + | I16: =IF(G16="+",IF(SUMPRODUCT(H$5:H$99,D$5:D$99)>90000,D16,IF(SUMPRODUCT(H$5:H$99,E$5:E$99)>25000,E16,F16)),0) -> 635.2 | J16: =H16*I16 -> 0
A17: GT 044BLK | B17: Выгонка черная, 15см | C17: США | D17: 321.3 | E17: 337.5 | F17: 392.3 | G17: + | I17: =IF(G17="+",IF(SUMPRODUCT(H$5:H$99,D$5:D$99)>90000,D17,IF(SUMPRODUCT(H$5:H$99,E$5:E$99)>25000,E17,F17)),0) -> 392.3 | J17: =H17*I17 -> 0
A18: GT 061 | B18: Полиуретановая прозрачная выгонка для GT 064, 20см | C18: США | D18: 1985.2 | E18: 2089.7 | F18: 2339.8 | G18: + | I18: =IF(G18="+",IF(SUMPRODUCT(H$5:H$99,D$5:D$99)>90000,D18,IF(SUMPRODUCT(H$5:H$99,E$5:E$99)>25000,E18,F18)),0) -> 2339.8 | J18: =H18*I18 -> 0
A19: GT 062 | B19: Выгонка металлическая с жесткой вставкой, 15см | C19: США | D19: 5494 | E19: 5781.7 | F19: 6245.5 | G19: + | I19: =IF(G19="+",IF(SUMPRODUCT(H$5:H$99,D$5:D$99)>90000,D19,IF(SUMPRODUCT(H$5:H$99,E$5:E$99)>25000,E19,F19)),0) -> 6245.5 | J19: =H19*I19 -> 0
A20: GT 063 | B20: Полиуретановая прозрачная выгонка для GT 062, 15см | C20: США | D20: 1526 | E20: 1606.4 | F20: 1799.2 | G20: + | I20: =IF(G20="+",IF(SUMPRODUCT(H$5:H$99,D$5:D$99)>90000,D20,IF(SUMPRODUCT(H$5:H$99,E$5:E$99)>25000,E20,F20)),0) -> 1799.2 | J20: =H20*I20 -> 0
A21: GT 064 | B21: Выгонка металлическая с жесткой вставкой, 20см | C21: США | D21: 3717.3 | E21: 3912.8 | F21: 4226 | G21: + | I21: =IF(G21="+",IF(SUMPRODUCT(H$5:H$99,D$5:D$99)>90000,D21,IF(SUMPRODUCT(H$5:H$99,E$5:E$99)>25000,E21,F21)),0) -> 4226 | J21: =H21*I21 -> 0
A22: GT 066 | B22: Прозрачная выгонка (большая) | C22: США | D22: 642.5 | E22: 676.1 | F22: 784.5 | G22: + | I22: =IF(G22="+",IF(SUMPRODUCT(H$5:H$99,D$5:D$99)>90000,D22,IF(SUMPRODUCT(H$5:H$99,E$5:E$99)>25000,E22,F22)),0) -> 784.5 | J22: =H22*I22 -> 0
A23: GT 067 | B23: Прозрачная выгонка (малая) | C23: США | D23: 311.8 | E23: 328.1 | F23: 380.2 | G23: + | I23: =IF(G23="+",IF(SUMPRODUCT(H$5:H$99,D$5:D$99)>90000,D23,IF(SUMPRODUCT(H$5:H$99,E$5:E$99)>25000,E23,F23)),0) -> 380.2 | J23: =H23*I23 -> 0
A24: GT 069 | B24: Полиуретановая остроугольная выгонка для GT 062, 15см | C24: США | D24: цена по запросу | G24: - | I24: =IF(G24="+",IF(SUMPRODUCT(H$5:H$99,D$5:D$99)>90000,D24,IF(SUMPRODUCT(H$5:H$99,E$5:E$99)>25000,E24,F24)),0) -> 0 | J24: =H24*I24 -> 0
A25: GT 079 | B25: Золотая выгонка для разглаживания пленки при разогреве феном, 10см | C25: США | D25: 875.2 | E25: 922.2 | F25: 1039.1 | G25: + | I25: =IF(G25="+",IF(SUMPRODUCT(H$5:H$99,D$5:D$99)>90000,D25,IF(SUMPRODUCT(H$5:H$99,E$5:E$99)>25000,E25,F25)),0) -> 1039.1 | J25: =H25*I25 -> 0
A26: GT 080 | B26: Синяя выгонка для разглаживания пленки при разогреве феном, 10см | C26: США | D26: 210.1 | E26: 222.2 | F26: 257 | G26: + | I26: =IF(G26="+",IF(SUMPRODUCT(H$5:H$99,D$5:D$99)>90000,D26,IF(SUMPRODUCT(H$5:H$99,E$5:E$99)>25000,E26,F26)),0) -> 257 | J26: =H26*I26 -> 0
A27: GT 083 | B27: Чиззлер тефлоновый для устранения пыли с помощью фена | C27: США | D27: 114.8 | E27: 121.7 | F27: 135.4 | G27: + | I27: =IF(G27="+",IF(SUMPRODUCT(H$5:H$99,D$5:D$99)>90000,D27,IF(SUMPRODUCT(H$5:H$99,E$5:E$99)>25000,E27,F27)),0) -> 135.4 | J27: =H27*I27 -> 0
A28: GT 083W | B28: Чиззлер тефлоновый для устранения пыли с помощью фена, белый | C28: США | D28: 97.6 | E28: 103.1 | F28: 119.2 | G28: + | I28: =IF(G28="+",IF(SUMPRODUCT(H$5:H$99,D$5:D$99)>90000,D28,IF(SUMPRODUCT(H$5:H$99,E$5:E$99)>25000,E28,F28)),0) -> 119.2 | J28: =H28*I28 -> 0
A29: GT 086 | B29: Белая тефлон. трапеция для точной подгонки пленки по форме стекла | C29: США | D29: цена по запросу | G29: - | I29: =IF(G29="+",IF(SUMPRODUCT(H$5:H$99,D$5:D$99)>90000,D29,IF(SUMPRODUCT(H$5:H$99,E$5:E$99)>25000,E29,F29)),0) -> 0 | J29: =H29*I29 -> 0
A30: GT 086-6B | B30: Черная тефлоновая выгонка (трапеция) | C30: США | D30: 334.8 | E30: 352.1 | F30: 408.4 | G30: + | I30: =IF(G30="+",IF(SUMPRODUCT(H$5:H$99,D$5:D$99)>90000,D30,IF(SUMPRODUCT(H$5:H$99,E$5:E$99)>25000,E30,F30)),0) -> 408.4 | J30: =H30*I30 -> 0
A31: GT 086B | B31: Черная тефлон. трапеция для точной подгонки пленки по форме стекла | C31: США | D31: 322 | E31: 338.3 | F31: 392.8 | G31: + | I31: =IF(G31="+",IF(SUMPRODUCT(H$5:H$99,D$5:D$99)>90000,D31,IF(SUMPRODUCT(H$5:H$99,E$5:E$99)>25000,E31,F31)),0) -> 392.8 | J31: =H31*I31 -> 0
A32: GT 086PNK | B32: Розовая тефлон. трапеция для точной подгонки пленки по форме стекла | C32: США | D32: 200.9 | E32: 211.5 | F32: 245.1 | G32: + | I32: =IF(G32="+",IF(SUMPRODUCT(H$5:H$99,D$5:D$99)>90000,D32,IF(SUMPRODUCT(H$5:H$99,E$5:E$99)>25000,E32,F32)),0) -> 245.1 | J32: =H32*I32 -> 0
A33: GT 086GLD | B33: Золотая тефлон. трапеция для точной подгонки пленки по форме стекла | C33: США | D33: 200.9 | E33: 211.5 | F33: 245.1 | G33: + | I33: =IF(G33="+",IF(SUMPRODUCT(H$5:H$99,D$5:D$99)>90000,D33,IF(SUMPRODUCT(H$5:H$99,E$5:E$99)>25000,E33,F33)),0) -> 245.1 | J33: =H33*I33 -> 0
A34: GT 086BLUE | B34: Синяя тефлон. трапеция для точной подгонки пленки по форме стекла | C34: США | D34: 329.2 | E34: 346.6 | F34: 403 | G34: + | I34: =IF(G34="+",IF(SUMPRODUCT(H$5:H$99,D$5:D$99)>90000,D34,IF(SUMPRODUCT(H$5:H$99,E$5:E$99)>25000,E34,F34)),0) -> 403 | J34: =H34*I34 -> 0
A35: GT 087 | B35: Желтая выгонка | C35: США | D35: цена по запросу | G35: - | I35: =IF(G35="+",IF(SUMPRODUCT(H$5:H$99,D$5:D$99)>90000,D35,IF(SUMPRODUCT(H$5:H$99,E$5:E$99)>25000,E35,F35)),0) -> 0 | J35: =H35*I35 -> 0
A36: GT 087GR | B36: Серая выгонка | C36: США | D36: 326.6 | E36: 344.1 | F36: 398.9 | G36: + | I36: =IF(G36="+",IF(SUMPRODUCT(H$5:H$99,D$5:D$99)>90000,D36,IF(SUMPRODUCT(H$5:H$99,E$5:E$99)>25000,E36,F36)),0) -> 398.9 | J36: =H36*I36 -> 0
A37: GT 088 | B37: Желтая выгонка Bondo | C37: США | D37: цена по запросу | G37: - | I37: =IF(G37="+",IF(SUMPRODUCT(H$5:H$99,D$5:D$99)>90000,D37,IF(SUMPRODUCT(H$5:H$99,E$5:E$99)>25000,E37,F37)),0) -> 0 | J37: =H37*I37 -> 0
A38: GT 091 | B38: Сламмер для сгона воды на заднем стекле в труднодоступных местах | C38: США | D38: 1170 | E38: 1231.5 | F38: 1428.2 | G38: + | I38: =IF(G38="+",IF(SUMPRODUCT(H$5:H$99,D$5:D$99)>90000,D38,IF(SUMPRODUCT(H$5:H$99,E$5:E$99)>25000,E38,F38)),0) -> 1428.2 | J38: =H38*I38 -> 0
A39: GT 113 Yellow | B39: Выгонка Diamond Tip желтая | C39: США | D39: 535.4 | E39: 563.7 | F39: 631.9 | G39: + | I39: =IF(G39="+",IF(SUMPRODUCT(H$5:H$99,D$5:D$99)>90000,D39,IF(SUMPRODUCT(H$5:H$99,E$5:E$99)>25000,E39,F39)),0) -> 631.9 | J39: =H39*I39 -> 0
A40: GT 117 | B40: Выгонка синяя "Blue Max" для сгона и выжимки воды на любых стеклах, 13см | C40: США | D40: 1623 | E40: 1707.8 | F40: 1858.1 | G40: + | I40: =IF(G40="+",IF(SUMPRODUCT(H$5:H$99,D$5:D$99)>90000,D40,IF(SUMPRODUCT(H$5:H$99,E$5:E$99)>25000,E40,F40)),0) -> 1858.1 | J40: =H40*I40 -> 0
A41: GT 117A | B41: Выгонка синяя "Blue Max"угловая для сгона и выжимки воды на любых стеклах, 13см | C41: США | D41: цена по запросу | G41: - | I41: =IF(G41="+",IF(SUMPRODUCT(H$5:H$99,D$5:D$99)>90000,D41,IF(SUMPRODUCT(H$5:H$99,E$5:E$99)>25000,E41,F41)),0) -> 0 | J41: =H41*I41 -> 0
A42: GT 119 | B42: Угловая резиновая выгонка, черная, 10см | C42: США | D42: 832.7 | E42: 875.5 | F42: 981.2 | G42: + | I42: =IF(G42="+",IF(SUMPRODUCT(H$5:H$99,D$5:D$99)>90000,D42,IF(SUMPRODUCT(H$5:H$99,E$5:E$99)>25000,E42,F42)),0) -> 981.2 | J42: =H42*I42 -> 0
A43: GT 147 | B43: Желтая полиуретановая выгонка Turbo для мойки стекол, 50см | C43: США | D43: 2752.4 | E43: 2896.7 | F43: 3128.2 | G43: + | I43: =IF(G43="+",IF(SUMPRODUCT(H$5:H$99,D$5:D$99)>90000,D43,IF(SUMPRODUCT(H$5:H$99,E$5:E$99)>25000,E43,F43)),0) -> 3128.2 | J43: =H43*I43 -> 0
A44: GT 148 | B44: Белая выгонка с резиновой вставкой, 15см | C44: США | D44: 123.3 | E44: 128.5 | F44: 150 | G44: + | I44: =IF(G44="+",IF(SUMPRODUCT(H$5:H$99,D$5:D$99)>90000,D44,IF(SUMPRODUCT(H$5:H$99,E$5:E$99)>25000,E44,F44)),0) -> 150 | J44: =H44*I44 -> 0
A45: GT 149 | B45: Белая выгонка с резиновой вставкой, 30см | C45: США | D45: 267.6 | E45: 281.2 | F45: 326.6 | G45: + | I45: =IF(G45="+",IF(SUMPRODUCT(H$5:H$99,D$5:D$99)>90000,D45,IF(SUMPRODUCT(H$5:H$99,E$5:E$99)>25000,E45,F45)),0) -> 326.6 | J45: =H45*I45 -> 0
A46: GT 178 | B46: Выгонка Reach с прорезиненными краями для работы с пленками в труднодоступных местах, 42 см | C46: США | D46: 4771.8 | E46: 5023 | F46: 5424.5 | G46: + | I46: =IF(G46="+",IF(SUMPRODUCT(H$5:H$99,D$5:D$99)>90000,D46,IF(SUMPRODUCT(H$5:H$99,E$5:E$99)>25000,E46,F46)),0) -> 5424.5 | J46: =H46*I46 -> 0
A47: GT 200 Ultra Gold | B47: Треугольная золотая выгонка, EZ Reach ORIGINAL Gold | C47: США | D47: 507.2 | E47: 534.1 | F47: 619.9 | G47: + | I47: =IF(G47="+",IF(SUMPRODUCT(H$5:H$99,D$5:D$99)>90000,D47,IF(SUMPRODUCT(H$5:H$99,E$5:E$99)>25000,E47,F47)),0) -> 619.9 | J47: =H47*I47 -> 0
A48: GT 200PLT | B48: Треугольная платиновая выгонка, EZ Reach ORIGINAL Platinum | C48: США | D48: 539.4 | E48: 568.5 | F48: 659 | G48: + | I48: =IF(G48="+",IF(SUMPRODUCT(H$5:H$99,D$5:D$99)>90000,D48,IF(SUMPRODUCT(H$5:H$99,E$5:E$99)>25000,E48,F48)),0) -> 659 | J48: =H48*I48 -> 0
A49: GT 201Y contour | B49: Остроуг.выгонка для разглаж. пленки в труднодоступных местах, желтая | C49: США | D49: 589.1 | E49: 620.9 | F49: 720.3 | G49: + | I49: =IF(G49="+",IF(SUMPRODUCT(H$5:H$99,D$5:D$99)>90000,D49,IF(SUMPRODUCT(H$5:H$99,E$5:E$99)>25000,E49,F49)),0) -> 720.3 | J49: =H49*I49 -> 0
A50: GT 202 | B50: Остроуг.выгонка для разглаж. пленки в труднодоступных местах,черная | C50: США | D50: 376.2 | E50: 394.8 | F50: 457.7 | G50: + | I50: =IF(G50="+",IF(SUMPRODUCT(H$5:H$99,D$5:D$99)>90000,D50,IF(SUMPRODUCT(H$5:H$99,E$5:E$99)>25000,E50,F50)),0) -> 457.7 | J50: =H50*I50 -> 0
A51: GT 202B | B51: Остроуг.выгонка для разглаж. пленки в труднодоступных местах,черная с синей вставкой | C51: США | D51: 468.6 | E51: 494.1 | F51: 572.9 | G51: - | I51: =IF(G51="+",IF(SUMPRODUCT(H$5:H$99,D$5:D$99)>90000,D51,IF(SUMPRODUCT(H$5:H$99,E$5:E$99)>25000,E51,F51)),0) -> 0 | J51: =H51*I51 -> 0
A52: GT 203 | B52: Выгонка белая "Clear Max" для сгона и выжимки воды на любых стеклах, 13см | C52: США | D52: 1227.5 | E52: 1291.7 | F52: 1447.1 | G52: + | I52: =IF(G52="+",IF(SUMPRODUCT(H$5:H$99,D$5:D$99)>90000,D52,IF(SUMPRODUCT(H$5:H$99,E$5:E$99)>25000,E52,F52)),0) -> 1447.1 | J52: =H52*I52 -> 0
A53: GT 205 white | B53: Выгонка Bulldozer для сгона воды в труднодоступных местах | C53: США | D53: цена по запросу | G53: - | I53: =IF(G53="+",IF(SUMPRODUCT(H$5:H$99,D$5:D$99)>90000,D53,IF(SUMPRODUCT(H$5:H$99,E$5:E$99)>25000,E53,F53)),0) -> 0 | J53: =H53*I53 -> 0
A54: GT 207 | B54: Выгонка Swiper | C54: США | D54: 1757.6 | E54: 1850.1 | F54: 2072.2 | G54: + | I54: =IF(G54="+",IF(SUMPRODUCT(H$5:H$99,D$5:D$99)>90000,D54,IF(SUMPRODUCT(H$5:H$99,E$5:E$99)>25000,E54,F54)),0) -> 2072.2 | J54: =H54*I54 -> 0
A55: GT 235 | B55: Желтая полиуретановая выгонка Turbo для мойки стекол , 15см | C55: США | D55: 1263.7 | E55: 1329.3 | F55: 1488.7 | G55: + | I55: =IF(G55="+",IF(SUMPRODUCT(H$5:H$99,D$5:D$99)>90000,D55,IF(SUMPRODUCT(H$5:H$99,E$5:E$99)>25000,E55,F55)),0) -> 1488.7 | J55: =H55*I55 -> 0
A56: GT 257 | B56: Выгонка оранжевая "Orange Crush", 13см | C56: США | D56: 1727.6 | E56: 1817.7 | F56: 2036.2 | G56: + | I56: =IF(G56="+",IF(SUMPRODUCT(H$5:H$99,D$5:D$99)>90000,D56,IF(SUMPRODUCT(H$5:H$99,E$5:E$99)>25000,E56,F56)),0) -> 2036.2 | J56: =H56*I56 -> 0
A57: GT 258 | B57: Выгонка оранжевая угловая"Orange Crush", 13см | C57: США | D57: цена по запросу | G57: - | I57: =IF(G57="+",IF(SUMPRODUCT(H$5:H$99,D$5:D$99)>90000,D57,IF(SUMPRODUCT(H$5:H$99,E$5:E$99)>25000,E57,F57)),0) -> 0 | J57: =H57*I57 -> 0
A58: GT 939 | B58: Выгонка розовая трапеция "Pink Clean", 13см | C58: США | D58: 1710.4 | E58: 1800.2 | F58: 2016 | G58: + | I58: =IF(G58="+",IF(SUMPRODUCT(H$5:H$99,D$5:D$99)>90000,D58,IF(SUMPRODUCT(H$5:H$99,E$5:E$99)>25000,E58,F58)),0) -> 2016 | J58: =H58*I58 -> 0
A59: GT 1070 | B59: Выгонка Smart Cardz - PLATINUM | C59: США | D59: 466.5 | E59: 490.7 | F59: 569.9 | G59: + | I59: =IF(G59="+",IF(SUMPRODUCT(H$5:H$99,D$5:D$99)>90000,D59,IF(SUMPRODUCT(H$5:H$99,E$5:E$99)>25000,E59,F59)),0) -> 569.9 | J59: =H59*I59 -> 0
A60: GT 2102 | B60: Выгонка прозрачная "Clear Crush",13см | C60: США | D60: 1710.4 | E60: 1800.2 | F60: 2016 | G60: + | I60: =IF(G60="+",IF(SUMPRODUCT(H$5:H$99,D$5:D$99)>90000,D60,IF(SUMPRODUCT(H$5:H$99,E$5:E$99)>25000,E60,F60)),0) -> 2016 | J60: =H60*I60 -> 0
A61: GT 2103 | B61: Выгонка прозрачная трапеция "Clear Crush", 13см | C61: США | D61: 1645.6 | E61: 1732.8 | F61: 1940.7 | G61: + | I61: =IF(G61="+",IF(SUMPRODUCT(H$5:H$99,D$5:D$99)>90000,D61,IF(SUMPRODUCT(H$5:H$99,E$5:E$99)>25000,E61,F61)),0) -> 1940.7 | J61: =H61*I61 -> 0
A62: Скребки и приспособления для очистки | B62: 0 | C62: 0 | D62: 0 | E62: 0 | F62: 0
A63: GT 045N | B63: Сменная черная резинка для GT 053-056, 3м | C63: США | D63: 1767.8 | E63: 1860.7 | F63: 2084.8 | G63: + | I63: =IF(G63="+",IF(SUMPRODUCT(H$5:H$99,D$5:D$99)>90000,D63,IF(SUMPRODUCT(H$5:H$99,E$5:E$99)>25000,E63,F63)),0) -> 2084.8 | J63: =H63*I63 -> 0
A64: GT 050 | B64: Металлический держатель с резиновой ручкой | C64: США | D64: цена по запросу | G64: - | I64: =IF(G64="+",IF(SUMPRODUCT(H$5:H$99,D$5:D$99)>90000,D64,IF(SUMPRODUCT(H$5:H$99,E$5:E$99)>25000,E64,F64)),0) -> 0 | J64: =H64*I64 -> 0
A65: GT 053 | B65: Резина с металлическим кантом для мытья стекол, 15см | C65: США | D65: цена по запросу | G65: - | I65: =IF(G65="+",IF(SUMPRODUCT(H$5:H$99,D$5:D$99)>90000,D65,IF(SUMPRODUCT(H$5:H$99,E$5:E$99)>25000,E65,F65)),0) -> 0 | J65: =H65*I65 -> 0
A66: GT 055 | B66: Резина с металлическим кантом для мытья стекол, 30см | C66: США | D66: цена по запросу | G66: - | I66: =IF(G66="+",IF(SUMPRODUCT(H$5:H$99,D$5:D$99)>90000,D66,IF(SUMPRODUCT(H$5:H$99,E$5:E$99)>25000,E66,F66)),0) -> 0 | J66: =H66*I66 -> 0
A67: GT 056 | B67: Резина с металлическим кантом для мытья стекол, 50см | C67: США | D67: цена по запросу | G67: - | I67: =IF(G67="+",IF(SUMPRODUCT(H$5:H$99,D$5:D$99)>90000,D67,IF(SUMPRODUCT(H$5:H$99,E$5:E$99)>25000,E67,F67)),0) -> 0 | J67: =H67*I67 -> 0
A68: GT 107 | B68: Скребок "Triumph" для чистки стекол с большой поверхностью, 15см | C68: США | D68: 2889.2 | E68: 3041.4 | F68: 3283.7 | G68: + | I68: =IF(G68="+",IF(SUMPRODUCT(H$5:H$99,D$5:D$99)>90000,D68,IF(SUMPRODUCT(H$5:H$99,E$5:E$99)>25000,E68,F68)),0) -> 3283.7 | J68: =H68*I68 -> 0
A69: GT 109 | B69: Держатель Help Scraper с длинной ручкой для лезвий GT140,GT137 | C69: США | D69: 1104.4 | E69: 1161.8 | F69: 1302.5 | G69: + | I69: =IF(G69="+",IF(SUMPRODUCT(H$5:H$99,D$5:D$99)>90000,D69,IF(SUMPRODUCT(H$5:H$99,E$5:E$99)>25000,E69,F69)),0) -> 1302.5 | J69: =H69*I69 -> 0
A70: GT 118-6 | B70: Жесткая вставка для GT 053, GT 207, 15см | C70: США | D70: цена по запросу | G70: - | I70: =IF(G70="+",IF(SUMPRODUCT(H$5:H$99,D$5:D$99)>90000,D70,IF(SUMPRODUCT(H$5:H$99,E$5:E$99)>25000,E70,F70)),0) -> 0 | J70: =H70*I70 -> 0
A71: GT 118-18 | B71: Жесткая вставка для GT 053-056, 45см | C71: США | D71: 674.2 | E71: 709.9 | F71: 824.3 | G71: + | I71: =IF(G71="+",IF(SUMPRODUCT(H$5:H$99,D$5:D$99)>90000,D71,IF(SUMPRODUCT(H$5:H$99,E$5:E$99)>25000,E71,F71)),0) -> 824.3 | J71: =H71*I71 -> 0
A72: GT 138 HYDE | B72: Держатель металлический с выдвижным лезвием эргон.форма | C72: США | D72: 291.8 | E72: 306.6 | F72: 355.9 | G72: + | I72: =IF(G72="+",IF(SUMPRODUCT(H$5:H$99,D$5:D$99)>90000,D72,IF(SUMPRODUCT(H$5:H$99,E$5:E$99)>25000,E72,F72)),0) -> 355.9 | J72: =H72*I72 -> 0
A73: GT 210 | B73: Скребок "Triumph" для чистки стекол, 7,5см | C73: США | D73: 424.2 | E73: 447.2 | F73: 518.1 | G73: + | I73: =IF(G73="+",IF(SUMPRODUCT(H$5:H$99,D$5:D$99)>90000,D73,IF(SUMPRODUCT(H$5:H$99,E$5:E$99)>25000,E73,F73)),0) -> 518.1 | J73: =H73*I73 -> 0
A74: GT 212 | B74: Пластмассовый скребок-держатель для металлических лезвий | C74: США | D74: 148.6 | E74: 155.3 | F74: 180.5 | G74: + | I74: =IF(G74="+",IF(SUMPRODUCT(H$5:H$99,D$5:D$99)>90000,D74,IF(SUMPRODUCT(H$5:H$99,E$5:E$99)>25000,E74,F74)),0) -> 180.5 | J74: =H74*I74 -> 0
A75: Специальные материалы для установки виниловых и полиуретановых пленок | B75: 0 | C75: 0 | D75: 0 | E75: 0 | F75: 0
A76: GT 1000 | B76: Выгонка из фетра MACTAC | C76: США | D76: цена по запросу | G76: - | I76: =IF(G76="+",IF(SUMPRODUCT(H$5:H$99,D$5:D$99)>90000,D76,IF(SUMPRODUCT(H$5:H$99,E$5:E$99)>25000,E76,F76)),0) -> 0 | J76: =H76*I76 -> 0
A77: GT 1010 | B77: Выгонка 3М для установки антигравийной пленки, 7,5см * 5,0см | C77: США | D77: 785.3 | E77: 827.4 | F77: 925.5 | G77: + | I77: =IF(G77="+",IF(SUMPRODUCT(H$5:H$99,D$5:D$99)>90000,D77,IF(SUMPRODUCT(H$5:H$99,E$5:E$99)>25000,E77,F77)),0) -> 925.5 | J77: =H77*I77 -> 0
A78: GT 1022 | B78: Выгонка с синей вставкой | C78: США | D78: 4013.2 | E78: 4233.9 | F78: 4571.6 | G78: + | I78: =IF(G78="+",IF(SUMPRODUCT(H$5:H$99,D$5:D$99)>90000,D78,IF(SUMPRODUCT(H$5:H$99,E$5:E$99)>25000,E78,F78)),0) -> 4571.6 | J78: =H78*I78 -> 0
A79: GT 2109 Fusion Blue | B79: Вставка для GT 1022 жесткость 94 | C79: США | D79: 479.2 | E79: 505.2 | F79: 585.6 | G79: + | I79: =IF(G79="+",IF(SUMPRODUCT(H$5:H$99,D$5:D$99)>90000,D79,IF(SUMPRODUCT(H$5:H$99,E$5:E$99)>25000,E79,F79)),0) -> 585.6 | J79: =H79*I79 -> 0
A80: GT 2110 Fusion Orange | B80: Вставка для GT 1022 жесткость 85 | C80: США | D80: 479.2 | E80: 505.2 | F80: 585.6 | G80: + | I80: =IF(G80="+",IF(SUMPRODUCT(H$5:H$99,D$5:D$99)>90000,D80,IF(SUMPRODUCT(H$5:H$99,E$5:E$99)>25000,E80,F80)),0) -> 585.6 | J80: =H80*I80 -> 0
A81: GT 1064 | B81: Выгонка с фетровой вставкой, 10см | C81: США | D81: 259 | E81: 272.9 | F81: 317.5 | G81: + | I81: =IF(G81="+",IF(SUMPRODUCT(H$5:H$99,D$5:D$99)>90000,D81,IF(SUMPRODUCT(H$5:H$99,E$5:E$99)>25000,E81,F81)),0) -> 317.5 | J81: =H81*I81 -> 0
A82: GT 1065 | B82: Фетровая муфта, 10см | C82: США | D82: 137.6 | E82: 144.1 | F82: 167 | G82: + | I82: =IF(G82="+",IF(SUMPRODUCT(H$5:H$99,D$5:D$99)>90000,D82,IF(SUMPRODUCT(H$5:H$99,E$5:E$99)>25000,E82,F82)),0) -> 167 | J82: =H82*I82 -> 0
A83: GT 266 | B83: Сменные стальные лезвия для ножа "Silver Cutter Olfa" (спец. для PPF и Vinyl), 10шт. | C83: США | D83: 529 | E83: 557.2 | F83: 646.4 | G83: + | I83: =IF(G83="+",IF(SUMPRODUCT(H$5:H$99,D$5:D$99)>90000,D83,IF(SUMPRODUCT(H$5:H$99,E$5:E$99)>25000,E83,F83)),0) -> 646.4 | J83: =H83*I83 -> 0
A84: GT 2002 | B84: Выгонка с магнитными вставками MAGNET, 10см | C84: США | D84: 1350.4 | E84: 1421.1 | F84: 1592.3 | G84: + | I84: =IF(G84="+",IF(SUMPRODUCT(H$5:H$99,D$5:D$99)>90000,D84,IF(SUMPRODUCT(H$5:H$99,E$5:E$99)>25000,E84,F84)),0) -> 1592.3 | J84: =H84*I84 -> 0
A85: GT 2007 | B85: Выгонка угловая с фетровой вставкой Mango, 15см | C85: США | D85: 291.5 | E85: 306.9 | F85: 356.5 | G85: + | I85: =IF(G85="+",IF(SUMPRODUCT(H$5:H$99,D$5:D$99)>90000,D85,IF(SUMPRODUCT(H$5:H$99,E$5:E$99)>25000,E85,F85)),0) -> 356.5 | J85: =H85*I85 -> 0
A86: GT 2104 | B86: Выгонка PPF BLACKOUT | C86: США | D86: 1515.6 | E86: 1594.8 | F86: 1787.2 | G86: + | I86: =IF(G86="+",IF(SUMPRODUCT(H$5:H$99,D$5:D$99)>90000,D86,IF(SUMPRODUCT(H$5:H$99,E$5:E$99)>25000,E86,F86)),0) -> 1787.2 | J86: =H86*I86 -> 0
A87: GT 2106 | B87: Выгонка для PPF, HYBRID 4" | C87: США | D87: 2162.6 | E87: 2275.8 | F87: 2458.9 | G87: + | I87: =IF(G87="+",IF(SUMPRODUCT(H$5:H$99,D$5:D$99)>90000,D87,IF(SUMPRODUCT(H$5:H$99,E$5:E$99)>25000,E87,F87)),0) -> 2458.9 | J87: =H87*I87 -> 0
A88: Различные инструменты и приспособления | B88: 0 | C88: 0 | D88: 0 | E88: 0 | F88: 0
A89: GT 068 | B89: Точило для GT 079, 080, 087 | C89: США | D89: 895.6 | E89: 942.3 | F89: 1056.2 | G89: + | I89: =IF(G89="+",IF(SUMPRODUCT(H$5:H$99,D$5:D$99)>90000,D89,IF(SUMPRODUCT(H$5:H$99,E$5:E$99)>25000,E89,F89)),0) -> 1056.2 | J89: =H89*I89 -> 0
A90: GT 076 | B90: Черный маскировочный маркер, тонкий | C90: США | D90: 926.4 | E90: 975.8 | F90: 1092.3 | G90: + | I90: =IF(G90="+",IF(SUMPRODUCT(H$5:H$99,D$5:D$99)>90000,D90,IF(SUMPRODUCT(H$5:H$99,E$5:E$99)>25000,E90,F90)),0) -> 1092.3 | J90: =H90*I90 -> 0
A91: GT 096 | B91: Распылитель автоматический, 1,25л Hozelock | C91: Англия | D91: цена по запросу | E91: 0 | F91: 0 | G91: - | I91: =IF(G91="+",IF(SUMPRODUCT(H$5:H$99,D$5:D$99)>90000,D91,IF(SUMPRODUCT(H$5:H$99,E$5:E$99)>25000,E91,F91)),0) -> 0 | J91: =H91*I91 -> 0
A92: GT 132 | B92: Крюк для извлечения дверного уплотнителя | C92: США | D92: цена по запросу | E92: 0 | F92: 0 | G92: - | I92: =IF(G92="+",IF(SUMPRODUCT(H$5:H$99,D$5:D$99)>90000,D92,IF(SUMPRODUCT(H$5:H$99,E$5:E$99)>25000,E92,F92)),0) -> 0 | J92: =H92*I92 -> 0
A93: GT 157 | B93: Маскировочная лента (черная), ширина 1,25 см, длина 45м | C93: США | D93: 467.1 | E93: 492.7 | F93: 571.5 | G93: + | I93: =IF(G93="+",IF(SUMPRODUCT(H$5:H$99,D$5:D$99)>90000,D93,IF(SUMPRODUCT(H$5:H$99,E$5:E$99)>25000,E93,F93)),0) -> 571.5 | J93: =H93*I93 -> 0
A94: GT 158 | B94: Маскировочная лента (черная), ширина 2,5 см, длина 45м | C94: США | D94: 1904.9 | E94: 2005.2 | F94: 2246.1 | G94: + | I94: =IF(G94="+",IF(SUMPRODUCT(H$5:H$99,D$5:D$99)>90000,D94,IF(SUMPRODUCT(H$5:H$99,E$5:E$99)>25000,E94,F94)),0) -> 2246.1 | J94: =H94*I94 -> 0
A95: GT 162P | B95: Концентрат для снятия клея со стекла, 3,8л | C95: США | D95: 1450.8 | E95: 1527.6 | F95: 1710.4 | G95: + | I95: =IF(G95="+",IF(SUMPRODUCT(H$5:H$99,D$5:D$99)>90000,D95,IF(SUMPRODUCT(H$5:H$99,E$5:E$99)>25000,E95,F95)),0) -> 1710.4 | J95: =H95*I95 -> 0
A96: GT 190 | B96: Лекало для точной нарезки углов | C96: США | D96: 464.6 | E96: 488.6 | F96: 566.3 | G96: + | I96: =IF(G96="+",IF(SUMPRODUCT(H$5:H$99,D$5:D$99)>90000,D96,IF(SUMPRODUCT(H$5:H$99,E$5:E$99)>25000,E96,F96)),0) -> 566.3 | J96: =H96*I96 -> 0
A97: GT 194 | B97: Нейлоновый уплотнитель для фиксации оконных уплотнителей | C97: США | D97: 201.3 | E97: 211.5 | F97: 245.1 | G97: + | I97: =IF(G97="+",IF(SUMPRODUCT(H$5:H$99,D$5:D$99)>90000,D97,IF(SUMPRODUCT(H$5:H$99,E$5:E$99)>25000,E97,F97)),0) -> 245.1 | J97: =H97*I97 -> 0
A98: GT 735 | B98: "Film On" - жидкость для установки пленок с PS-адгезией, 1л | C98: США | D98: 2106.3 | E98: 2208.2 | F98: 2315.1 | G98: + | I98: =IF(G98="+",IF(SUMPRODUCT(H$5:H$99,D$5:D$99)>90000,D98,IF(SUMPRODUCT(H$5:H$99,E$5:E$99)>25000,E98,F98)),0) -> 2315.1 | J98: =H98*I98 -> 0
B99: Дозатор для баллона 1л. GT 735 "Film On" | C99: США | D99: 248.4 | E99: 261 | F99: 302.9 | G99: + | I99: =IF(G99="+",IF(SUMPRODUCT(H$5:H$99,D$5:D$99)>90000,D99,IF(SUMPRODUCT(H$5:H$99,E$5:E$99)>25000,E99,F99)),0) -> 302.9 | J99: =H99*I99 -> 0
A100: Компания "Вимар" | J100: =SUM(J5:J99) -> 0
...
